Workbook

Sheet Summary
A1: Annual leave planner
A2: Year | B2: 2027 | C2: Enter the year, names and days entitled on this tab. On the month tabs mark H = holiday, S = sick leave, L = other leave: this summary updates on its own. The first row is an example: overwrite it.
A5: Employee | B5: Days entitled | C5: Holiday taken | D5: Holiday left | E5: Sick leave | F5: Other leave
A6: Jane Smith | B6: 26 | C6: =IF($A6="","",COUNTIF(January!$B5:$AF5,"H")+COUNTIF(February!$B5:$AF5,"H")+COUNTIF(March!$B5:$AF5,"H")+COUNTIF(April!$B5:$AF5,"H")+COUNTIF(May!$B5:$AF5,"H")+COUNTIF(June!$B5:$AF5,"H")+COUNTIF(July!$B5:$AF5,"H")+COUNTIF(August!$B5:$AF5,"H")+COUNTIF(September!$B5:$AF5,"H")+COUNTIF(October!$B5:$AF5,"H")+COUNTIF(November!$B5:$AF5,"H")+COUNTIF(December!$B5:$AF5,"H")) -> 5 | D6: =IF(OR($A6="",$B6=""),"",B6-C6) -> 21 | E6: =IF($A6="","",COUNTIF(January!$B5:$AF5,"S")+COUNTIF(February!$B5:$AF5,"S")+COUNTIF(March!$B5:$AF5,"S")+COUNTIF(April!$B5:$AF5,"S")+COUNTIF(May!$B5:$AF5,"S")+COUNTIF(June!$B5:$AF5,"S")+COUNTIF(July!$B5:$AF5,"S")+COUNTIF(August!$B5:$AF5,"S")+COUNTIF(September!$B5:$AF5,"S")+COUNTIF(October!$B5:$AF5,"S")+COUNTIF(November!$B5:$AF5,"S")+COUNTIF(December!$B5:$AF5,"S")) -> 0 | F6: =IF($A6="","",COUNTIF(January!$B5:$AF5,"L")+COUNTIF(February!$B5:$AF5,"L")+COUNTIF(March!$B5:$AF5,"L")+COUNTIF(April!$B5:$AF5,"L")+COUNTIF(May!$B5:$AF5,"L")+COUNTIF(June!$B5:$AF5,"L")+COUNTIF(July!$B5:$AF5,"L")+COUNTIF(August!$B5:$AF5,"L")+COUNTIF(September!$B5:$AF5,"L")+COUNTIF(October!$B5:$AF5,"L")+COUNTIF(November!$B5:$AF5,"L")+COUNTIF(December!$B5:$AF5,"L")) -> 0
C7: =IF($A7="","",COUNTIF(January!$B6:$AF6,"H")+COUNTIF(February!$B6:$AF6,"H")+COUNTIF(March!$B6:$AF6,"H")+COUNTIF(April!$B6:$AF6,"H")+COUNTIF(May!$B6:$AF6,"H")+COUNTIF(June!$B6:$AF6,"H")+COUNTIF(July!$B6:$AF6,"H")+COUNTIF(August!$B6:$AF6,"H")+COUNTIF(September!$B6:$AF6,"H")+COUNTIF(October!$B6:$AF6,"H")+COUNTIF(November!$B6:$AF6,"H")+COUNTIF(December!$B6:$AF6,"H")) | D7: =IF(OR($A7="",$B7=""),"",B7-C7) | E7: =IF($A7="","",COUNTIF(January!$B6:$AF6,"S")+COUNTIF(February!$B6:$AF6,"S")+COUNTIF(March!$B6:$AF6,"S")+COUNTIF(April!$B6:$AF6,"S")+COUNTIF(May!$B6:$AF6,"S")+COUNTIF(June!$B6:$AF6,"S")+COUNTIF(July!$B6:$AF6,"S")+COUNTIF(August!$B6:$AF6,"S")+COUNTIF(September!$B6:$AF6,"S")+COUNTIF(October!$B6:$AF6,"S")+COUNTIF(November!$B6:$AF6,"S")+COUNTIF(December!$B6:$AF6,"S")) | F7: =IF($A7="","",COUNTIF(January!$B6:$AF6,"L")+COUNTIF(February!$B6:$AF6,"L")+COUNTIF(March!$B6:$AF6,"L")+COUNTIF(April!$B6:$AF6,"L")+COUNTIF(May!$B6:$AF6,"L")+COUNTIF(June!$B6:$AF6,"L")+COUNTIF(July!$B6:$AF6,"L")+COUNTIF(August!$B6:$AF6,"L")+COUNTIF(September!$B6:$AF6,"L")+COUNTIF(October!$B6:$AF6,"L")+COUNTIF(November!$B6:$AF6,"L")+COUNTIF(December!$B6:$AF6,"L"))
C8: =IF($A8="","",COUNTIF(January!$B7:$AF7,"H")+COUNTIF(February!$B7:$AF7,"H")+COUNTIF(March!$B7:$AF7,"H")+COUNTIF(April!$B7:$AF7,"H")+COUNTIF(May!$B7:$AF7,"H")+COUNTIF(June!$B7:$AF7,"H")+COUNTIF(July!$B7:$AF7,"H")+COUNTIF(August!$B7:$AF7,"H")+COUNTIF(September!$B7:$AF7,"H")+COUNTIF(October!$B7:$AF7,"H")+COUNTIF(November!$B7:$AF7,"H")+COUNTIF(December!$B7:$AF7,"H")) | D8: =IF(OR($A8="",$B8=""),"",B8-C8) | E8: =IF($A8="","",COUNTIF(January!$B7:$AF7,"S")+COUNTIF(February!$B7:$AF7,"S")+COUNTIF(March!$B7:$AF7,"S")+COUNTIF(April!$B7:$AF7,"S")+COUNTIF(May!$B7:$AF7,"S")+COUNTIF(June!$B7:$AF7,"S")+COUNTIF(July!$B7:$AF7,"S")+COUNTIF(August!$B7:$AF7,"S")+COUNTIF(September!$B7:$AF7,"S")+COUNTIF(October!$B7:$AF7,"S")+COUNTIF(November!$B7:$AF7,"S")+COUNTIF(December!$B7:$AF7,"S")) | F8: =IF($A8="","",COUNTIF(January!$B7:$AF7,"L")+COUNTIF(February!$B7:$AF7,"L")+COUNTIF(March!$B7:$AF7,"L")+COUNTIF(April!$B7:$AF7,"L")+COUNTIF(May!$B7:$AF7,"L")+COUNTIF(June!$B7:$AF7,"L")+COUNTIF(July!$B7:$AF7,"L")+COUNTIF(August!$B7:$AF7,"L")+COUNTIF(September!$B7:$AF7,"L")+COUNTIF(October!$B7:$AF7,"L")+COUNTIF(November!$B7:$AF7,"L")+COUNTIF(December!$B7:$AF7,"L"))
C9: =IF($A9="","",COUNTIF(January!$B8:$AF8,"H")+COUNTIF(February!$B8:$AF8,"H")+COUNTIF(March!$B8:$AF8,"H")+COUNTIF(April!$B8:$AF8,"H")+COUNTIF(May!$B8:$AF8,"H")+COUNTIF(June!$B8:$AF8,"H")+COUNTIF(July!$B8:$AF8,"H")+COUNTIF(August!$B8:$AF8,"H")+COUNTIF(September!$B8:$AF8,"H")+COUNTIF(October!$B8:$AF8,"H")+COUNTIF(November!$B8:$AF8,"H")+COUNTIF(December!$B8:$AF8,"H")) | D9: =IF(OR($A9="",$B9=""),"",B9-C9) | E9: =IF($A9="","",COUNTIF(January!$B8:$AF8,"S")+COUNTIF(February!$B8:$AF8,"S")+COUNTIF(March!$B8:$AF8,"S")+COUNTIF(April!$B8:$AF8,"S")+COUNTIF(May!$B8:$AF8,"S")+COUNTIF(June!$B8:$AF8,"S")+COUNTIF(July!$B8:$AF8,"S")+COUNTIF(August!$B8:$AF8,"S")+COUNTIF(September!$B8:$AF8,"S")+COUNTIF(October!$B8:$AF8,"S")+COUNTIF(November!$B8:$AF8,"S")+COUNTIF(December!$B8:$AF8,"S")) | F9: =IF($A9="","",COUNTIF(January!$B8:$AF8,"L")+COUNTIF(February!$B8:$AF8,"L")+COUNTIF(March!$B8:$AF8,"L")+COUNTIF(April!$B8:$AF8,"L")+COUNTIF(May!$B8:$AF8,"L")+COUNTIF(June!$B8:$AF8,"L")+COUNTIF(July!$B8:$AF8,"L")+COUNTIF(August!$B8:$AF8,"L")+COUNTIF(September!$B8:$AF8,"L")+COUNTIF(October!$B8:$AF8,"L")+COUNTIF(November!$B8:$AF8,"L")+COUNTIF(December!$B8:$AF8,"L"))
C10: =IF($A10="","",COUNTIF(January!$B9:$AF9,"H")+COUNTIF(February!$B9:$AF9,"H")+COUNTIF(March!$B9:$AF9,"H")+COUNTIF(April!$B9:$AF9,"H")+COUNTIF(May!$B9:$AF9,"H")+COUNTIF(June!$B9:$AF9,"H")+COUNTIF(July!$B9:$AF9,"H")+COUNTIF(August!$B9:$AF9,"H")+COUNTIF(September!$B9:$AF9,"H")+COUNTIF(October!$B9:$AF9,"H")+COUNTIF(November!$B9:$AF9,"H")+COUNTIF(December!$B9:$AF9,"H")) | D10: =IF(OR($A10="",$B10=""),"",B10-C10) | E10: =IF($A10="","",COUNTIF(January!$B9:$AF9,"S")+COUNTIF(February!$B9:$AF9,"S")+COUNTIF(March!$B9:$AF9,"S")+COUNTIF(April!$B9:$AF9,"S")+COUNTIF(May!$B9:$AF9,"S")+COUNTIF(June!$B9:$AF9,"S")+COUNTIF(July!$B9:$AF9,"S")+COUNTIF(August!$B9:$AF9,"S")+COUNTIF(September!$B9:$AF9,"S")+COUNTIF(October!$B9:$AF9,"S")+COUNTIF(November!$B9:$AF9,"S")+COUNTIF(December!$B9:$AF9,"S")) | F10: =IF($A10="","",COUNTIF(January!$B9:$AF9,"L")+COUNTIF(February!$B9:$AF9,"L")+COUNTIF(March!$B9:$AF9,"L")+COUNTIF(April!$B9:$AF9,"L")+COUNTIF(May!$B9:$AF9,"L")+COUNTIF(June!$B9:$AF9,"L")+COUNTIF(July!$B9:$AF9,"L")+COUNTIF(August!$B9:$AF9,"L")+COUNTIF(September!$B9:$AF9,"L")+COUNTIF(October!$B9:$AF9,"L")+COUNTIF(November!$B9:$AF9,"L")+COUNTIF(December!$B9:$AF9,"L"))
C11: =IF($A11="","",COUNTIF(January!$B10:$AF10,"H")+COUNTIF(February!$B10:$AF10,"H")+COUNTIF(March!$B10:$AF10,"H")+COUNTIF(April!$B10:$AF10,"H")+COUNTIF(May!$B10:$AF10,"H")+COUNTIF(June!$B10:$AF10,"H")+COUNTIF(July!$B10:$AF10,"H")+COUNTIF(August!$B10:$AF10,"H")+COUNTIF(September!$B10:$AF10,"H")+COUNTIF(October!$B10:$AF10,"H")+COUNTIF(November!$B10:$AF10,"H")+COUNTIF(December!$B10:$AF10,"H")) | D11: =IF(OR($A11="",$B11=""),"",B11-C11) | E11: =IF($A11="","",COUNTIF(January!$B10:$AF10,"S")+COUNTIF(February!$B10:$AF10,"S")+COUNTIF(March!$B10:$AF10,"S")+COUNTIF(April!$B10:$AF10,"S")+COUNTIF(May!$B10:$AF10,"S")+COUNTIF(June!$B10:$AF10,"S")+COUNTIF(July!$B10:$AF10,"S")+COUNTIF(August!$B10:$AF10,"S")+COUNTIF(September!$B10:$AF10,"S")+COUNTIF(October!$B10:$AF10,"S")+COUNTIF(November!$B10:$AF10,"S")+COUNTIF(December!$B10:$AF10,"S")) | F11: =IF($A11="","",COUNTIF(January!$B10:$AF10,"L")+COUNTIF(February!$B10:$AF10,"L")+COUNTIF(March!$B10:$AF10,"L")+COUNTIF(April!$B10:$AF10,"L")+COUNTIF(May!$B10:$AF10,"L")+COUNTIF(June!$B10:$AF10,"L")+COUNTIF(July!$B10:$AF10,"L")+COUNTIF(August!$B10:$AF10,"L")+COUNTIF(September!$B10:$AF10,"L")+COUNTIF(October!$B10:$AF10,"L")+COUNTIF(November!$B10:$AF10,"L")+COUNTIF(December!$B10:$AF10,"L"))
C12: =IF($A12="","",COUNTIF(January!$B11:$AF11,"H")+COUNTIF(February!$B11:$AF11,"H")+COUNTIF(March!$B11:$AF11,"H")+COUNTIF(April!$B11:$AF11,"H")+COUNTIF(May!$B11:$AF11,"H")+COUNTIF(June!$B11:$AF11,"H")+COUNTIF(July!$B11:$AF11,"H")+COUNTIF(August!$B11:$AF11,"H")+COUNTIF(September!$B11:$AF11,"H")+COUNTIF(October!$B11:$AF11,"H")+COUNTIF(November!$B11:$AF11,"H")+COUNTIF(December!$B11:$AF11,"H")) | D12: =IF(OR($A12="",$B12=""),"",B12-C12) | E12: =IF($A12="","",COUNTIF(January!$B11:$AF11,"S")+COUNTIF(February!$B11:$AF11,"S")+COUNTIF(March!$B11:$AF11,"S")+COUNTIF(April!$B11:$AF11,"S")+COUNTIF(May!$B11:$AF11,"S")+COUNTIF(June!$B11:$AF11,"S")+COUNTIF(July!$B11:$AF11,"S")+COUNTIF(August!$B11:$AF11,"S")+COUNTIF(September!$B11:$AF11,"S")+COUNTIF(October!$B11:$AF11,"S")+COUNTIF(November!$B11:$AF11,"S")+COUNTIF(December!$B11:$AF11,"S")) | F12: =IF($A12="","",COUNTIF(January!$B11:$AF11,"L")+COUNTIF(February!$B11:$AF11,"L")+COUNTIF(March!$B11:$AF11,"L")+COUNTIF(April!$B11:$AF11,"L")+COUNTIF(May!$B11:$AF11,"L")+COUNTIF(June!$B11:$AF11,"L")+COUNTIF(July!$B11:$AF11,"L")+COUNTIF(August!$B11:$AF11,"L")+COUNTIF(September!$B11:$AF11,"L")+COUNTIF(October!$B11:$AF11,"L")+COUNTIF(November!$B11:$AF11,"L")+COUNTIF(December!$B11:$AF11,"L"))
C13: =IF($A13="","",COUNTIF(January!$B12:$AF12,"H")+COUNTIF(February!$B12:$AF12,"H")+COUNTIF(March!$B12:$AF12,"H")+COUNTIF(April!$B12:$AF12,"H")+COUNTIF(May!$B12:$AF12,"H")+COUNTIF(June!$B12:$AF12,"H")+COUNTIF(July!$B12:$AF12,"H")+COUNTIF(August!$B12:$AF12,"H")+COUNTIF(September!$B12:$AF12,"H")+COUNTIF(October!$B12:$AF12,"H")+COUNTIF(November!$B12:$AF12,"H")+COUNTIF(December!$B12:$AF12,"H")) | D13: =IF(OR($A13="",$B13=""),"",B13-C13) | E13: =IF($A13="","",COUNTIF(January!$B12:$AF12,"S")+COUNTIF(February!$B12:$AF12,"S")+COUNTIF(March!$B12:$AF12,"S")+COUNTIF(April!$B12:$AF12,"S")+COUNTIF(May!$B12:$AF12,"S")+COUNTIF(June!$B12:$AF12,"S")+COUNTIF(July!$B12:$AF12,"S")+COUNTIF(August!$B12:$AF12,"S")+COUNTIF(September!$B12:$AF12,"S")+COUNTIF(October!$B12:$AF12,"S")+COUNTIF(November!$B12:$AF12,"S")+COUNTIF(December!$B12:$AF12,"S")) | F13: =IF($A13="","",COUNTIF(January!$B12:$AF12,"L")+COUNTIF(February!$B12:$AF12,"L")+COUNTIF(March!$B12:$AF12,"L")+COUNTIF(April!$B12:$AF12,"L")+COUNTIF(May!$B12:$AF12,"L")+COUNTIF(June!$B12:$AF12,"L")+COUNTIF(July!$B12:$AF12,"L")+COUNTIF(August!$B12:$AF12,"L")+COUNTIF(September!$B12:$AF12,"L")+COUNTIF(October!$B12:$AF12,"L")+COUNTIF(November!$B12:$AF12,"L")+COUNTIF(December!$B12:$AF12,"L"))
C14: =IF($A14="","",COUNTIF(January!$B13:$AF13,"H")+COUNTIF(February!$B13:$AF13,"H")+COUNTIF(March!$B13:$AF13,"H")+COUNTIF(April!$B13:$AF13,"H")+COUNTIF(May!$B13:$AF13,"H")+COUNTIF(June!$B13:$AF13,"H")+COUNTIF(July!$B13:$AF13,"H")+COUNTIF(August!$B13:$AF13,"H")+COUNTIF(September!$B13:$AF13,"H")+COUNTIF(October!$B13:$AF13,"H")+COUNTIF(November!$B13:$AF13,"H")+COUNTIF(December!$B13:$AF13,"H")) | D14: =IF(OR($A14="",$B14=""),"",B14-C14) | E14: =IF($A14="","",COUNTIF(January!$B13:$AF13,"S")+COUNTIF(February!$B13:$AF13,"S")+COUNTIF(March!$B13:$AF13,"S")+COUNTIF(April!$B13:$AF13,"S")+COUNTIF(May!$B13:$AF13,"S")+COUNTIF(June!$B13:$AF13,"S")+COUNTIF(July!$B13:$AF13,"S")+COUNTIF(August!$B13:$AF13,"S")+COUNTIF(September!$B13:$AF13,"S")+COUNTIF(October!$B13:$AF13,"S")+COUNTIF(November!$B13:$AF13,"S")+COUNTIF(December!$B13:$AF13,"S")) | F14: =IF($A14="","",COUNTIF(January!$B13:$AF13,"L")+COUNTIF(February!$B13:$AF13,"L")+COUNTIF(March!$B13:$AF13,"L")+COUNTIF(April!$B13:$AF13,"L")+COUNTIF(May!$B13:$AF13,"L")+COUNTIF(June!$B13:$AF13,"L")+COUNTIF(July!$B13:$AF13,"L")+COUNTIF(August!$B13:$AF13,"L")+COUNTIF(September!$B13:$AF13,"L")+COUNTIF(October!$B13:$AF13,"L")+COUNTIF(November!$B13:$AF13,"L")+COUNTIF(December!$B13:$AF13,"L"))
C15: =IF($A15="","",COUNTIF(January!$B14:$AF14,"H")+COUNTIF(February!$B14:$AF14,"H")+COUNTIF(March!$B14:$AF14,"H")+COUNTIF(April!$B14:$AF14,"H")+COUNTIF(May!$B14:$AF14,"H")+COUNTIF(June!$B14:$AF14,"H")+COUNTIF(July!$B14:$AF14,"H")+COUNTIF(August!$B14:$AF14,"H")+COUNTIF(September!$B14:$AF14,"H")+COUNTIF(October!$B14:$AF14,"H")+COUNTIF(November!$B14:$AF14,"H")+COUNTIF(December!$B14:$AF14,"H")) | D15: =IF(OR($A15="",$B15=""),"",B15-C15) | E15: =IF($A15="","",COUNTIF(January!$B14:$AF14,"S")+COUNTIF(February!$B14:$AF14,"S")+COUNTIF(March!$B14:$AF14,"S")+COUNTIF(April!$B14:$AF14,"S")+COUNTIF(May!$B14:$AF14,"S")+COUNTIF(June!$B14:$AF14,"S")+COUNTIF(July!$B14:$AF14,"S")+COUNTIF(August!$B14:$AF14,"S")+COUNTIF(September!$B14:$AF14,"S")+COUNTIF(October!$B14:$AF14,"S")+COUNTIF(November!$B14:$AF14,"S")+COUNTIF(December!$B14:$AF14,"S")) | F15: =IF($A15="","",COUNTIF(January!$B14:$AF14,"L")+COUNTIF(February!$B14:$AF14,"L")+COUNTIF(March!$B14:$AF14,"L")+COUNTIF(April!$B14:$AF14,"L")+COUNTIF(May!$B14:$AF14,"L")+COUNTIF(June!$B14:$AF14,"L")+COUNTIF(July!$B14:$AF14,"L")+COUNTIF(August!$B14:$AF14,"L")+COUNTIF(September!$B14:$AF14,"L")+COUNTIF(October!$B14:$AF14,"L")+COUNTIF(November!$B14:$AF14,"L")+COUNTIF(December!$B14:$AF14,"L"))
C16: =IF($A16="","",COUNTIF(January!$B15:$AF15,"H")+COUNTIF(February!$B15:$AF15,"H")+COUNTIF(March!$B15:$AF15,"H")+COUNTIF(April!$B15:$AF15,"H")+COUNTIF(May!$B15:$AF15,"H")+COUNTIF(June!$B15:$AF15,"H")+COUNTIF(July!$B15:$AF15,"H")+COUNTIF(August!$B15:$AF15,"H")+COUNTIF(September!$B15:$AF15,"H")+COUNTIF(October!$B15:$AF15,"H")+COUNTIF(November!$B15:$AF15,"H")+COUNTIF(December!$B15:$AF15,"H")) | D16: =IF(OR($A16="",$B16=""),"",B16-C16) | E16: =IF($A16="","",COUNTIF(January!$B15:$AF15,"S")+COUNTIF(February!$B15:$AF15,"S")+COUNTIF(March!$B15:$AF15,"S")+COUNTIF(April!$B15:$AF15,"S")+COUNTIF(May!$B15:$AF15,"S")+COUNTIF(June!$B15:$AF15,"S")+COUNTIF(July!$B15:$AF15,"S")+COUNTIF(August!$B15:$AF15,"S")+COUNTIF(September!$B15:$AF15,"S")+COUNTIF(October!$B15:$AF15,"S")+COUNTIF(November!$B15:$AF15,"S")+COUNTIF(December!$B15:$AF15,"S")) | F16: =IF($A16="","",COUNTIF(January!$B15:$AF15,"L")+COUNTIF(February!$B15:$AF15,"L")+COUNTIF(March!$B15:$AF15,"L")+COUNTIF(April!$B15:$AF15,"L")+COUNTIF(May!$B15:$AF15,"L")+COUNTIF(June!$B15:$AF15,"L")+COUNTIF(July!$B15:$AF15,"L")+COUNTIF(August!$B15:$AF15,"L")+COUNTIF(September!$B15:$AF15,"L")+COUNTIF(October!$B15:$AF15,"L")+COUNTIF(November!$B15:$AF15,"L")+COUNTIF(December!$B15:$AF15,"L"))
C17: =IF($A17="","",COUNTIF(January!$B16:$AF16,"H")+COUNTIF(February!$B16:$AF16,"H")+COUNTIF(March!$B16:$AF16,"H")+COUNTIF(April!$B16:$AF16,"H")+COUNTIF(May!$B16:$AF16,"H")+COUNTIF(June!$B16:$AF16,"H")+COUNTIF(July!$B16:$AF16,"H")+COUNTIF(August!$B16:$AF16,"H")+COUNTIF(September!$B16:$AF16,"H")+COUNTIF(October!$B16:$AF16,"H")+COUNTIF(November!$B16:$AF16,"H")+COUNTIF(December!$B16:$AF16,"H")) | D17: =IF(OR($A17="",$B17=""),"",B17-C17) | E17: =IF($A17="","",COUNTIF(January!$B16:$AF16,"S")+COUNTIF(February!$B16:$AF16,"S")+COUNTIF(March!$B16:$AF16,"S")+COUNTIF(April!$B16:$AF16,"S")+COUNTIF(May!$B16:$AF16,"S")+COUNTIF(June!$B16:$AF16,"S")+COUNTIF(July!$B16:$AF16,"S")+COUNTIF(August!$B16:$AF16,"S")+COUNTIF(September!$B16:$AF16,"S")+COUNTIF(October!$B16:$AF16,"S")+COUNTIF(November!$B16:$AF16,"S")+COUNTIF(December!$B16:$AF16,"S")) | F17: =IF($A17="","",COUNTIF(January!$B16:$AF16,"L")+COUNTIF(February!$B16:$AF16,"L")+COUNTIF(March!$B16:$AF16,"L")+COUNTIF(April!$B16:$AF16,"L")+COUNTIF(May!$B16:$AF16,"L")+COUNTIF(June!$B16:$AF16,"L")+COUNTIF(July!$B16:$AF16,"L")+COUNTIF(August!$B16:$AF16,"L")+COUNTIF(September!$B16:$AF16,"L")+COUNTIF(October!$B16:$AF16,"L")+COUNTIF(November!$B16:$AF16,"L")+COUNTIF(December!$B16:$AF16,"L"))
C18: =IF($A18="","",COUNTIF(January!$B17:$AF17,"H")+COUNTIF(February!$B17:$AF17,"H")+COUNTIF(March!$B17:$AF17,"H")+COUNTIF(April!$B17:$AF17,"H")+COUNTIF(May!$B17:$AF17,"H")+COUNTIF(June!$B17:$AF17,"H")+COUNTIF(July!$B17:$AF17,"H")+COUNTIF(August!$B17:$AF17,"H")+COUNTIF(September!$B17:$AF17,"H")+COUNTIF(October!$B17:$AF17,"H")+COUNTIF(November!$B17:$AF17,"H")+COUNTIF(December!$B17:$AF17,"H")) | D18: =IF(OR($A18="",$B18=""),"",B18-C18) | E18: =IF($A18="","",COUNTIF(January!$B17:$AF17,"S")+COUNTIF(February!$B17:$AF17,"S")+COUNTIF(March!$B17:$AF17,"S")+COUNTIF(April!$B17:$AF17,"S")+COUNTIF(May!$B17:$AF17,"S")+COUNTIF(June!$B17:$AF17,"S")+COUNTIF(July!$B17:$AF17,"S")+COUNTIF(August!$B17:$AF17,"S")+COUNTIF(September!$B17:$AF17,"S")+COUNTIF(October!$B17:$AF17,"S")+COUNTIF(November!$B17:$AF17,"S")+COUNTIF(December!$B17:$AF17,"S")) | F18: =IF($A18="","",COUNTIF(January!$B17:$AF17,"L")+COUNTIF(February!$B17:$AF17,"L")+COUNTIF(March!$B17:$AF17,"L")+COUNTIF(April!$B17:$AF17,"L")+COUNTIF(May!$B17:$AF17,"L")+COUNTIF(June!$B17:$AF17,"L")+COUNTIF(July!$B17:$AF17,"L")+COUNTIF(August!$B17:$AF17,"L")+COUNTIF(September!$B17:$AF17,"L")+COUNTIF(October!$B17:$AF17,"L")+COUNTIF(November!$B17:$AF17,"L")+COUNTIF(December!$B17:$AF17,"L"))
... C20: =IF($A20="","",COUNTIF(January!$B19:$AF19,"H")+COUNTIF(February!$B19:$AF19,"H")+COUNTIF(March!$B19:$AF19,"H")+COUNTIF(April!$B19:$AF19,"H")+COUNTIF(May!$B19:$AF19,"H")+COUNTIF(June!$B19:$AF19,"H")+COUNTIF(July!$B19:$AF19,"H")+COUNTIF(August!$B19:$AF19,"H")+COUNTIF(September!$B19:$AF19,"H")+COUNTIF(October!$B19:$AF19,"H")+COUNTIF(November!$B19:$AF19,"H")+COUNTIF(December!$B19:$AF19,"H")) | D20: =IF(OR($A20="",$B20=""),"",B20-C20) | E20: =IF($A20="","",COUNTIF(January!$B19:$AF19,"S")+COUNTIF(February!$B19:$AF19,"S")+COUNTIF(March!$B19:$AF19,"S")+COUNTIF(April!$B19:$AF19,"S")+COUNTIF(May!$B19:$AF19,"S")+COUNTIF(June!$B19:$AF19,"S")+COUNTIF(July!$B19:$AF19,"S")+COUNTIF(August!$B19:$AF19,"S")+COUNTIF(September!$B19:$AF19,"S")+COUNTIF(October!$B19:$AF19,"S")+COUNTIF(November!$B19:$AF19,"S")+COUNTIF(December!$B19:$AF19,"S")) | F20: =IF($A20="","",COUNTIF(January!$B19:$AF19,"L")+COUNTIF(February!$B19:$AF19,"L")+COUNTIF(March!$B19:$AF19,"L")+COUNTIF(April!$B19:$AF19,"L")+COUNTIF(May!$B19:$AF19,"L")+COUNTIF(June!$B19:$AF19,"L")+COUNTIF(July!$B19:$AF19,"L")+COUNTIF(August!$B19:$AF19,"L")+COUNTIF(September!$B19:$AF19,"L")+COUNTIF(October!$B19:$AF19,"L")+COUNTIF(November!$B19:$AF19,"L")+COUNTIF(December!$B19:$AF19,"L"))
A22: Free template from Klokka, the Kamzan software for managing employee hours: kamzan.com

Sheet January
A1: ="January "&Summary!$B$2 -> January 2027
A3: Employee | B3: =IF(B4="","",B4) -> 46388 | C3: =IF(C4="","",C4) -> 46389 | D3: =IF(D4="","",D4) -> 46390 | E3: =IF(E4="","",E4) -> 46391 | F3: =IF(F4="","",F4) -> 46392 | G3: =IF(G4="","",G4) -> 46393 | H3: =IF(H4="","",H4) -> 46394 | I3: =IF(I4="","",I4) -> 46395 | ... AF3: =IF(AF4="","",AF4) -> 46418
B4: =IF(MONTH(DATE(Summary!$B$2,1,1)+0)=1,DATE(Summary!$B$2,1,1)+0,"") -> 46388 | C4: =IF(MONTH(DATE(Summary!$B$2,1,1)+1)=1,DATE(Summary!$B$2,1,1)+1,"") -> 46389 | D4: =IF(MONTH(DATE(Summary!$B$2,1,1)+2)=1,DATE(Summary!$B$2,1,1)+2,"") -> 46390 | E4: =IF(MONTH(DATE(Summary!$B$2,1,1)+3)=1,DATE(Summary!$B$2,1,1)+3,"") -> 46391 | F4: =IF(MONTH(DATE(Summary!$B$2,1,1)+4)=1,DATE(Summary!$B$2,1,1)+4,"") -> 46392 | G4: =IF(MONTH(DATE(Summary!$B$2,1,1)+5)=1,DATE(Summary!$B$2,1,1)+5,"") -> 46393 | H4: =IF(MONTH(DATE(Summary!$B$2,1,1)+6)=1,DATE(Summary!$B$2,1,1)+6,"") -> 46394 | I4: =IF(MONTH(DATE(Summary!$B$2,1,1)+7)=1,DATE(Summary!$B$2,1,1)+7,"") -> 46395 | J4: =IF(MONTH(DATE(Summary!$B$2,1,1)+8)=1,DATE(Summary!$B$2,1,1)+8,"") -> 46396 | K4: =IF(MONTH(DATE(Summary!$B$2,1,1)+9)=1,DATE(Summary!$B$2,1,1)+9,"") -> 46397 | L4: =IF(MONTH(DATE(Summary!$B$2,1,1)+10)=1,DATE(Summary!$B$2,1,1)+10,"") -> 46398 | M4: =IF(MONTH(DATE(Summary!$B$2,1,1)+11)=1,DATE(Summary!$B$2,1,1)+11,"") -> 46399 | N4: =IF(MONTH(DATE(Summary!$B$2,1,1)+12)=1,DATE(Summary!$B$2,1,1)+12,"") -> 46400 | O4: =IF(MONTH(DATE(Summary!$B$2,1,1)+13)=1,DATE(Summary!$B$2,1,1)+13,"") -> 46401 | P4: =IF(MONTH(DATE(Summary!$B$2,1,1)+14)=1,DATE(Summary!$B$2,1,1)+14,"") -> 46402 | Q4: =IF(MONTH(DATE(Summary!$B$2,1,1)+15)=1,DATE(Summary!$B$2,1,1)+15,"") -> 46403 | R4: =IF(MONTH(DATE(Summary!$B$2,1,1)+16)=1,DATE(Summary!$B$2,1,1)+16,"") -> 46404 | S4: =IF(MONTH(DATE(Summary!$B$2,1,1)+17)=1,DATE(Summary!$B$2,1,1)+17,"") -> 46405 | T4: =IF(MONTH(DATE(Summary!$B$2,1,1)+18)=1,DATE(Summary!$B$2,1,1)+18,"") -> 46406 | U4: =IF(MONTH(DATE(Summary!$B$2,1,1)+19)=1,DATE(Summary!$B$2,1,1)+19,"") -> 46407 | V4: =IF(MONTH(DATE(Summary!$B$2,1,1)+20)=1,DATE(Summary!$B$2,1,1)+20,"") -> 46408 | W4: =IF(MONTH(DATE(Summary!$B$2,1,1)+21)=1,DATE(Summary!$B$2,1,1)+21,"") -> 46409 | X4: =IF(MONTH(DATE(Summary!$B$2,1,1)+22)=1,DATE(Summary!$B$2,1,1)+22,"") -> 46410 | Y4: =IF(MONTH(DATE(Summary!$B$2,1,1)+23)=1,DATE(Summary!$B$2,1,1)+23,"") -> 46411 | Z4: =IF(MONTH(DATE(Summary!$B$2,1,1)+24)=1,DATE(Summary!$B$2,1,1)+24,"") -> 46412 | AA4: =IF(MONTH(DATE(Summary!$B$2,1,1)+25)=1,DATE(Summary!$B$2,1,1)+25,"") -> 46413 | AB4: =IF(MONTH(DATE(Summary!$B$2,1,1)+26)=1,DATE(Summary!$B$2,1,1)+26,"") -> 46414 | AC4: =IF(MONTH(DATE(Summary!$B$2,1,1)+27)=1,DATE(Summary!$B$2,1,1)+27,"") -> 46415 | AD4: =IF(MONTH(DATE(Summary!$B$2,1,1)+28)=1,DATE(Summary!$B$2,1,1)+28,"") -> 46416 | AE4: =IF(MONTH(DATE(Summary!$B$2,1,1)+29)=1,DATE(Summary!$B$2,1,1)+29,"") -> 46417 | AF4: =IF(MONTH(DATE(Summary!$B$2,1,1)+30)=1,DATE(Summary!$B$2,1,1)+30,"") -> 46418
A5: =IF(Summary!$A6="","",Summary!$A6) -> Jane Smith | E5: H | F5: H | G5: H | H5: H | I5: H
A6: =IF(Summary!$A7="","",Summary!$A7)
A7: =IF(Summary!$A8="","",Summary!$A8)
A8: =IF(Summary!$A9="","",Summary!$A9)
A9: =IF(Summary!$A10="","",Summary!$A10)
A10: =IF(Summary!$A11="","",Summary!$A11)
A11: =IF(Summary!$A12="","",Summary!$A12)
A12: =IF(Summary!$A13="","",Summary!$A13)
A13: =IF(Summary!$A14="","",Summary!$A14)
A14: =IF(Summary!$A15="","",Summary!$A15)
A15: =IF(Summary!$A16="","",Summary!$A16)
A16: =IF(Summary!$A17="","",Summary!$A17)
A17: =IF(Summary!$A18="","",Summary!$A18)
... A19: =IF(Summary!$A20="","",Summary!$A20)

Sheet February
A1: ="February "&Summary!$B$2 -> February 2027
A3: Employee | B3: =IF(B4="","",B4) -> 46419 | C3: =IF(C4="","",C4) -> 46420 | D3: =IF(D4="","",D4) -> 46421 | E3: =IF(E4="","",E4) -> 46422 | F3: =IF(F4="","",F4) -> 46423 | G3: =IF(G4="","",G4) -> 46424 | H3: =IF(H4="","",H4) -> 46425 | I3: =IF(I4="","",I4) -> 46426 | ... AF3: =IF(AF4="","",AF4)
B4: =IF(MONTH(DATE(Summary!$B$2,2,1)+0)=2,DATE(Summary!$B$2,2,1)+0,"") -> 46419 | C4: =IF(MONTH(DATE(Summary!$B$2,2,1)+1)=2,DATE(Summary!$B$2,2,1)+1,"") -> 46420 | D4: =IF(MONTH(DATE(Summary!$B$2,2,1)+2)=2,DATE(Summary!$B$2,2,1)+2,"") -> 46421 | E4: =IF(MONTH(DATE(Summary!$B$2,2,1)+3)=2,DATE(Summary!$B$2,2,1)+3,"") -> 46422 | F4: =IF(MONTH(DATE(Summary!$B$2,2,1)+4)=2,DATE(Summary!$B$2,2,1)+4,"") -> 46423 | G4: =IF(MONTH(DATE(Summary!$B$2,2,1)+5)=2,DATE(Summary!$B$2,2,1)+5,"") -> 46424 | H4: =IF(MONTH(DATE(Summary!$B$2,2,1)+6)=2,DATE(Summary!$B$2,2,1)+6,"") -> 46425 | I4: =IF(MONTH(DATE(Summary!$B$2,2,1)+7)=2,DATE(Summary!$B$2,2,1)+7,"") -> 46426 | J4: =IF(MONTH(DATE(Summary!$B$2,2,1)+8)=2,DATE(Summary!$B$2,2,1)+8,"") -> 46427 | K4: =IF(MONTH(DATE(Summary!$B$2,2,1)+9)=2,DATE(Summary!$B$2,2,1)+9,"") -> 46428 | L4: =IF(MONTH(DATE(Summary!$B$2,2,1)+10)=2,DATE(Summary!$B$2,2,1)+10,"") -> 46429 | M4: =IF(MONTH(DATE(Summary!$B$2,2,1)+11)=2,DATE(Summary!$B$2,2,1)+11,"") -> 46430 | N4: =IF(MONTH(DATE(Summary!$B$2,2,1)+12)=2,DATE(Summary!$B$2,2,1)+12,"") -> 46431 | O4: =IF(MONTH(DATE(Summary!$B$2,2,1)+13)=2,DATE(Summary!$B$2,2,1)+13,"") -> 46432 | P4: =IF(MONTH(DATE(Summary!$B$2,2,1)+14)=2,DATE(Summary!$B$2,2,1)+14,"") -> 46433 | Q4: =IF(MONTH(DATE(Summary!$B$2,2,1)+15)=2,DATE(Summary!$B$2,2,1)+15,"") -> 46434 | R4: =IF(MONTH(DATE(Summary!$B$2,2,1)+16)=2,DATE(Summary!$B$2,2,1)+16,"") -> 46435 | S4: =IF(MONTH(DATE(Summary!$B$2,2,1)+17)=2,DATE(Summary!$B$2,2,1)+17,"") -> 46436 | T4: =IF(MONTH(DATE(Summary!$B$2,2,1)+18)=2,DATE(Summary!$B$2,2,1)+18,"") -> 46437 | U4: =IF(MONTH(DATE(Summary!$B$2,2,1)+19)=2,DATE(Summary!$B$2,2,1)+19,"") -> 46438 | V4: =IF(MONTH(DATE(Summary!$B$2,2,1)+20)=2,DATE(Summary!$B$2,2,1)+20,"") -> 46439 | W4: =IF(MONTH(DATE(Summary!$B$2,2,1)+21)=2,DATE(Summary!$B$2,2,1)+21,"") -> 46440 | X4: =IF(MONTH(DATE(Summary!$B$2,2,1)+22)=2,DATE(Summary!$B$2,2,1)+22,"") -> 46441 | Y4: =IF(MONTH(DATE(Summary!$B$2,2,1)+23)=2,DATE(Summary!$B$2,2,1)+23,"") -> 46442 | Z4: =IF(MONTH(DATE(Summary!$B$2,2,1)+24)=2,DATE(Summary!$B$2,2,1)+24,"") -> 46443 | AA4: =IF(MONTH(DATE(Summary!$B$2,2,1)+25)=2,DATE(Summary!$B$2,2,1)+25,"") -> 46444 | AB4: =IF(MONTH(DATE(Summary!$B$2,2,1)+26)=2,DATE(Summary!$B$2,2,1)+26,"") -> 46445 | AC4: =IF(MONTH(DATE(Summary!$B$2,2,1)+27)=2,DATE(Summary!$B$2,2,1)+27,"") -> 46446 | AD4: =IF(MONTH(DATE(Summary!$B$2,2,1)+28)=2,DATE(Summary!$B$2,2,1)+28,"") | AE4: =IF(MONTH(DATE(Summary!$B$2,2,1)+29)=2,DATE(Summary!$B$2,2,1)+29,"") | AF4: =IF(MONTH(DATE(Summary!$B$2,2,1)+30)=2,DATE(Summary!$B$2,2,1)+30,"")
A5: =IF(Summary!$A6="","",Summary!$A6) -> Jane Smith
A6: =IF(Summary!$A7="","",Summary!$A7)
A7: =IF(Summary!$A8="","",Summary!$A8)
A8: =IF(Summary!$A9="","",Summary!$A9)
A9: =IF(Summary!$A10="","",Summary!$A10)
A10: =IF(Summary!$A11="","",Summary!$A11)
A11: =IF(Summary!$A12="","",Summary!$A12)
A12: =IF(Summary!$A13="","",Summary!$A13)
A13: =IF(Summary!$A14="","",Summary!$A14)
A14: =IF(Summary!$A15="","",Summary!$A15)
A15: =IF(Summary!$A16="","",Summary!$A16)
A16: =IF(Summary!$A17="","",Summary!$A17)
... A19: =IF(Summary!$A20="","",Summary!$A20)

Sheet March
A1: ="March "&Summary!$B$2 -> March 2027
A3: Employee | B3: =IF(B4="","",B4) -> 46447 | C3: =IF(C4="","",C4) -> 46448 | D3: =IF(D4="","",D4) -> 46449 | E3: =IF(E4="","",E4) -> 46450 | F3: =IF(F4="","",F4) -> 46451 | G3: =IF(G4="","",G4) -> 46452 | H3: =IF(H4="","",H4) -> 46453 | I3: =IF(I4="","",I4) -> 46454 | ... AF3: =IF(AF4="","",AF4) -> 46477
B4: =IF(MONTH(DATE(Summary!$B$2,3,1)+0)=3,DATE(Summary!$B$2,3,1)+0,"") -> 46447 | C4: =IF(MONTH(DATE(Summary!$B$2,3,1)+1)=3,DATE(Summary!$B$2,3,1)+1,"") -> 46448 | D4: =IF(MONTH(DATE(Summary!$B$2,3,1)+2)=3,DATE(Summary!$B$2,3,1)+2,"") -> 46449 | E4: =IF(MONTH(DATE(Summary!$B$2,3,1)+3)=3,DATE(Summary!$B$2,3,1)+3,"") -> 46450 | F4: =IF(MONTH(DATE(Summary!$B$2,3,1)+4)=3,DATE(Summary!$B$2,3,1)+4,"") -> 46451 | G4: =IF(MONTH(DATE(Summary!$B$2,3,1)+5)=3,DATE(Summary!$B$2,3,1)+5,"") -> 46452 | H4: =IF(MONTH(DATE(Summary!$B$2,3,1)+6)=3,DATE(Summary!$B$2,3,1)+6,"") -> 46453 | I4: =IF(MONTH(DATE(Summary!$B$2,3,1)+7)=3,DATE(Summary!$B$2,3,1)+7,"") -> 46454 | J4: =IF(MONTH(DATE(Summary!$B$2,3,1)+8)=3,DATE(Summary!$B$2,3,1)+8,"") -> 46455 | K4: =IF(MONTH(DATE(Summary!$B$2,3,1)+9)=3,DATE(Summary!$B$2,3,1)+9,"") -> 46456 | L4: =IF(MONTH(DATE(Summary!$B$2,3,1)+10)=3,DATE(Summary!$B$2,3,1)+10,"") -> 46457 | M4: =IF(MONTH(DATE(Summary!$B$2,3,1)+11)=3,DATE(Summary!$B$2,3,1)+11,"") -> 46458 | N4: =IF(MONTH(DATE(Summary!$B$2,3,1)+12)=3,DATE(Summary!$B$2,3,1)+12,"") -> 46459 | O4: =IF(MONTH(DATE(Summary!$B$2,3,1)+13)=3,DATE(Summary!$B$2,3,1)+13,"") -> 46460 | P4: =IF(MONTH(DATE(Summary!$B$2,3,1)+14)=3,DATE(Summary!$B$2,3,1)+14,"") -> 46461 | Q4: =IF(MONTH(DATE(Summary!$B$2,3,1)+15)=3,DATE(Summary!$B$2,3,1)+15,"") -> 46462 | R4: =IF(MONTH(DATE(Summary!$B$2,3,1)+16)=3,DATE(Summary!$B$2,3,1)+16,"") -> 46463 | S4: =IF(MONTH(DATE(Summary!$B$2,3,1)+17)=3,DATE(Summary!$B$2,3,1)+17,"") -> 46464 | T4: =IF(MONTH(DATE(Summary!$B$2,3,1)+18)=3,DATE(Summary!$B$2,3,1)+18,"") -> 46465 | U4: =IF(MONTH(DATE(Summary!$B$2,3,1)+19)=3,DATE(Summary!$B$2,3,1)+19,"") -> 46466 | V4: =IF(MONTH(DATE(Summary!$B$2,3,1)+20)=3,DATE(Summary!$B$2,3,1)+20,"") -> 46467 | W4: =IF(MONTH(DATE(Summary!$B$2,3,1)+21)=3,DATE(Summary!$B$2,3,1)+21,"") -> 46468 | X4: =IF(MONTH(DATE(Summary!$B$2,3,1)+22)=3,DATE(Summary!$B$2,3,1)+22,"") -> 46469 | Y4: =IF(MONTH(DATE(Summary!$B$2,3,1)+23)=3,DATE(Summary!$B$2,3,1)+23,"") -> 46470 | Z4: =IF(MONTH(DATE(Summary!$B$2,3,1)+24)=3,DATE(Summary!$B$2,3,1)+24,"") -> 46471 | AA4: =IF(MONTH(DATE(Summary!$B$2,3,1)+25)=3,DATE(Summary!$B$2,3,1)+25,"") -> 46472 | AB4: =IF(MONTH(DATE(Summary!$B$2,3,1)+26)=3,DATE(Summary!$B$2,3,1)+26,"") -> 46473 | AC4: =IF(MONTH(DATE(Summary!$B$2,3,1)+27)=3,DATE(Summary!$B$2,3,1)+27,"") -> 46474 | AD4: =IF(MONTH(DATE(Summary!$B$2,3,1)+28)=3,DATE(Summary!$B$2,3,1)+28,"") -> 46475 | AE4: =IF(MONTH(DATE(Summary!$B$2,3,1)+29)=3,DATE(Summary!$B$2,3,1)+29,"") -> 46476 | AF4: =IF(MONTH(DATE(Summary!$B$2,3,1)+30)=3,DATE(Summary!$B$2,3,1)+30,"") -> 46477
A5: =IF(Summary!$A6="","",Summary!$A6) -> Jane Smith
A6: =IF(Summary!$A7="","",Summary!$A7)
A7: =IF(Summary!$A8="","",Summary!$A8)
A8: =IF(Summary!$A9="","",Summary!$A9)
A9: =IF(Summary!$A10="","",Summary!$A10)
A10: =IF(Summary!$A11="","",Summary!$A11)
A11: =IF(Summary!$A12="","",Summary!$A12)
A12: =IF(Summary!$A13="","",Summary!$A13)
A13: =IF(Summary!$A14="","",Summary!$A14)
A14: =IF(Summary!$A15="","",Summary!$A15)
A15: =IF(Summary!$A16="","",Summary!$A16)
A16: =IF(Summary!$A17="","",Summary!$A17)
... A19: =IF(Summary!$A20="","",Summary!$A20)

Sheet April
A1: ="April "&Summary!$B$2 -> April 2027
A3: Employee | B3: =IF(B4="","",B4) -> 46478 | C3: =IF(C4="","",C4) -> 46479 | D3: =IF(D4="","",D4) -> 46480 | E3: =IF(E4="","",E4) -> 46481 | F3: =IF(F4="","",F4) -> 46482 | G3: =IF(G4="","",G4) -> 46483 | H3: =IF(H4="","",H4) -> 46484 | I3: =IF(I4="","",I4) -> 46485 | ... AF3: =IF(AF4="","",AF4)
B4: =IF(MONTH(DATE(Summary!$B$2,4,1)+0)=4,DATE(Summary!$B$2,4,1)+0,"") -> 46478 | C4: =IF(MONTH(DATE(Summary!$B$2,4,1)+1)=4,DATE(Summary!$B$2,4,1)+1,"") -> 46479 | D4: =IF(MONTH(DATE(Summary!$B$2,4,1)+2)=4,DATE(Summary!$B$2,4,1)+2,"") -> 46480 | E4: =IF(MONTH(DATE(Summary!$B$2,4,1)+3)=4,DATE(Summary!$B$2,4,1)+3,"") -> 46481 | F4: =IF(MONTH(DATE(Summary!$B$2,4,1)+4)=4,DATE(Summary!$B$2,4,1)+4,"") -> 46482 | G4: =IF(MONTH(DATE(Summary!$B$2,4,1)+5)=4,DATE(Summary!$B$2,4,1)+5,"") -> 46483 | H4: =IF(MONTH(DATE(Summary!$B$2,4,1)+6)=4,DATE(Summary!$B$2,4,1)+6,"") -> 46484 | I4: =IF(MONTH(DATE(Summary!$B$2,4,1)+7)=4,DATE(Summary!$B$2,4,1)+7,"") -> 46485 | J4: =IF(MONTH(DATE(Summary!$B$2,4,1)+8)=4,DATE(Summary!$B$2,4,1)+8,"") -> 46486 | K4: =IF(MONTH(DATE(Summary!$B$2,4,1)+9)=4,DATE(Summary!$B$2,4,1)+9,"") -> 46487 | L4: =IF(MONTH(DATE(Summary!$B$2,4,1)+10)=4,DATE(Summary!$B$2,4,1)+10,"") -> 46488 | M4: =IF(MONTH(DATE(Summary!$B$2,4,1)+11)=4,DATE(Summary!$B$2,4,1)+11,"") -> 46489 | N4: =IF(MONTH(DATE(Summary!$B$2,4,1)+12)=4,DATE(Summary!$B$2,4,1)+12,"") -> 46490 | O4: =IF(MONTH(DATE(Summary!$B$2,4,1)+13)=4,DATE(Summary!$B$2,4,1)+13,"") -> 46491 | P4: =IF(MONTH(DATE(Summary!$B$2,4,1)+14)=4,DATE(Summary!$B$2,4,1)+14,"") -> 46492 | Q4: =IF(MONTH(DATE(Summary!$B$2,4,1)+15)=4,DATE(Summary!$B$2,4,1)+15,"") -> 46493 | R4: =IF(MONTH(DATE(Summary!$B$2,4,1)+16)=4,DATE(Summary!$B$2,4,1)+16,"") -> 46494 | S4: =IF(MONTH(DATE(Summary!$B$2,4,1)+17)=4,DATE(Summary!$B$2,4,1)+17,"") -> 46495 | T4: =IF(MONTH(DATE(Summary!$B$2,4,1)+18)=4,DATE(Summary!$B$2,4,1)+18,"") -> 46496 | U4: =IF(MONTH(DATE(Summary!$B$2,4,1)+19)=4,DATE(Summary!$B$2,4,1)+19,"") -> 46497 | V4: =IF(MONTH(DATE(Summary!$B$2,4,1)+20)=4,DATE(Summary!$B$2,4,1)+20,"") -> 46498 | W4: =IF(MONTH(DATE(Summary!$B$2,4,1)+21)=4,DATE(Summary!$B$2,4,1)+21,"") -> 46499 | X4: =IF(MONTH(DATE(Summary!$B$2,4,1)+22)=4,DATE(Summary!$B$2,4,1)+22,"") -> 46500 | Y4: =IF(MONTH(DATE(Summary!$B$2,4,1)+23)=4,DATE(Summary!$B$2,4,1)+23,"") -> 46501 | Z4: =IF(MONTH(DATE(Summary!$B$2,4,1)+24)=4,DATE(Summary!$B$2,4,1)+24,"") -> 46502 | AA4: =IF(MONTH(DATE(Summary!$B$2,4,1)+25)=4,DATE(Summary!$B$2,4,1)+25,"") -> 46503 | AB4: =IF(MONTH(DATE(Summary!$B$2,4,1)+26)=4,DATE(Summary!$B$2,4,1)+26,"") -> 46504 | AC4: =IF(MONTH(DATE(Summary!$B$2,4,1)+27)=4,DATE(Summary!$B$2,4,1)+27,"") -> 46505 | AD4: =IF(MONTH(DATE(Summary!$B$2,4,1)+28)=4,DATE(Summary!$B$2,4,1)+28,"") -> 46506 | AE4: =IF(MONTH(DATE(Summary!$B$2,4,1)+29)=4,DATE(Summary!$B$2,4,1)+29,"") -> 46507 | AF4: =IF(MONTH(DATE(Summary!$B$2,4,1)+30)=4,DATE(Summary!$B$2,4,1)+30,"")
A5: =IF(Summary!$A6="","",Summary!$A6) -> Jane Smith
A6: =IF(Summary!$A7="","",Summary!$A7)
A7: =IF(Summary!$A8="","",Summary!$A8)
A8: =IF(Summary!$A9="","",Summary!$A9)
A9: =IF(Summary!$A10="","",Summary!$A10)
A10: =IF(Summary!$A11="","",Summary!$A11)
A11: =IF(Summary!$A12="","",Summary!$A12)
A12: =IF(Summary!$A13="","",Summary!$A13)
A13: =IF(Summary!$A14="","",Summary!$A14)
A14: =IF(Summary!$A15="","",Summary!$A15)
A15: =IF(Summary!$A16="","",Summary!$A16)
A16: =IF(Summary!$A17="","",Summary!$A17)
... A19: =IF(Summary!$A20="","",Summary!$A20)

Sheet May
A1: ="May "&Summary!$B$2 -> May 2027
A3: Employee | B3: =IF(B4="","",B4) -> 46508 | C3: =IF(C4="","",C4) -> 46509 | D3: =IF(D4="","",D4) -> 46510 | E3: =IF(E4="","",E4) -> 46511 | F3: =IF(F4="","",F4) -> 46512 | G3: =IF(G4="","",G4) -> 46513 | H3: =IF(H4="","",H4) -> 46514 | I3: =IF(I4="","",I4) -> 46515 | ... AF3: =IF(AF4="","",AF4) -> 46538
B4: =IF(MONTH(DATE(Summary!$B$2,5,1)+0)=5,DATE(Summary!$B$2,5,1)+0,"") -> 46508 | C4: =IF(MONTH(DATE(Summary!$B$2,5,1)+1)=5,DATE(Summary!$B$2,5,1)+1,"") -> 46509 | D4: =IF(MONTH(DATE(Summary!$B$2,5,1)+2)=5,DATE(Summary!$B$2,5,1)+2,"") -> 46510 | E4: =IF(MONTH(DATE(Summary!$B$2,5,1)+3)=5,DATE(Summary!$B$2,5,1)+3,"") -> 46511 | F4: =IF(MONTH(DATE(Summary!$B$2,5,1)+4)=5,DATE(Summary!$B$2,5,1)+4,"") -> 46512 | G4: =IF(MONTH(DATE(Summary!$B$2,5,1)+5)=5,DATE(Summary!$B$2,5,1)+5,"") -> 46513 | H4: =IF(MONTH(DATE(Summary!$B$2,5,1)+6)=5,DATE(Summary!$B$2,5,1)+6,"") -> 46514 | I4: =IF(MONTH(DATE(Summary!$B$2,5,1)+7)=5,DATE(Summary!$B$2,5,1)+7,"") -> 46515 | J4: =IF(MONTH(DATE(Summary!$B$2,5,1)+8)=5,DATE(Summary!$B$2,5,1)+8,"") -> 46516 | K4: =IF(MONTH(DATE(Summary!$B$2,5,1)+9)=5,DATE(Summary!$B$2,5,1)+9,"") -> 46517 | L4: =IF(MONTH(DATE(Summary!$B$2,5,1)+10)=5,DATE(Summary!$B$2,5,1)+10,"") -> 46518 | M4: =IF(MONTH(DATE(Summary!$B$2,5,1)+11)=5,DATE(Summary!$B$2,5,1)+11,"") -> 46519 | N4: =IF(MONTH(DATE(Summary!$B$2,5,1)+12)=5,DATE(Summary!$B$2,5,1)+12,"") -> 46520 | O4: =IF(MONTH(DATE(Summary!$B$2,5,1)+13)=5,DATE(Summary!$B$2,5,1)+13,"") -> 46521 | P4: =IF(MONTH(DATE(Summary!$B$2,5,1)+14)=5,DATE(Summary!$B$2,5,1)+14,"") -> 46522 | Q4: =IF(MONTH(DATE(Summary!$B$2,5,1)+15)=5,DATE(Summary!$B$2,5,1)+15,"") -> 46523 | R4: =IF(MONTH(DATE(Summary!$B$2,5,1)+16)=5,DATE(Summary!$B$2,5,1)+16,"") -> 46524 | S4: =IF(MONTH(DATE(Summary!$B$2,5,1)+17)=5,DATE(Summary!$B$2,5,1)+17,"") -> 46525 | T4: =IF(MONTH(DATE(Summary!$B$2,5,1)+18)=5,DATE(Summary!$B$2,5,1)+18,"") -> 46526 | U4: =IF(MONTH(DATE(Summary!$B$2,5,1)+19)=5,DATE(Summary!$B$2,5,1)+19,"") -> 46527 | V4: =IF(MONTH(DATE(Summary!$B$2,5,1)+20)=5,DATE(Summary!$B$2,5,1)+20,"") -> 46528 | W4: =IF(MONTH(DATE(Summary!$B$2,5,1)+21)=5,DATE(Summary!$B$2,5,1)+21,"") -> 46529 | X4: =IF(MONTH(DATE(Summary!$B$2,5,1)+22)=5,DATE(Summary!$B$2,5,1)+22,"") -> 46530 | Y4: =IF(MONTH(DATE(Summary!$B$2,5,1)+23)=5,DATE(Summary!$B$2,5,1)+23,"") -> 46531 | Z4: =IF(MONTH(DATE(Summary!$B$2,5,1)+24)=5,DATE(Summary!$B$2,5,1)+24,"") -> 46532 | AA4: =IF(MONTH(DATE(Summary!$B$2,5,1)+25)=5,DATE(Summary!$B$2,5,1)+25,"") -> 46533 | AB4: =IF(MONTH(DATE(Summary!$B$2,5,1)+26)=5,DATE(Summary!$B$2,5,1)+26,"") -> 46534 | AC4: =IF(MONTH(DATE(Summary!$B$2,5,1)+27)=5,DATE(Summary!$B$2,5,1)+27,"") -> 46535 | AD4: =IF(MONTH(DATE(Summary!$B$2,5,1)+28)=5,DATE(Summary!$B$2,5,1)+28,"") -> 46536 | AE4: =IF(MONTH(DATE(Summary!$B$2,5,1)+29)=5,DATE(Summary!$B$2,5,1)+29,"") -> 46537 | AF4: =IF(MONTH(DATE(Summary!$B$2,5,1)+30)=5,DATE(Summary!$B$2,5,1)+30,"") -> 46538
A5: =IF(Summary!$A6="","",Summary!$A6) -> Jane Smith
A6: =IF(Summary!$A7="","",Summary!$A7)
A7: =IF(Summary!$A8="","",Summary!$A8)
A8: =IF(Summary!$A9="","",Summary!$A9)
A9: =IF(Summary!$A10="","",Summary!$A10)
A10: =IF(Summary!$A11="","",Summary!$A11)
A11: =IF(Summary!$A12="","",Summary!$A12)
A12: =IF(Summary!$A13="","",Summary!$A13)
A13: =IF(Summary!$A14="","",Summary!$A14)
A14: =IF(Summary!$A15="","",Summary!$A15)
A15: =IF(Summary!$A16="","",Summary!$A16)
A16: =IF(Summary!$A17="","",Summary!$A17)
... A19: =IF(Summary!$A20="","",Summary!$A20)

Sheet June
A1: ="June "&Summary!$B$2 -> June 2027
A3: Employee | B3: =IF(B4="","",B4) -> 46539 | C3: =IF(C4="","",C4) -> 46540 | D3: =IF(D4="","",D4) -> 46541 | E3: =IF(E4="","",E4) -> 46542 | F3: =IF(F4="","",F4) -> 46543 | G3: =IF(G4="","",G4) -> 46544 | H3: =IF(H4="","",H4) -> 46545 | I3: =IF(I4="","",I4) -> 46546 | ... AF3: =IF(AF4="","",AF4)
B4: =IF(MONTH(DATE(Summary!$B$2,6,1)+0)=6,DATE(Summary!$B$2,6,1)+0,"") -> 46539 | C4: =IF(MONTH(DATE(Summary!$B$2,6,1)+1)=6,DATE(Summary!$B$2,6,1)+1,"") -> 46540 | D4: =IF(MONTH(DATE(Summary!$B$2,6,1)+2)=6,DATE(Summary!$B$2,6,1)+2,"") -> 46541 | E4: =IF(MONTH(DATE(Summary!$B$2,6,1)+3)=6,DATE(Summary!$B$2,6,1)+3,"") -> 46542 | F4: =IF(MONTH(DATE(Summary!$B$2,6,1)+4)=6,DATE(Summary!$B$2,6,1)+4,"") -> 46543 | G4: =IF(MONTH(DATE(Summary!$B$2,6,1)+5)=6,DATE(Summary!$B$2,6,1)+5,"") -> 46544 | H4: =IF(MONTH(DATE(Summary!$B$2,6,1)+6)=6,DATE(Summary!$B$2,6,1)+6,"") -> 46545 | I4: =IF(MONTH(DATE(Summary!$B$2,6,1)+7)=6,DATE(Summary!$B$2,6,1)+7,"") -> 46546 | J4: =IF(MONTH(DATE(Summary!$B$2,6,1)+8)=6,DATE(Summary!$B$2,6,1)+8,"") -> 46547 | K4: =IF(MONTH(DATE(Summary!$B$2,6,1)+9)=6,DATE(Summary!$B$2,6,1)+9,"") -> 46548 | L4: =IF(MONTH(DATE(Summary!$B$2,6,1)+10)=6,DATE(Summary!$B$2,6,1)+10,"") -> 46549 | M4: =IF(MONTH(DATE(Summary!$B$2,6,1)+11)=6,DATE(Summary!$B$2,6,1)+11,"") -> 46550 | N4: =IF(MONTH(DATE(Summary!$B$2,6,1)+12)=6,DATE(Summary!$B$2,6,1)+12,"") -> 46551 | O4: =IF(MONTH(DATE(Summary!$B$2,6,1)+13)=6,DATE(Summary!$B$2,6,1)+13,"") -> 46552 | P4: =IF(MONTH(DATE(Summary!$B$2,6,1)+14)=6,DATE(Summary!$B$2,6,1)+14,"") -> 46553 | Q4: =IF(MONTH(DATE(Summary!$B$2,6,1)+15)=6,DATE(Summary!$B$2,6,1)+15,"") -> 46554 | R4: =IF(MONTH(DATE(Summary!$B$2,6,1)+16)=6,DATE(Summary!$B$2,6,1)+16,"") -> 46555 | S4: =IF(MONTH(DATE(Summary!$B$2,6,1)+17)=6,DATE(Summary!$B$2,6,1)+17,"") -> 46556 | T4: =IF(MONTH(DATE(Summary!$B$2,6,1)+18)=6,DATE(Summary!$B$2,6,1)+18,"") -> 46557 | U4: =IF(MONTH(DATE(Summary!$B$2,6,1)+19)=6,DATE(Summary!$B$2,6,1)+19,"") -> 46558 | V4: =IF(MONTH(DATE(Summary!$B$2,6,1)+20)=6,DATE(Summary!$B$2,6,1)+20,"") -> 46559 | W4: =IF(MONTH(DATE(Summary!$B$2,6,1)+21)=6,DATE(Summary!$B$2,6,1)+21,"") -> 46560 | X4: =IF(MONTH(DATE(Summary!$B$2,6,1)+22)=6,DATE(Summary!$B$2,6,1)+22,"") -> 46561 | Y4: =IF(MONTH(DATE(Summary!$B$2,6,1)+23)=6,DATE(Summary!$B$2,6,1)+23,"") -> 46562 | Z4: =IF(MONTH(DATE(Summary!$B$2,6,1)+24)=6,DATE(Summary!$B$2,6,1)+24,"") -> 46563 | AA4: =IF(MONTH(DATE(Summary!$B$2,6,1)+25)=6,DATE(Summary!$B$2,6,1)+25,"") -> 46564 | AB4: =IF(MONTH(DATE(Summary!$B$2,6,1)+26)=6,DATE(Summary!$B$2,6,1)+26,"") -> 46565 | AC4: =IF(MONTH(DATE(Summary!$B$2,6,1)+27)=6,DATE(Summary!$B$2,6,1)+27,"") -> 46566 | AD4: =IF(MONTH(DATE(Summary!$B$2,6,1)+28)=6,DATE(Summary!$B$2,6,1)+28,"") -> 46567 | AE4: =IF(MONTH(DATE(Summary!$B$2,6,1)+29)=6,DATE(Summary!$B$2,6,1)+29,"") -> 46568 | AF4: =IF(MONTH(DATE(Summary!$B$2,6,1)+30)=6,DATE(Summary!$B$2,6,1)+30,"")
A5: =IF(Summary!$A6="","",Summary!$A6) -> Jane Smith
A6: =IF(Summary!$A7="","",Summary!$A7)
A7: =IF(Summary!$A8="","",Summary!$A8)
A8: =IF(Summary!$A9="","",Summary!$A9)
A9: =IF(Summary!$A10="","",Summary!$A10)
A10: =IF(Summary!$A11="","",Summary!$A11)
A11: =IF(Summary!$A12="","",Summary!$A12)
A12: =IF(Summary!$A13="","",Summary!$A13)
A13: =IF(Summary!$A14="","",Summary!$A14)
A14: =IF(Summary!$A15="","",Summary!$A15)
A15: =IF(Summary!$A16="","",Summary!$A16)
A16: =IF(Summary!$A17="","",Summary!$A17)
... A19: =IF(Summary!$A20="","",Summary!$A20)

Sheet July
A1: ="July "&Summary!$B$2 -> July 2027
A3: Employee | B3: =IF(B4="","",B4) -> 46569 | C3: =IF(C4="","",C4) -> 46570 | D3: =IF(D4="","",D4) -> 46571 | E3: =IF(E4="","",E4) -> 46572 | F3: =IF(F4="","",F4) -> 46573 | G3: =IF(G4="","",G4) -> 46574 | H3: =IF(H4="","",H4) -> 46575 | I3: =IF(I4="","",I4) -> 46576 | ... AF3: =IF(AF4="","",AF4) -> 46599
B4: =IF(MONTH(DATE(Summary!$B$2,7,1)+0)=7,DATE(Summary!$B$2,7,1)+0,"") -> 46569 | C4: =IF(MONTH(DATE(Summary!$B$2,7,1)+1)=7,DATE(Summary!$B$2,7,1)+1,"") -> 46570 | D4: =IF(MONTH(DATE(Summary!$B$2,7,1)+2)=7,DATE(Summary!$B$2,7,1)+2,"") -> 46571 | E4: =IF(MONTH(DATE(Summary!$B$2,7,1)+3)=7,DATE(Summary!$B$2,7,1)+3,"") -> 46572 | F4: =IF(MONTH(DATE(Summary!$B$2,7,1)+4)=7,DATE(Summary!$B$2,7,1)+4,"") -> 46573 | G4: =IF(MONTH(DATE(Summary!$B$2,7,1)+5)=7,DATE(Summary!$B$2,7,1)+5,"") -> 46574 | H4: =IF(MONTH(DATE(Summary!$B$2,7,1)+6)=7,DATE(Summary!$B$2,7,1)+6,"") -> 46575 | I4: =IF(MONTH(DATE(Summary!$B$2,7,1)+7)=7,DATE(Summary!$B$2,7,1)+7,"") -> 46576 | J4: =IF(MONTH(DATE(Summary!$B$2,7,1)+8)=7,DATE(Summary!$B$2,7,1)+8,"") -> 46577 | K4: =IF(MONTH(DATE(Summary!$B$2,7,1)+9)=7,DATE(Summary!$B$2,7,1)+9,"") -> 46578 | L4: =IF(MONTH(DATE(Summary!$B$2,7,1)+10)=7,DATE(Summary!$B$2,7,1)+10,"") -> 46579 | M4: =IF(MONTH(DATE(Summary!$B$2,7,1)+11)=7,DATE(Summary!$B$2,7,1)+11,"") -> 46580 | N4: =IF(MONTH(DATE(Summary!$B$2,7,1)+12)=7,DATE(Summary!$B$2,7,1)+12,"") -> 46581 | O4: =IF(MONTH(DATE(Summary!$B$2,7,1)+13)=7,DATE(Summary!$B$2,7,1)+13,"") -> 46582 | P4: =IF(MONTH(DATE(Summary!$B$2,7,1)+14)=7,DATE(Summary!$B$2,7,1)+14,"") -> 46583 | Q4: =IF(MONTH(DATE(Summary!$B$2,7,1)+15)=7,DATE(Summary!$B$2,7,1)+15,"") -> 46584 | R4: =IF(MONTH(DATE(Summary!$B$2,7,1)+16)=7,DATE(Summary!$B$2,7,1)+16,"") -> 46585 | S4: =IF(MONTH(DATE(Summary!$B$2,7,1)+17)=7,DATE(Summary!$B$2,7,1)+17,"") -> 46586 | T4: =IF(MONTH(DATE(Summary!$B$2,7,1)+18)=7,DATE(Summary!$B$2,7,1)+18,"") -> 46587 | U4: =IF(MONTH(DATE(Summary!$B$2,7,1)+19)=7,DATE(Summary!$B$2,7,1)+19,"") -> 46588 | V4: =IF(MONTH(DATE(Summary!$B$2,7,1)+20)=7,DATE(Summary!$B$2,7,1)+20,"") -> 46589 | W4: =IF(MONTH(DATE(Summary!$B$2,7,1)+21)=7,DATE(Summary!$B$2,7,1)+21,"") -> 46590 | X4: =IF(MONTH(DATE(Summary!$B$2,7,1)+22)=7,DATE(Summary!$B$2,7,1)+22,"") -> 46591 | Y4: =IF(MONTH(DATE(Summary!$B$2,7,1)+23)=7,DATE(Summary!$B$2,7,1)+23,"") -> 46592 | Z4: =IF(MONTH(DATE(Summary!$B$2,7,1)+24)=7,DATE(Summary!$B$2,7,1)+24,"") -> 46593 | AA4: =IF(MONTH(DATE(Summary!$B$2,7,1)+25)=7,DATE(Summary!$B$2,7,1)+25,"") -> 46594 | AB4: =IF(MONTH(DATE(Summary!$B$2,7,1)+26)=7,DATE(Summary!$B$2,7,1)+26,"") -> 46595 | AC4: =IF(MONTH(DATE(Summary!$B$2,7,1)+27)=7,DATE(Summary!$B$2,7,1)+27,"") -> 46596 | AD4: =IF(MONTH(DATE(Summary!$B$2,7,1)+28)=7,DATE(Summary!$B$2,7,1)+28,"") -> 46597 | AE4: =IF(MONTH(DATE(Summary!$B$2,7,1)+29)=7,DATE(Summary!$B$2,7,1)+29,"") -> 46598 | AF4: =IF(MONTH(DATE(Summary!$B$2,7,1)+30)=7,DATE(Summary!$B$2,7,1)+30,"") -> 46599
A5: =IF(Summary!$A6="","",Summary!$A6) -> Jane Smith
A6: =IF(Summary!$A7="","",Summary!$A7)
A7: =IF(Summary!$A8="","",Summary!$A8)
A8: =IF(Summary!$A9="","",Summary!$A9)
A9: =IF(Summary!$A10="","",Summary!$A10)
A10: =IF(Summary!$A11="","",Summary!$A11)
A11: =IF(Summary!$A12="","",Summary!$A12)
A12: =IF(Summary!$A13="","",Summary!$A13)
A13: =IF(Summary!$A14="","",Summary!$A14)
A14: =IF(Summary!$A15="","",Summary!$A15)
A15: =IF(Summary!$A16="","",Summary!$A16)
A16: =IF(Summary!$A17="","",Summary!$A17)
... A19: =IF(Summary!$A20="","",Summary!$A20)

Sheet August
A1: ="August "&Summary!$B$2 -> August 2027
A3: Employee | B3: =IF(B4="","",B4) -> 46600 | C3: =IF(C4="","",C4) -> 46601 | D3: =IF(D4="","",D4) -> 46602 | E3: =IF(E4="","",E4) -> 46603 | F3: =IF(F4="","",F4) -> 46604 | G3: =IF(G4="","",G4) -> 46605 | H3: =IF(H4="","",H4) -> 46606 | I3: =IF(I4="","",I4) -> 46607 | ... AF3: =IF(AF4="","",AF4) -> 46630
B4: =IF(MONTH(DATE(Summary!$B$2,8,1)+0)=8,DATE(Summary!$B$2,8,1)+0,"") -> 46600 | C4: =IF(MONTH(DATE(Summary!$B$2,8,1)+1)=8,DATE(Summary!$B$2,8,1)+1,"") -> 46601 | D4: =IF(MONTH(DATE(Summary!$B$2,8,1)+2)=8,DATE(Summary!$B$2,8,1)+2,"") -> 46602 | E4: =IF(MONTH(DATE(Summary!$B$2,8,1)+3)=8,DATE(Summary!$B$2,8,1)+3,"") -> 46603 | F4: =IF(MONTH(DATE(Summary!$B$2,8,1)+4)=8,DATE(Summary!$B$2,8,1)+4,"") -> 46604 | G4: =IF(MONTH(DATE(Summary!$B$2,8,1)+5)=8,DATE(Summary!$B$2,8,1)+5,"") -> 46605 | H4: =IF(MONTH(DATE(Summary!$B$2,8,1)+6)=8,DATE(Summary!$B$2,8,1)+6,"") -> 46606 | I4: =IF(MONTH(DATE(Summary!$B$2,8,1)+7)=8,DATE(Summary!$B$2,8,1)+7,"") -> 46607 | J4: =IF(MONTH(DATE(Summary!$B$2,8,1)+8)=8,DATE(Summary!$B$2,8,1)+8,"") -> 46608 | K4: =IF(MONTH(DATE(Summary!$B$2,8,1)+9)=8,DATE(Summary!$B$2,8,1)+9,"") -> 46609 | L4: =IF(MONTH(DATE(Summary!$B$2,8,1)+10)=8,DATE(Summary!$B$2,8,1)+10,"") -> 46610 | M4: =IF(MONTH(DATE(Summary!$B$2,8,1)+11)=8,DATE(Summary!$B$2,8,1)+11,"") -> 46611 | N4: =IF(MONTH(DATE(Summary!$B$2,8,1)+12)=8,DATE(Summary!$B$2,8,1)+12,"") -> 46612 | O4: =IF(MONTH(DATE(Summary!$B$2,8,1)+13)=8,DATE(Summary!$B$2,8,1)+13,"") -> 46613 | P4: =IF(MONTH(DATE(Summary!$B$2,8,1)+14)=8,DATE(Summary!$B$2,8,1)+14,"") -> 46614 | Q4: =IF(MONTH(DATE(Summary!$B$2,8,1)+15)=8,DATE(Summary!$B$2,8,1)+15,"") -> 46615 | R4: =IF(MONTH(DATE(Summary!$B$2,8,1)+16)=8,DATE(Summary!$B$2,8,1)+16,"") -> 46616 | S4: =IF(MONTH(DATE(Summary!$B$2,8,1)+17)=8,DATE(Summary!$B$2,8,1)+17,"") -> 46617 | T4: =IF(MONTH(DATE(Summary!$B$2,8,1)+18)=8,DATE(Summary!$B$2,8,1)+18,"") -> 46618 | U4: =IF(MONTH(DATE(Summary!$B$2,8,1)+19)=8,DATE(Summary!$B$2,8,1)+19,"") -> 46619 | V4: =IF(MONTH(DATE(Summary!$B$2,8,1)+20)=8,DATE(Summary!$B$2,8,1)+20,"") -> 46620 | W4: =IF(MONTH(DATE(Summary!$B$2,8,1)+21)=8,DATE(Summary!$B$2,8,1)+21,"") -> 46621 | X4: =IF(MONTH(DATE(Summary!$B$2,8,1)+22)=8,DATE(Summary!$B$2,8,1)+22,"") -> 46622 | Y4: =IF(MONTH(DATE(Summary!$B$2,8,1)+23)=8,DATE(Summary!$B$2,8,1)+23,"") -> 46623 | Z4: =IF(MONTH(DATE(Summary!$B$2,8,1)+24)=8,DATE(Summary!$B$2,8,1)+24,"") -> 46624 | AA4: =IF(MONTH(DATE(Summary!$B$2,8,1)+25)=8,DATE(Summary!$B$2,8,1)+25,"") -> 46625 | AB4: =IF(MONTH(DATE(Summary!$B$2,8,1)+26)=8,DATE(Summary!$B$2,8,1)+26,"") -> 46626 | AC4: =IF(MONTH(DATE(Summary!$B$2,8,1)+27)=8,DATE(Summary!$B$2,8,1)+27,"") -> 46627 | AD4: =IF(MONTH(DATE(Summary!$B$2,8,1)+28)=8,DATE(Summary!$B$2,8,1)+28,"") -> 46628 | AE4: =IF(MONTH(DATE(Summary!$B$2,8,1)+29)=8,DATE(Summary!$B$2,8,1)+29,"") -> 46629 | AF4: =IF(MONTH(DATE(Summary!$B$2,8,1)+30)=8,DATE(Summary!$B$2,8,1)+30,"") -> 46630
A5: =IF(Summary!$A6="","",Summary!$A6) -> Jane Smith
A6: =IF(Summary!$A7="","",Summary!$A7)
A7: =IF(Summary!$A8="","",Summary!$A8)
A8: =IF(Summary!$A9="","",Summary!$A9)
A9: =IF(Summary!$A10="","",Summary!$A10)
A10: =IF(Summary!$A11="","",Summary!$A11)
A11: =IF(Summary!$A12="","",Summary!$A12)
A12: =IF(Summary!$A13="","",Summary!$A13)
A13: =IF(Summary!$A14="","",Summary!$A14)
A14: =IF(Summary!$A15="","",Summary!$A15)
A15: =IF(Summary!$A16="","",Summary!$A16)
A16: =IF(Summary!$A17="","",Summary!$A17)
... A19: =IF(Summary!$A20="","",Summary!$A20)

Sheet September
A1: ="September "&Summary!$B$2 -> September 2027
A3: Employee | B3: =IF(B4="","",B4) -> 46631 | C3: =IF(C4="","",C4) -> 46632 | D3: =IF(D4="","",D4) -> 46633 | E3: =IF(E4="","",E4) -> 46634 | F3: =IF(F4="","",F4) -> 46635 | G3: =IF(G4="","",G4) -> 46636 | H3: =IF(H4="","",H4) -> 46637 | I3: =IF(I4="","",I4) -> 46638 | ... AF3: =IF(AF4="","",AF4)
B4: =IF(MONTH(DATE(Summary!$B$2,9,1)+0)=9,DATE(Summary!$B$2,9,1)+0,"") -> 46631 | C4: =IF(MONTH(DATE(Summary!$B$2,9,1)+1)=9,DATE(Summary!$B$2,9,1)+1,"") -> 46632 | D4: =IF(MONTH(DATE(Summary!$B$2,9,1)+2)=9,DATE(Summary!$B$2,9,1)+2,"") -> 46633 | E4: =IF(MONTH(DATE(Summary!$B$2,9,1)+3)=9,DATE(Summary!$B$2,9,1)+3,"") -> 46634 | F4: =IF(MONTH(DATE(Summary!$B$2,9,1)+4)=9,DATE(Summary!$B$2,9,1)+4,"") -> 46635 | G4: =IF(MONTH(DATE(Summary!$B$2,9,1)+5)=9,DATE(Summary!$B$2,9,1)+5,"") -> 46636 | H4: =IF(MONTH(DATE(Summary!$B$2,9,1)+6)=9,DATE(Summary!$B$2,9,1)+6,"") -> 46637 | I4: =IF(MONTH(DATE(Summary!$B$2,9,1)+7)=9,DATE(Summary!$B$2,9,1)+7,"") -> 46638 | J4: =IF(MONTH(DATE(Summary!$B$2,9,1)+8)=9,DATE(Summary!$B$2,9,1)+8,"") -> 46639 | K4: =IF(MONTH(DATE(Summary!$B$2,9,1)+9)=9,DATE(Summary!$B$2,9,1)+9,"") -> 46640 | L4: =IF(MONTH(DATE(Summary!$B$2,9,1)+10)=9,DATE(Summary!$B$2,9,1)+10,"") -> 46641 | M4: =IF(MONTH(DATE(Summary!$B$2,9,1)+11)=9,DATE(Summary!$B$2,9,1)+11,"") -> 46642 | N4: =IF(MONTH(DATE(Summary!$B$2,9,1)+12)=9,DATE(Summary!$B$2,9,1)+12,"") -> 46643 | O4: =IF(MONTH(DATE(Summary!$B$2,9,1)+13)=9,DATE(Summary!$B$2,9,1)+13,"") -> 46644 | P4: =IF(MONTH(DATE(Summary!$B$2,9,1)+14)=9,DATE(Summary!$B$2,9,1)+14,"") -> 46645 | Q4: =IF(MONTH(DATE(Summary!$B$2,9,1)+15)=9,DATE(Summary!$B$2,9,1)+15,"") -> 46646 | R4: =IF(MONTH(DATE(Summary!$B$2,9,1)+16)=9,DATE(Summary!$B$2,9,1)+16,"") -> 46647 | S4: =IF(MONTH(DATE(Summary!$B$2,9,1)+17)=9,DATE(Summary!$B$2,9,1)+17,"") -> 46648 | T4: =IF(MONTH(DATE(Summary!$B$2,9,1)+18)=9,DATE(Summary!$B$2,9,1)+18,"") -> 46649 | U4: =IF(MONTH(DATE(Summary!$B$2,9,1)+19)=9,DATE(Summary!$B$2,9,1)+19,"") -> 46650 | V4: =IF(MONTH(DATE(Summary!$B$2,9,1)+20)=9,DATE(Summary!$B$2,9,1)+20,"") -> 46651 | W4: =IF(MONTH(DATE(Summary!$B$2,9,1)+21)=9,DATE(Summary!$B$2,9,1)+21,"") -> 46652 | X4: =IF(MONTH(DATE(Summary!$B$2,9,1)+22)=9,DATE(Summary!$B$2,9,1)+22,"") -> 46653 | Y4: =IF(MONTH(DATE(Summary!$B$2,9,1)+23)=9,DATE(Summary!$B$2,9,1)+23,"") -> 46654 | Z4: =IF(MONTH(DATE(Summary!$B$2,9,1)+24)=9,DATE(Summary!$B$2,9,1)+24,"") -> 46655 | AA4: =IF(MONTH(DATE(Summary!$B$2,9,1)+25)=9,DATE(Summary!$B$2,9,1)+25,"") -> 46656 | AB4: =IF(MONTH(DATE(Summary!$B$2,9,1)+26)=9,DATE(Summary!$B$2,9,1)+26,"") -> 46657 | AC4: =IF(MONTH(DATE(Summary!$B$2,9,1)+27)=9,DATE(Summary!$B$2,9,1)+27,"") -> 46658 | AD4: =IF(MONTH(DATE(Summary!$B$2,9,1)+28)=9,DATE(Summary!$B$2,9,1)+28,"") -> 46659 | AE4: =IF(MONTH(DATE(Summary!$B$2,9,1)+29)=9,DATE(Summary!$B$2,9,1)+29,"") -> 46660 | AF4: =IF(MONTH(DATE(Summary!$B$2,9,1)+30)=9,DATE(Summary!$B$2,9,1)+30,"")
A5: =IF(Summary!$A6="","",Summary!$A6) -> Jane Smith
A6: =IF(Summary!$A7="","",Summary!$A7)
A7: =IF(Summary!$A8="","",Summary!$A8)
A8: =IF(Summary!$A9="","",Summary!$A9)
A9: =IF(Summary!$A10="","",Summary!$A10)
A10: =IF(Summary!$A11="","",Summary!$A11)
A11: =IF(Summary!$A12="","",Summary!$A12)
A12: =IF(Summary!$A13="","",Summary!$A13)
A13: =IF(Summary!$A14="","",Summary!$A14)
A14: =IF(Summary!$A15="","",Summary!$A15)
A15: =IF(Summary!$A16="","",Summary!$A16)
A16: =IF(Summary!$A17="","",Summary!$A17)
... A19: =IF(Summary!$A20="","",Summary!$A20)

Sheet October
A1: ="October "&Summary!$B$2 -> October 2027
A3: Employee | B3: =IF(B4="","",B4) -> 46661 | C3: =IF(C4="","",C4) -> 46662 | D3: =IF(D4="","",D4) -> 46663 | E3: =IF(E4="","",E4) -> 46664 | F3: =IF(F4="","",F4) -> 46665 | G3: =IF(G4="","",G4) -> 46666 | H3: =IF(H4="","",H4) -> 46667 | I3: =IF(I4="","",I4) -> 46668 | ... AF3: =IF(AF4="","",AF4) -> 46691
B4: =IF(MONTH(DATE(Summary!$B$2,10,1)+0)=10,DATE(Summary!$B$2,10,1)+0,"") -> 46661 | C4: =IF(MONTH(DATE(Summary!$B$2,10,1)+1)=10,DATE(Summary!$B$2,10,1)+1,"") -> 46662 | D4: =IF(MONTH(DATE(Summary!$B$2,10,1)+2)=10,DATE(Summary!$B$2,10,1)+2,"") -> 46663 | E4: =IF(MONTH(DATE(Summary!$B$2,10,1)+3)=10,DATE(Summary!$B$2,10,1)+3,"") -> 46664 | F4: =IF(MONTH(DATE(Summary!$B$2,10,1)+4)=10,DATE(Summary!$B$2,10,1)+4,"") -> 46665 | G4: =IF(MONTH(DATE(Summary!$B$2,10,1)+5)=10,DATE(Summary!$B$2,10,1)+5,"") -> 46666 | H4: =IF(MONTH(DATE(Summary!$B$2,10,1)+6)=10,DATE(Summary!$B$2,10,1)+6,"") -> 46667 | I4: =IF(MONTH(DATE(Summary!$B$2,10,1)+7)=10,DATE(Summary!$B$2,10,1)+7,"") -> 46668 | J4: =IF(MONTH(DATE(Summary!$B$2,10,1)+8)=10,DATE(Summary!$B$2,10,1)+8,"") -> 46669 | K4: =IF(MONTH(DATE(Summary!$B$2,10,1)+9)=10,DATE(Summary!$B$2,10,1)+9,"") -> 46670 | L4: =IF(MONTH(DATE(Summary!$B$2,10,1)+10)=10,DATE(Summary!$B$2,10,1)+10,"") -> 46671 | M4: =IF(MONTH(DATE(Summary!$B$2,10,1)+11)=10,DATE(Summary!$B$2,10,1)+11,"") -> 46672 | N4: =IF(MONTH(DATE(Summary!$B$2,10,1)+12)=10,DATE(Summary!$B$2,10,1)+12,"") -> 46673 | O4: =IF(MONTH(DATE(Summary!$B$2,10,1)+13)=10,DATE(Summary!$B$2,10,1)+13,"") -> 46674 | P4: =IF(MONTH(DATE(Summary!$B$2,10,1)+14)=10,DATE(Summary!$B$2,10,1)+14,"") -> 46675 | Q4: =IF(MONTH(DATE(Summary!$B$2,10,1)+15)=10,DATE(Summary!$B$2,10,1)+15,"") -> 46676 | R4: =IF(MONTH(DATE(Summary!$B$2,10,1)+16)=10,DATE(Summary!$B$2,10,1)+16,"") -> 46677 | S4: =IF(MONTH(DATE(Summary!$B$2,10,1)+17)=10,DATE(Summary!$B$2,10,1)+17,"") -> 46678 | T4: =IF(MONTH(DATE(Summary!$B$2,10,1)+18)=10,DATE(Summary!$B$2,10,1)+18,"") -> 46679 | U4: =IF(MONTH(DATE(Summary!$B$2,10,1)+19)=10,DATE(Summary!$B$2,10,1)+19,"") -> 46680 | V4: =IF(MONTH(DATE(Summary!$B$2,10,1)+20)=10,DATE(Summary!$B$2,10,1)+20,"") -> 46681 | W4: =IF(MONTH(DATE(Summary!$B$2,10,1)+21)=10,DATE(Summary!$B$2,10,1)+21,"") -> 46682 | X4: =IF(MONTH(DATE(Summary!$B$2,10,1)+22)=10,DATE(Summary!$B$2,10,1)+22,"") -> 46683 | Y4: =IF(MONTH(DATE(Summary!$B$2,10,1)+23)=10,DATE(Summary!$B$2,10,1)+23,"") -> 46684 | Z4: =IF(MONTH(DATE(Summary!$B$2,10,1)+24)=10,DATE(Summary!$B$2,10,1)+24,"") -> 46685 | AA4: =IF(MONTH(DATE(Summary!$B$2,10,1)+25)=10,DATE(Summary!$B$2,10,1)+25,"") -> 46686 | AB4: =IF(MONTH(DATE(Summary!$B$2,10,1)+26)=10,DATE(Summary!$B$2,10,1)+26,"") -> 46687 | AC4: =IF(MONTH(DATE(Summary!$B$2,10,1)+27)=10,DATE(Summary!$B$2,10,1)+27,"") -> 46688 | AD4: =IF(MONTH(DATE(Summary!$B$2,10,1)+28)=10,DATE(Summary!$B$2,10,1)+28,"") -> 46689 | AE4: =IF(MONTH(DATE(Summary!$B$2,10,1)+29)=10,DATE(Summary!$B$2,10,1)+29,"") -> 46690 | AF4: =IF(MONTH(DATE(Summary!$B$2,10,1)+30)=10,DATE(Summary!$B$2,10,1)+30,"") -> 46691
A5: =IF(Summary!$A6="","",Summary!$A6) -> Jane Smith
A6: =IF(Summary!$A7="","",Summary!$A7)
A7: =IF(Summary!$A8="","",Summary!$A8)
A8: =IF(Summary!$A9="","",Summary!$A9)
A9: =IF(Summary!$A10="","",Summary!$A10)
A10: =IF(Summary!$A11="","",Summary!$A11)
A11: =IF(Summary!$A12="","",Summary!$A12)
A12: =IF(Summary!$A13="","",Summary!$A13)
A13: =IF(Summary!$A14="","",Summary!$A14)
A14: =IF(Summary!$A15="","",Summary!$A15)
A15: =IF(Summary!$A16="","",Summary!$A16)
A16: =IF(Summary!$A17="","",Summary!$A17)
... A19: =IF(Summary!$A20="","",Summary!$A20)

Sheet November
A1: ="November "&Summary!$B$2 -> November 2027
A3: Employee | B3: =IF(B4="","",B4) -> 46692 | C3: =IF(C4="","",C4) -> 46693 | D3: =IF(D4="","",D4) -> 46694 | E3: =IF(E4="","",E4) -> 46695 | F3: =IF(F4="","",F4) -> 46696 | G3: =IF(G4="","",G4) -> 46697 | H3: =IF(H4="","",H4) -> 46698 | I3: =IF(I4="","",I4) -> 46699 | ... AF3: =IF(AF4="","",AF4)
B4: =IF(MONTH(DATE(Summary!$B$2,11,1)+0)=11,DATE(Summary!$B$2,11,1)+0,"") -> 46692 | C4: =IF(MONTH(DATE(Summary!$B$2,11,1)+1)=11,DATE(Summary!$B$2,11,1)+1,"") -> 46693 | D4: =IF(MONTH(DATE(Summary!$B$2,11,1)+2)=11,DATE(Summary!$B$2,11,1)+2,"") -> 46694 | E4: =IF(MONTH(DATE(Summary!$B$2,11,1)+3)=11,DATE(Summary!$B$2,11,1)+3,"") -> 46695 | F4: =IF(MONTH(DATE(Summary!$B$2,11,1)+4)=11,DATE(Summary!$B$2,11,1)+4,"") -> 46696 | G4: =IF(MONTH(DATE(Summary!$B$2,11,1)+5)=11,DATE(Summary!$B$2,11,1)+5,"") -> 46697 | H4: =IF(MONTH(DATE(Summary!$B$2,11,1)+6)=11,DATE(Summary!$B$2,11,1)+6,"") -> 46698 | I4: =IF(MONTH(DATE(Summary!$B$2,11,1)+7)=11,DATE(Summary!$B$2,11,1)+7,"") -> 46699 | J4: =IF(MONTH(DATE(Summary!$B$2,11,1)+8)=11,DATE(Summary!$B$2,11,1)+8,"") -> 46700 | K4: =IF(MONTH(DATE(Summary!$B$2,11,1)+9)=11,DATE(Summary!$B$2,11,1)+9,"") -> 46701 | L4: =IF(MONTH(DATE(Summary!$B$2,11,1)+10)=11,DATE(Summary!$B$2,11,1)+10,"") -> 46702 | M4: =IF(MONTH(DATE(Summary!$B$2,11,1)+11)=11,DATE(Summary!$B$2,11,1)+11,"") -> 46703 | N4: =IF(MONTH(DATE(Summary!$B$2,11,1)+12)=11,DATE(Summary!$B$2,11,1)+12,"") -> 46704 | O4: =IF(MONTH(DATE(Summary!$B$2,11,1)+13)=11,DATE(Summary!$B$2,11,1)+13,"") -> 46705 | P4: =IF(MONTH(DATE(Summary!$B$2,11,1)+14)=11,DATE(Summary!$B$2,11,1)+14,"") -> 46706 | Q4: =IF(MONTH(DATE(Summary!$B$2,11,1)+15)=11,DATE(Summary!$B$2,11,1)+15,"") -> 46707 | R4: =IF(MONTH(DATE(Summary!$B$2,11,1)+16)=11,DATE(Summary!$B$2,11,1)+16,"") -> 46708 | S4: =IF(MONTH(DATE(Summary!$B$2,11,1)+17)=11,DATE(Summary!$B$2,11,1)+17,"") -> 46709 | T4: =IF(MONTH(DATE(Summary!$B$2,11,1)+18)=11,DATE(Summary!$B$2,11,1)+18,"") -> 46710 | U4: =IF(MONTH(DATE(Summary!$B$2,11,1)+19)=11,DATE(Summary!$B$2,11,1)+19,"") -> 46711 | V4: =IF(MONTH(DATE(Summary!$B$2,11,1)+20)=11,DATE(Summary!$B$2,11,1)+20,"") -> 46712 | W4: =IF(MONTH(DATE(Summary!$B$2,11,1)+21)=11,DATE(Summary!$B$2,11,1)+21,"") -> 46713 | X4: =IF(MONTH(DATE(Summary!$B$2,11,1)+22)=11,DATE(Summary!$B$2,11,1)+22,"") -> 46714 | Y4: =IF(MONTH(DATE(Summary!$B$2,11,1)+23)=11,DATE(Summary!$B$2,11,1)+23,"") -> 46715 | Z4: =IF(MONTH(DATE(Summary!$B$2,11,1)+24)=11,DATE(Summary!$B$2,11,1)+24,"") -> 46716 | AA4: =IF(MONTH(DATE(Summary!$B$2,11,1)+25)=11,DATE(Summary!$B$2,11,1)+25,"") -> 46717 | AB4: =IF(MONTH(DATE(Summary!$B$2,11,1)+26)=11,DATE(Summary!$B$2,11,1)+26,"") -> 46718 | AC4: =IF(MONTH(DATE(Summary!$B$2,11,1)+27)=11,DATE(Summary!$B$2,11,1)+27,"") -> 46719 | AD4: =IF(MONTH(DATE(Summary!$B$2,11,1)+28)=11,DATE(Summary!$B$2,11,1)+28,"") -> 46720 | AE4: =IF(MONTH(DATE(Summary!$B$2,11,1)+29)=11,DATE(Summary!$B$2,11,1)+29,"") -> 46721 | AF4: =IF(MONTH(DATE(Summary!$B$2,11,1)+30)=11,DATE(Summary!$B$2,11,1)+30,"")
A5: =IF(Summary!$A6="","",Summary!$A6) -> Jane Smith
A6: =IF(Summary!$A7="","",Summary!$A7)
A7: =IF(Summary!$A8="","",Summary!$A8)
A8: =IF(Summary!$A9="","",Summary!$A9)
A9: =IF(Summary!$A10="","",Summary!$A10)
A10: =IF(Summary!$A11="","",Summary!$A11)
A11: =IF(Summary!$A12="","",Summary!$A12)
A12: =IF(Summary!$A13="","",Summary!$A13)
A13: =IF(Summary!$A14="","",Summary!$A14)
A14: =IF(Summary!$A15="","",Summary!$A15)
A15: =IF(Summary!$A16="","",Summary!$A16)
A16: =IF(Summary!$A17="","",Summary!$A17)
... A19: =IF(Summary!$A20="","",Summary!$A20)

Sheet December
A1: ="December "&Summary!$B$2 -> December 2027
A3: Employee | B3: =IF(B4="","",B4) -> 46722 | C3: =IF(C4="","",C4) -> 46723 | D3: =IF(D4="","",D4) -> 46724 | E3: =IF(E4="","",E4) -> 46725 | F3: =IF(F4="","",F4) -> 46726 | G3: =IF(G4="","",G4) -> 46727 | H3: =IF(H4="","",H4) -> 46728 | I3: =IF(I4="","",I4) -> 46729 | ... AF3: =IF(AF4="","",AF4) -> 46752
B4: =IF(MONTH(DATE(Summary!$B$2,12,1)+0)=12,DATE(Summary!$B$2,12,1)+0,"") -> 46722 | C4: =IF(MONTH(DATE(Summary!$B$2,12,1)+1)=12,DATE(Summary!$B$2,12,1)+1,"") -> 46723 | D4: =IF(MONTH(DATE(Summary!$B$2,12,1)+2)=12,DATE(Summary!$B$2,12,1)+2,"") -> 46724 | E4: =IF(MONTH(DATE(Summary!$B$2,12,1)+3)=12,DATE(Summary!$B$2,12,1)+3,"") -> 46725 | F4: =IF(MONTH(DATE(Summary!$B$2,12,1)+4)=12,DATE(Summary!$B$2,12,1)+4,"") -> 46726 | G4: =IF(MONTH(DATE(Summary!$B$2,12,1)+5)=12,DATE(Summary!$B$2,12,1)+5,"") -> 46727 | H4: =IF(MONTH(DATE(Summary!$B$2,12,1)+6)=12,DATE(Summary!$B$2,12,1)+6,"") -> 46728 | I4: =IF(MONTH(DATE(Summary!$B$2,12,1)+7)=12,DATE(Summary!$B$2,12,1)+7,"") -> 46729 | J4: =IF(MONTH(DATE(Summary!$B$2,12,1)+8)=12,DATE(Summary!$B$2,12,1)+8,"") -> 46730 | K4: =IF(MONTH(DATE(Summary!$B$2,12,1)+9)=12,DATE(Summary!$B$2,12,1)+9,"") -> 46731 | L4: =IF(MONTH(DATE(Summary!$B$2,12,1)+10)=12,DATE(Summary!$B$2,12,1)+10,"") -> 46732 | M4: =IF(MONTH(DATE(Summary!$B$2,12,1)+11)=12,DATE(Summary!$B$2,12,1)+11,"") -> 46733 | N4: =IF(MONTH(DATE(Summary!$B$2,12,1)+12)=12,DATE(Summary!$B$2,12,1)+12,"") -> 46734 | O4: =IF(MONTH(DATE(Summary!$B$2,12,1)+13)=12,DATE(Summary!$B$2,12,1)+13,"") -> 46735 | P4: =IF(MONTH(DATE(Summary!$B$2,12,1)+14)=12,DATE(Summary!$B$2,12,1)+14,"") -> 46736 | Q4: =IF(MONTH(DATE(Summary!$B$2,12,1)+15)=12,DATE(Summary!$B$2,12,1)+15,"") -> 46737 | R4: =IF(MONTH(DATE(Summary!$B$2,12,1)+16)=12,DATE(Summary!$B$2,12,1)+16,"") -> 46738 | S4: =IF(MONTH(DATE(Summary!$B$2,12,1)+17)=12,DATE(Summary!$B$2,12,1)+17,"") -> 46739 | T4: =IF(MONTH(DATE(Summary!$B$2,12,1)+18)=12,DATE(Summary!$B$2,12,1)+18,"") -> 46740 | U4: =IF(MONTH(DATE(Summary!$B$2,12,1)+19)=12,DATE(Summary!$B$2,12,1)+19,"") -> 46741 | V4: =IF(MONTH(DATE(Summary!$B$2,12,1)+20)=12,DATE(Summary!$B$2,12,1)+20,"") -> 46742 | W4: =IF(MONTH(DATE(Summary!$B$2,12,1)+21)=12,DATE(Summary!$B$2,12,1)+21,"") -> 46743 | X4: =IF(MONTH(DATE(Summary!$B$2,12,1)+22)=12,DATE(Summary!$B$2,12,1)+22,"") -> 46744 | Y4: =IF(MONTH(DATE(Summary!$B$2,12,1)+23)=12,DATE(Summary!$B$2,12,1)+23,"") -> 46745 | Z4: =IF(MONTH(DATE(Summary!$B$2,12,1)+24)=12,DATE(Summary!$B$2,12,1)+24,"") -> 46746 | AA4: =IF(MONTH(DATE(Summary!$B$2,12,1)+25)=12,DATE(Summary!$B$2,12,1)+25,"") -> 46747 | AB4: =IF(MONTH(DATE(Summary!$B$2,12,1)+26)=12,DATE(Summary!$B$2,12,1)+26,"") -> 46748 | AC4: =IF(MONTH(DATE(Summary!$B$2,12,1)+27)=12,DATE(Summary!$B$2,12,1)+27,"") -> 46749 | AD4: =IF(MONTH(DATE(Summary!$B$2,12,1)+28)=12,DATE(Summary!$B$2,12,1)+28,"") -> 46750 | AE4: =IF(MONTH(DATE(Summary!$B$2,12,1)+29)=12,DATE(Summary!$B$2,12,1)+29,"") -> 46751 | AF4: =IF(MONTH(DATE(Summary!$B$2,12,1)+30)=12,DATE(Summary!$B$2,12,1)+30,"") -> 46752
A5: =IF(Summary!$A6="","",Summary!$A6) -> Jane Smith
A6: =IF(Summary!$A7="","",Summary!$A7)
A7: =IF(Summary!$A8="","",Summary!$A8)
A8: =IF(Summary!$A9="","",Summary!$A9)
A9: =IF(Summary!$A10="","",Summary!$A10)
A10: =IF(Summary!$A11="","",Summary!$A11)
A11: =IF(Summary!$A12="","",Summary!$A12)
A12: =IF(Summary!$A13="","",Summary!$A13)
A13: =IF(Summary!$A14="","",Summary!$A14)
A14: =IF(Summary!$A15="","",Summary!$A15)
A15: =IF(Summary!$A16="","",Summary!$A16)
A16: =IF(Summary!$A17="","",Summary!$A17)
... A19: =IF(Summary!$A20="","",Summary!$A20)
