Workbook

Sheet Folha de presenças
A1: Folha de presenças mensal
A2: Mês (1-12) | B2: 11 | C2: Preencha as células brancas e amarelas. Em cada dia escreva as horas trabalhadas ou F = férias, B = baixa médica, L = licença. As colunas da direita calculam-se sozinhas. A primeira linha é um exemplo: substitua-a.
A3: Ano | B3: 2026
A5: Colaborador | B5: Horas por dia | C5: =IF(C6="","",C6) -> 46327 | D5: =IF(D6="","",D6) -> 46328 | E5: =IF(E6="","",E6) -> 46329 | F5: =IF(F6="","",F6) -> 46330 | G5: =IF(G6="","",G6) -> 46331 | H5: =IF(H6="","",H6) -> 46332 | I5: =IF(I6="","",I6) -> 46333 | J5: =IF(J6="","",J6) -> 46334 | ... AG5: =IF(AG6="","",AG6) | AH5: Horas trabalhadas | AI5: Horas devidas | AJ5: Saldo | AK5: Férias | AL5: Baixa médica | AM5: Licenças
C6: =IF(MONTH(DATE($B$3,$B$2,1)+0)=$B$2,DATE($B$3,$B$2,1)+0,"") -> 46327 | D6: =IF(MONTH(DATE($B$3,$B$2,1)+1)=$B$2,DATE($B$3,$B$2,1)+1,"") -> 46328 | E6: =IF(MONTH(DATE($B$3,$B$2,1)+2)=$B$2,DATE($B$3,$B$2,1)+2,"") -> 46329 | F6: =IF(MONTH(DATE($B$3,$B$2,1)+3)=$B$2,DATE($B$3,$B$2,1)+3,"") -> 46330 | G6: =IF(MONTH(DATE($B$3,$B$2,1)+4)=$B$2,DATE($B$3,$B$2,1)+4,"") -> 46331 | H6: =IF(MONTH(DATE($B$3,$B$2,1)+5)=$B$2,DATE($B$3,$B$2,1)+5,"") -> 46332 | I6: =IF(MONTH(DATE($B$3,$B$2,1)+6)=$B$2,DATE($B$3,$B$2,1)+6,"") -> 46333 | J6: =IF(MONTH(DATE($B$3,$B$2,1)+7)=$B$2,DATE($B$3,$B$2,1)+7,"") -> 46334 | K6: =IF(MONTH(DATE($B$3,$B$2,1)+8)=$B$2,DATE($B$3,$B$2,1)+8,"") -> 46335 | L6: =IF(MONTH(DATE($B$3,$B$2,1)+9)=$B$2,DATE($B$3,$B$2,1)+9,"") -> 46336 | M6: =IF(MONTH(DATE($B$3,$B$2,1)+10)=$B$2,DATE($B$3,$B$2,1)+10,"") -> 46337 | N6: =IF(MONTH(DATE($B$3,$B$2,1)+11)=$B$2,DATE($B$3,$B$2,1)+11,"") -> 46338 | O6: =IF(MONTH(DATE($B$3,$B$2,1)+12)=$B$2,DATE($B$3,$B$2,1)+12,"") -> 46339 | P6: =IF(MONTH(DATE($B$3,$B$2,1)+13)=$B$2,DATE($B$3,$B$2,1)+13,"") -> 46340 | Q6: =IF(MONTH(DATE($B$3,$B$2,1)+14)=$B$2,DATE($B$3,$B$2,1)+14,"") -> 46341 | R6: =IF(MONTH(DATE($B$3,$B$2,1)+15)=$B$2,DATE($B$3,$B$2,1)+15,"") -> 46342 | S6: =IF(MONTH(DATE($B$3,$B$2,1)+16)=$B$2,DATE($B$3,$B$2,1)+16,"") -> 46343 | T6: =IF(MONTH(DATE($B$3,$B$2,1)+17)=$B$2,DATE($B$3,$B$2,1)+17,"") -> 46344 | U6: =IF(MONTH(DATE($B$3,$B$2,1)+18)=$B$2,DATE($B$3,$B$2,1)+18,"") -> 46345 | V6: =IF(MONTH(DATE($B$3,$B$2,1)+19)=$B$2,DATE($B$3,$B$2,1)+19,"") -> 46346 | W6: =IF(MONTH(DATE($B$3,$B$2,1)+20)=$B$2,DATE($B$3,$B$2,1)+20,"") -> 46347 | X6: =IF(MONTH(DATE($B$3,$B$2,1)+21)=$B$2,DATE($B$3,$B$2,1)+21,"") -> 46348 | Y6: =IF(MONTH(DATE($B$3,$B$2,1)+22)=$B$2,DATE($B$3,$B$2,1)+22,"") -> 46349 | Z6: =IF(MONTH(DATE($B$3,$B$2,1)+23)=$B$2,DATE($B$3,$B$2,1)+23,"") -> 46350 | AA6: =IF(MONTH(DATE($B$3,$B$2,1)+24)=$B$2,DATE($B$3,$B$2,1)+24,"") -> 46351 | AB6: =IF(MONTH(DATE($B$3,$B$2,1)+25)=$B$2,DATE($B$3,$B$2,1)+25,"") -> 46352 | AC6: =IF(MONTH(DATE($B$3,$B$2,1)+26)=$B$2,DATE($B$3,$B$2,1)+26,"") -> 46353 | AD6: =IF(MONTH(DATE($B$3,$B$2,1)+27)=$B$2,DATE($B$3,$B$2,1)+27,"") -> 46354 | AE6: =IF(MONTH(DATE($B$3,$B$2,1)+28)=$B$2,DATE($B$3,$B$2,1)+28,"") -> 46355 | AF6: =IF(MONTH(DATE($B$3,$B$2,1)+29)=$B$2,DATE($B$3,$B$2,1)+29,"") -> 46356 | AG6: =IF(MONTH(DATE($B$3,$B$2,1)+30)=$B$2,DATE($B$3,$B$2,1)+30,"")
A7: Ana Silva | B7: 8 | D7: 8 | E7: 8 | F7: 8 | G7: 8 | H7: 8 | K7: F | L7: F | M7: 8 | N7: 8 | O7: 8 | R7: 8 | S7: 8 | T7: B | U7: 8 | V7: 8 | Y7: 8 | Z7: 8 | AA7: 8 | AB7: 8 | AC7: 8 | AF7: 8 | AH7: =IF($A7="","",SUM(C7:AG7)) -> 144 | AI7: =IF($A7="","",$B7*(NETWORKDAYS(DATE($B$3,$B$2,1),EOMONTH(DATE($B$3,$B$2,1),0),Instruções!$B$12:$B$31)-AK7-AL7-AM7)) -> 144 | AJ7: =IF($A7="","",AH7-AI7) -> 0 | AK7: =IF($A7="","",COUNTIF(C7:AG7,"F")) -> 2 | AL7: =IF($A7="","",COUNTIF(C7:AG7,"B")) -> 1 | AM7: =IF($A7="","",COUNTIF(C7:AG7,"L")) -> 0
AH8: =IF($A8="","",SUM(C8:AG8)) | AI8: =IF($A8="","",$B8*(NETWORKDAYS(DATE($B$3,$B$2,1),EOMONTH(DATE($B$3,$B$2,1),0),Instruções!$B$12:$B$31)-AK8-AL8-AM8)) | AJ8: =IF($A8="","",AH8-AI8) | AK8: =IF($A8="","",COUNTIF(C8:AG8,"F")) | AL8: =IF($A8="","",COUNTIF(C8:AG8,"B")) | AM8: =IF($A8="","",COUNTIF(C8:AG8,"L"))
AH9: =IF($A9="","",SUM(C9:AG9)) | AI9: =IF($A9="","",$B9*(NETWORKDAYS(DATE($B$3,$B$2,1),EOMONTH(DATE($B$3,$B$2,1),0),Instruções!$B$12:$B$31)-AK9-AL9-AM9)) | AJ9: =IF($A9="","",AH9-AI9) | AK9: =IF($A9="","",COUNTIF(C9:AG9,"F")) | AL9: =IF($A9="","",COUNTIF(C9:AG9,"B")) | AM9: =IF($A9="","",COUNTIF(C9:AG9,"L"))
AH10: =IF($A10="","",SUM(C10:AG10)) | AI10: =IF($A10="","",$B10*(NETWORKDAYS(DATE($B$3,$B$2,1),EOMONTH(DATE($B$3,$B$2,1),0),Instruções!$B$12:$B$31)-AK10-AL10-AM10)) | AJ10: =IF($A10="","",AH10-AI10) | AK10: =IF($A10="","",COUNTIF(C10:AG10,"F")) | AL10: =IF($A10="","",COUNTIF(C10:AG10,"B")) | AM10: =IF($A10="","",COUNTIF(C10:AG10,"L"))
AH11: =IF($A11="","",SUM(C11:AG11)) | AI11: =IF($A11="","",$B11*(NETWORKDAYS(DATE($B$3,$B$2,1),EOMONTH(DATE($B$3,$B$2,1),0),Instruções!$B$12:$B$31)-AK11-AL11-AM11)) | AJ11: =IF($A11="","",AH11-AI11) | AK11: =IF($A11="","",COUNTIF(C11:AG11,"F")) | AL11: =IF($A11="","",COUNTIF(C11:AG11,"B")) | AM11: =IF($A11="","",COUNTIF(C11:AG11,"L"))
AH12: =IF($A12="","",SUM(C12:AG12)) | AI12: =IF($A12="","",$B12*(NETWORKDAYS(DATE($B$3,$B$2,1),EOMONTH(DATE($B$3,$B$2,1),0),Instruções!$B$12:$B$31)-AK12-AL12-AM12)) | AJ12: =IF($A12="","",AH12-AI12) | AK12: =IF($A12="","",COUNTIF(C12:AG12,"F")) | AL12: =IF($A12="","",COUNTIF(C12:AG12,"B")) | AM12: =IF($A12="","",COUNTIF(C12:AG12,"L"))
AH13: =IF($A13="","",SUM(C13:AG13)) | AI13: =IF($A13="","",$B13*(NETWORKDAYS(DATE($B$3,$B$2,1),EOMONTH(DATE($B$3,$B$2,1),0),Instruções!$B$12:$B$31)-AK13-AL13-AM13)) | AJ13: =IF($A13="","",AH13-AI13) | AK13: =IF($A13="","",COUNTIF(C13:AG13,"F")) | AL13: =IF($A13="","",COUNTIF(C13:AG13,"B")) | AM13: =IF($A13="","",COUNTIF(C13:AG13,"L"))
AH14: =IF($A14="","",SUM(C14:AG14)) | AI14: =IF($A14="","",$B14*(NETWORKDAYS(DATE($B$3,$B$2,1),EOMONTH(DATE($B$3,$B$2,1),0),Instruções!$B$12:$B$31)-AK14-AL14-AM14)) | AJ14: =IF($A14="","",AH14-AI14) | AK14: =IF($A14="","",COUNTIF(C14:AG14,"F")) | AL14: =IF($A14="","",COUNTIF(C14:AG14,"B")) | AM14: =IF($A14="","",COUNTIF(C14:AG14,"L"))
AH15: =IF($A15="","",SUM(C15:AG15)) | AI15: =IF($A15="","",$B15*(NETWORKDAYS(DATE($B$3,$B$2,1),EOMONTH(DATE($B$3,$B$2,1),0),Instruções!$B$12:$B$31)-AK15-AL15-AM15)) | AJ15: =IF($A15="","",AH15-AI15) | AK15: =IF($A15="","",COUNTIF(C15:AG15,"F")) | AL15: =IF($A15="","",COUNTIF(C15:AG15,"B")) | AM15: =IF($A15="","",COUNTIF(C15:AG15,"L"))
AH16: =IF($A16="","",SUM(C16:AG16)) | AI16: =IF($A16="","",$B16*(NETWORKDAYS(DATE($B$3,$B$2,1),EOMONTH(DATE($B$3,$B$2,1),0),Instruções!$B$12:$B$31)-AK16-AL16-AM16)) | AJ16: =IF($A16="","",AH16-AI16) | AK16: =IF($A16="","",COUNTIF(C16:AG16,"F")) | AL16: =IF($A16="","",COUNTIF(C16:AG16,"B")) | AM16: =IF($A16="","",COUNTIF(C16:AG16,"L"))
AH17: =IF($A17="","",SUM(C17:AG17)) | AI17: =IF($A17="","",$B17*(NETWORKDAYS(DATE($B$3,$B$2,1),EOMONTH(DATE($B$3,$B$2,1),0),Instruções!$B$12:$B$31)-AK17-AL17-AM17)) | AJ17: =IF($A17="","",AH17-AI17) | AK17: =IF($A17="","",COUNTIF(C17:AG17,"F")) | AL17: =IF($A17="","",COUNTIF(C17:AG17,"B")) | AM17: =IF($A17="","",COUNTIF(C17:AG17,"L"))
AH18: =IF($A18="","",SUM(C18:AG18)) | AI18: =IF($A18="","",$B18*(NETWORKDAYS(DATE($B$3,$B$2,1),EOMONTH(DATE($B$3,$B$2,1),0),Instruções!$B$12:$B$31)-AK18-AL18-AM18)) | AJ18: =IF($A18="","",AH18-AI18) | AK18: =IF($A18="","",COUNTIF(C18:AG18,"F")) | AL18: =IF($A18="","",COUNTIF(C18:AG18,"B")) | AM18: =IF($A18="","",COUNTIF(C18:AG18,"L"))
AH19: =IF($A19="","",SUM(C19:AG19)) | AI19: =IF($A19="","",$B19*(NETWORKDAYS(DATE($B$3,$B$2,1),EOMONTH(DATE($B$3,$B$2,1),0),Instruções!$B$12:$B$31)-AK19-AL19-AM19)) | AJ19: =IF($A19="","",AH19-AI19) | AK19: =IF($A19="","",COUNTIF(C19:AG19,"F")) | AL19: =IF($A19="","",COUNTIF(C19:AG19,"B")) | AM19: =IF($A19="","",COUNTIF(C19:AG19,"L"))
... AH21: =IF($A21="","",SUM(C21:AG21)) | AI21: =IF($A21="","",$B21*(NETWORKDAYS(DATE($B$3,$B$2,1),EOMONTH(DATE($B$3,$B$2,1),0),Instruções!$B$12:$B$31)-AK21-AL21-AM21)) | AJ21: =IF($A21="","",AH21-AI21) | AK21: =IF($A21="","",COUNTIF(C21:AG21,"F")) | AL21: =IF($A21="","",COUNTIF(C21:AG21,"B")) | AM21: =IF($A21="","",COUNTIF(C21:AG21,"L"))
A22: Total | AH22: =SUM(AH7:AH21) -> 144 | AI22: =SUM(AI7:AI21) -> 144 | AJ22: =SUM(AJ7:AJ21) -> 0 | AK22: =SUM(AK7:AK21) -> 2 | AL22: =SUM(AL7:AL21) -> 1 | AM22: =SUM(AM7:AM21) -> 0
A24: Modelo gratuito do Klokka, o software da Kamzan para o registo de horas dos colaboradores: kamzan.com

Sheet Instruções
A1: Folha de presenças mensal
A2: 1 | B2: Escreva o mês e o ano nas células amarelas: os dias e os fins de semana atualizam-se sozinhos.
A3: 2 | B3: Substitua a linha de exemplo e acrescente os nomes com as horas por dia do contrato.
A4: 3 | B4: Todos os dias escreva as horas trabalhadas ou o código da ausência.
A5: 4 | B5: Acrescente aqui em baixo os feriados do seu país: ficam fora das horas devidas.
A6: 5 | B6: Para o mês seguinte, duplique a folha e altere o mês.
B8: Horas devidas = dias úteis do mês (de segunda a sexta, sem feriados) menos os dias de ausência, vezes as horas por dia. Saldo = horas trabalhadas menos horas devidas. Cada ausência conta como um dia inteiro.
B9: Modelo de trabalho: não substitui os registos obrigatórios por lei. Confirme os resultados com quem processa os salários.
B11: Feriados (datas)
