Workbook

Sheet 汇总
A1: 年度休假计划
A2: 年份 | B2: 2027 | C2: 在此工作表填写年份、姓名和应享天数。在各月份工作表中标记：年 = 年假，病 = 病假，事 = 事假，此汇总会自动更新。第一行是示例，请直接覆盖。
A5: 员工 | B5: 应享天数 | C5: 已休年假 | D5: 剩余年假 | E5: 病假 | F5: 事假
A6: 王芳 | B6: 26 | C6: =IF($A6="","",COUNTIF(一月!$B5:$AF5,"年")+COUNTIF(二月!$B5:$AF5,"年")+COUNTIF(三月!$B5:$AF5,"年")+COUNTIF(四月!$B5:$AF5,"年")+COUNTIF(五月!$B5:$AF5,"年")+COUNTIF(六月!$B5:$AF5,"年")+COUNTIF(七月!$B5:$AF5,"年")+COUNTIF(八月!$B5:$AF5,"年")+COUNTIF(九月!$B5:$AF5,"年")+COUNTIF(十月!$B5:$AF5,"年")+COUNTIF(十一月!$B5:$AF5,"年")+COUNTIF(十二月!$B5:$AF5,"年")) -> 5 | D6: =IF(OR($A6="",$B6=""),"",B6-C6) -> 21 | E6: =IF($A6="","",COUNTIF(一月!$B5:$AF5,"病")+COUNTIF(二月!$B5:$AF5,"病")+COUNTIF(三月!$B5:$AF5,"病")+COUNTIF(四月!$B5:$AF5,"病")+COUNTIF(五月!$B5:$AF5,"病")+COUNTIF(六月!$B5:$AF5,"病")+COUNTIF(七月!$B5:$AF5,"病")+COUNTIF(八月!$B5:$AF5,"病")+COUNTIF(九月!$B5:$AF5,"病")+COUNTIF(十月!$B5:$AF5,"病")+COUNTIF(十一月!$B5:$AF5,"病")+COUNTIF(十二月!$B5:$AF5,"病")) -> 0 | F6: =IF($A6="","",COUNTIF(一月!$B5:$AF5,"事")+COUNTIF(二月!$B5:$AF5,"事")+COUNTIF(三月!$B5:$AF5,"事")+COUNTIF(四月!$B5:$AF5,"事")+COUNTIF(五月!$B5:$AF5,"事")+COUNTIF(六月!$B5:$AF5,"事")+COUNTIF(七月!$B5:$AF5,"事")+COUNTIF(八月!$B5:$AF5,"事")+COUNTIF(九月!$B5:$AF5,"事")+COUNTIF(十月!$B5:$AF5,"事")+COUNTIF(十一月!$B5:$AF5,"事")+COUNTIF(十二月!$B5:$AF5,"事")) -> 0
C7: =IF($A7="","",COUNTIF(一月!$B6:$AF6,"年")+COUNTIF(二月!$B6:$AF6,"年")+COUNTIF(三月!$B6:$AF6,"年")+COUNTIF(四月!$B6:$AF6,"年")+COUNTIF(五月!$B6:$AF6,"年")+COUNTIF(六月!$B6:$AF6,"年")+COUNTIF(七月!$B6:$AF6,"年")+COUNTIF(八月!$B6:$AF6,"年")+COUNTIF(九月!$B6:$AF6,"年")+COUNTIF(十月!$B6:$AF6,"年")+COUNTIF(十一月!$B6:$AF6,"年")+COUNTIF(十二月!$B6:$AF6,"年")) | D7: =IF(OR($A7="",$B7=""),"",B7-C7) | E7: =IF($A7="","",COUNTIF(一月!$B6:$AF6,"病")+COUNTIF(二月!$B6:$AF6,"病")+COUNTIF(三月!$B6:$AF6,"病")+COUNTIF(四月!$B6:$AF6,"病")+COUNTIF(五月!$B6:$AF6,"病")+COUNTIF(六月!$B6:$AF6,"病")+COUNTIF(七月!$B6:$AF6,"病")+COUNTIF(八月!$B6:$AF6,"病")+COUNTIF(九月!$B6:$AF6,"病")+COUNTIF(十月!$B6:$AF6,"病")+COUNTIF(十一月!$B6:$AF6,"病")+COUNTIF(十二月!$B6:$AF6,"病")) | F7: =IF($A7="","",COUNTIF(一月!$B6:$AF6,"事")+COUNTIF(二月!$B6:$AF6,"事")+COUNTIF(三月!$B6:$AF6,"事")+COUNTIF(四月!$B6:$AF6,"事")+COUNTIF(五月!$B6:$AF6,"事")+COUNTIF(六月!$B6:$AF6,"事")+COUNTIF(七月!$B6:$AF6,"事")+COUNTIF(八月!$B6:$AF6,"事")+COUNTIF(九月!$B6:$AF6,"事")+COUNTIF(十月!$B6:$AF6,"事")+COUNTIF(十一月!$B6:$AF6,"事")+COUNTIF(十二月!$B6:$AF6,"事"))
C8: =IF($A8="","",COUNTIF(一月!$B7:$AF7,"年")+COUNTIF(二月!$B7:$AF7,"年")+COUNTIF(三月!$B7:$AF7,"年")+COUNTIF(四月!$B7:$AF7,"年")+COUNTIF(五月!$B7:$AF7,"年")+COUNTIF(六月!$B7:$AF7,"年")+COUNTIF(七月!$B7:$AF7,"年")+COUNTIF(八月!$B7:$AF7,"年")+COUNTIF(九月!$B7:$AF7,"年")+COUNTIF(十月!$B7:$AF7,"年")+COUNTIF(十一月!$B7:$AF7,"年")+COUNTIF(十二月!$B7:$AF7,"年")) | D8: =IF(OR($A8="",$B8=""),"",B8-C8) | E8: =IF($A8="","",COUNTIF(一月!$B7:$AF7,"病")+COUNTIF(二月!$B7:$AF7,"病")+COUNTIF(三月!$B7:$AF7,"病")+COUNTIF(四月!$B7:$AF7,"病")+COUNTIF(五月!$B7:$AF7,"病")+COUNTIF(六月!$B7:$AF7,"病")+COUNTIF(七月!$B7:$AF7,"病")+COUNTIF(八月!$B7:$AF7,"病")+COUNTIF(九月!$B7:$AF7,"病")+COUNTIF(十月!$B7:$AF7,"病")+COUNTIF(十一月!$B7:$AF7,"病")+COUNTIF(十二月!$B7:$AF7,"病")) | F8: =IF($A8="","",COUNTIF(一月!$B7:$AF7,"事")+COUNTIF(二月!$B7:$AF7,"事")+COUNTIF(三月!$B7:$AF7,"事")+COUNTIF(四月!$B7:$AF7,"事")+COUNTIF(五月!$B7:$AF7,"事")+COUNTIF(六月!$B7:$AF7,"事")+COUNTIF(七月!$B7:$AF7,"事")+COUNTIF(八月!$B7:$AF7,"事")+COUNTIF(九月!$B7:$AF7,"事")+COUNTIF(十月!$B7:$AF7,"事")+COUNTIF(十一月!$B7:$AF7,"事")+COUNTIF(十二月!$B7:$AF7,"事"))
C9: =IF($A9="","",COUNTIF(一月!$B8:$AF8,"年")+COUNTIF(二月!$B8:$AF8,"年")+COUNTIF(三月!$B8:$AF8,"年")+COUNTIF(四月!$B8:$AF8,"年")+COUNTIF(五月!$B8:$AF8,"年")+COUNTIF(六月!$B8:$AF8,"年")+COUNTIF(七月!$B8:$AF8,"年")+COUNTIF(八月!$B8:$AF8,"年")+COUNTIF(九月!$B8:$AF8,"年")+COUNTIF(十月!$B8:$AF8,"年")+COUNTIF(十一月!$B8:$AF8,"年")+COUNTIF(十二月!$B8:$AF8,"年")) | D9: =IF(OR($A9="",$B9=""),"",B9-C9) | E9: =IF($A9="","",COUNTIF(一月!$B8:$AF8,"病")+COUNTIF(二月!$B8:$AF8,"病")+COUNTIF(三月!$B8:$AF8,"病")+COUNTIF(四月!$B8:$AF8,"病")+COUNTIF(五月!$B8:$AF8,"病")+COUNTIF(六月!$B8:$AF8,"病")+COUNTIF(七月!$B8:$AF8,"病")+COUNTIF(八月!$B8:$AF8,"病")+COUNTIF(九月!$B8:$AF8,"病")+COUNTIF(十月!$B8:$AF8,"病")+COUNTIF(十一月!$B8:$AF8,"病")+COUNTIF(十二月!$B8:$AF8,"病")) | F9: =IF($A9="","",COUNTIF(一月!$B8:$AF8,"事")+COUNTIF(二月!$B8:$AF8,"事")+COUNTIF(三月!$B8:$AF8,"事")+COUNTIF(四月!$B8:$AF8,"事")+COUNTIF(五月!$B8:$AF8,"事")+COUNTIF(六月!$B8:$AF8,"事")+COUNTIF(七月!$B8:$AF8,"事")+COUNTIF(八月!$B8:$AF8,"事")+COUNTIF(九月!$B8:$AF8,"事")+COUNTIF(十月!$B8:$AF8,"事")+COUNTIF(十一月!$B8:$AF8,"事")+COUNTIF(十二月!$B8:$AF8,"事"))
C10: =IF($A10="","",COUNTIF(一月!$B9:$AF9,"年")+COUNTIF(二月!$B9:$AF9,"年")+COUNTIF(三月!$B9:$AF9,"年")+COUNTIF(四月!$B9:$AF9,"年")+COUNTIF(五月!$B9:$AF9,"年")+COUNTIF(六月!$B9:$AF9,"年")+COUNTIF(七月!$B9:$AF9,"年")+COUNTIF(八月!$B9:$AF9,"年")+COUNTIF(九月!$B9:$AF9,"年")+COUNTIF(十月!$B9:$AF9,"年")+COUNTIF(十一月!$B9:$AF9,"年")+COUNTIF(十二月!$B9:$AF9,"年")) | D10: =IF(OR($A10="",$B10=""),"",B10-C10) | E10: =IF($A10="","",COUNTIF(一月!$B9:$AF9,"病")+COUNTIF(二月!$B9:$AF9,"病")+COUNTIF(三月!$B9:$AF9,"病")+COUNTIF(四月!$B9:$AF9,"病")+COUNTIF(五月!$B9:$AF9,"病")+COUNTIF(六月!$B9:$AF9,"病")+COUNTIF(七月!$B9:$AF9,"病")+COUNTIF(八月!$B9:$AF9,"病")+COUNTIF(九月!$B9:$AF9,"病")+COUNTIF(十月!$B9:$AF9,"病")+COUNTIF(十一月!$B9:$AF9,"病")+COUNTIF(十二月!$B9:$AF9,"病")) | F10: =IF($A10="","",COUNTIF(一月!$B9:$AF9,"事")+COUNTIF(二月!$B9:$AF9,"事")+COUNTIF(三月!$B9:$AF9,"事")+COUNTIF(四月!$B9:$AF9,"事")+COUNTIF(五月!$B9:$AF9,"事")+COUNTIF(六月!$B9:$AF9,"事")+COUNTIF(七月!$B9:$AF9,"事")+COUNTIF(八月!$B9:$AF9,"事")+COUNTIF(九月!$B9:$AF9,"事")+COUNTIF(十月!$B9:$AF9,"事")+COUNTIF(十一月!$B9:$AF9,"事")+COUNTIF(十二月!$B9:$AF9,"事"))
C11: =IF($A11="","",COUNTIF(一月!$B10:$AF10,"年")+COUNTIF(二月!$B10:$AF10,"年")+COUNTIF(三月!$B10:$AF10,"年")+COUNTIF(四月!$B10:$AF10,"年")+COUNTIF(五月!$B10:$AF10,"年")+COUNTIF(六月!$B10:$AF10,"年")+COUNTIF(七月!$B10:$AF10,"年")+COUNTIF(八月!$B10:$AF10,"年")+COUNTIF(九月!$B10:$AF10,"年")+COUNTIF(十月!$B10:$AF10,"年")+COUNTIF(十一月!$B10:$AF10,"年")+COUNTIF(十二月!$B10:$AF10,"年")) | D11: =IF(OR($A11="",$B11=""),"",B11-C11) | E11: =IF($A11="","",COUNTIF(一月!$B10:$AF10,"病")+COUNTIF(二月!$B10:$AF10,"病")+COUNTIF(三月!$B10:$AF10,"病")+COUNTIF(四月!$B10:$AF10,"病")+COUNTIF(五月!$B10:$AF10,"病")+COUNTIF(六月!$B10:$AF10,"病")+COUNTIF(七月!$B10:$AF10,"病")+COUNTIF(八月!$B10:$AF10,"病")+COUNTIF(九月!$B10:$AF10,"病")+COUNTIF(十月!$B10:$AF10,"病")+COUNTIF(十一月!$B10:$AF10,"病")+COUNTIF(十二月!$B10:$AF10,"病")) | F11: =IF($A11="","",COUNTIF(一月!$B10:$AF10,"事")+COUNTIF(二月!$B10:$AF10,"事")+COUNTIF(三月!$B10:$AF10,"事")+COUNTIF(四月!$B10:$AF10,"事")+COUNTIF(五月!$B10:$AF10,"事")+COUNTIF(六月!$B10:$AF10,"事")+COUNTIF(七月!$B10:$AF10,"事")+COUNTIF(八月!$B10:$AF10,"事")+COUNTIF(九月!$B10:$AF10,"事")+COUNTIF(十月!$B10:$AF10,"事")+COUNTIF(十一月!$B10:$AF10,"事")+COUNTIF(十二月!$B10:$AF10,"事"))
C12: =IF($A12="","",COUNTIF(一月!$B11:$AF11,"年")+COUNTIF(二月!$B11:$AF11,"年")+COUNTIF(三月!$B11:$AF11,"年")+COUNTIF(四月!$B11:$AF11,"年")+COUNTIF(五月!$B11:$AF11,"年")+COUNTIF(六月!$B11:$AF11,"年")+COUNTIF(七月!$B11:$AF11,"年")+COUNTIF(八月!$B11:$AF11,"年")+COUNTIF(九月!$B11:$AF11,"年")+COUNTIF(十月!$B11:$AF11,"年")+COUNTIF(十一月!$B11:$AF11,"年")+COUNTIF(十二月!$B11:$AF11,"年")) | D12: =IF(OR($A12="",$B12=""),"",B12-C12) | E12: =IF($A12="","",COUNTIF(一月!$B11:$AF11,"病")+COUNTIF(二月!$B11:$AF11,"病")+COUNTIF(三月!$B11:$AF11,"病")+COUNTIF(四月!$B11:$AF11,"病")+COUNTIF(五月!$B11:$AF11,"病")+COUNTIF(六月!$B11:$AF11,"病")+COUNTIF(七月!$B11:$AF11,"病")+COUNTIF(八月!$B11:$AF11,"病")+COUNTIF(九月!$B11:$AF11,"病")+COUNTIF(十月!$B11:$AF11,"病")+COUNTIF(十一月!$B11:$AF11,"病")+COUNTIF(十二月!$B11:$AF11,"病")) | F12: =IF($A12="","",COUNTIF(一月!$B11:$AF11,"事")+COUNTIF(二月!$B11:$AF11,"事")+COUNTIF(三月!$B11:$AF11,"事")+COUNTIF(四月!$B11:$AF11,"事")+COUNTIF(五月!$B11:$AF11,"事")+COUNTIF(六月!$B11:$AF11,"事")+COUNTIF(七月!$B11:$AF11,"事")+COUNTIF(八月!$B11:$AF11,"事")+COUNTIF(九月!$B11:$AF11,"事")+COUNTIF(十月!$B11:$AF11,"事")+COUNTIF(十一月!$B11:$AF11,"事")+COUNTIF(十二月!$B11:$AF11,"事"))
C13: =IF($A13="","",COUNTIF(一月!$B12:$AF12,"年")+COUNTIF(二月!$B12:$AF12,"年")+COUNTIF(三月!$B12:$AF12,"年")+COUNTIF(四月!$B12:$AF12,"年")+COUNTIF(五月!$B12:$AF12,"年")+COUNTIF(六月!$B12:$AF12,"年")+COUNTIF(七月!$B12:$AF12,"年")+COUNTIF(八月!$B12:$AF12,"年")+COUNTIF(九月!$B12:$AF12,"年")+COUNTIF(十月!$B12:$AF12,"年")+COUNTIF(十一月!$B12:$AF12,"年")+COUNTIF(十二月!$B12:$AF12,"年")) | D13: =IF(OR($A13="",$B13=""),"",B13-C13) | E13: =IF($A13="","",COUNTIF(一月!$B12:$AF12,"病")+COUNTIF(二月!$B12:$AF12,"病")+COUNTIF(三月!$B12:$AF12,"病")+COUNTIF(四月!$B12:$AF12,"病")+COUNTIF(五月!$B12:$AF12,"病")+COUNTIF(六月!$B12:$AF12,"病")+COUNTIF(七月!$B12:$AF12,"病")+COUNTIF(八月!$B12:$AF12,"病")+COUNTIF(九月!$B12:$AF12,"病")+COUNTIF(十月!$B12:$AF12,"病")+COUNTIF(十一月!$B12:$AF12,"病")+COUNTIF(十二月!$B12:$AF12,"病")) | F13: =IF($A13="","",COUNTIF(一月!$B12:$AF12,"事")+COUNTIF(二月!$B12:$AF12,"事")+COUNTIF(三月!$B12:$AF12,"事")+COUNTIF(四月!$B12:$AF12,"事")+COUNTIF(五月!$B12:$AF12,"事")+COUNTIF(六月!$B12:$AF12,"事")+COUNTIF(七月!$B12:$AF12,"事")+COUNTIF(八月!$B12:$AF12,"事")+COUNTIF(九月!$B12:$AF12,"事")+COUNTIF(十月!$B12:$AF12,"事")+COUNTIF(十一月!$B12:$AF12,"事")+COUNTIF(十二月!$B12:$AF12,"事"))
C14: =IF($A14="","",COUNTIF(一月!$B13:$AF13,"年")+COUNTIF(二月!$B13:$AF13,"年")+COUNTIF(三月!$B13:$AF13,"年")+COUNTIF(四月!$B13:$AF13,"年")+COUNTIF(五月!$B13:$AF13,"年")+COUNTIF(六月!$B13:$AF13,"年")+COUNTIF(七月!$B13:$AF13,"年")+COUNTIF(八月!$B13:$AF13,"年")+COUNTIF(九月!$B13:$AF13,"年")+COUNTIF(十月!$B13:$AF13,"年")+COUNTIF(十一月!$B13:$AF13,"年")+COUNTIF(十二月!$B13:$AF13,"年")) | D14: =IF(OR($A14="",$B14=""),"",B14-C14) | E14: =IF($A14="","",COUNTIF(一月!$B13:$AF13,"病")+COUNTIF(二月!$B13:$AF13,"病")+COUNTIF(三月!$B13:$AF13,"病")+COUNTIF(四月!$B13:$AF13,"病")+COUNTIF(五月!$B13:$AF13,"病")+COUNTIF(六月!$B13:$AF13,"病")+COUNTIF(七月!$B13:$AF13,"病")+COUNTIF(八月!$B13:$AF13,"病")+COUNTIF(九月!$B13:$AF13,"病")+COUNTIF(十月!$B13:$AF13,"病")+COUNTIF(十一月!$B13:$AF13,"病")+COUNTIF(十二月!$B13:$AF13,"病")) | F14: =IF($A14="","",COUNTIF(一月!$B13:$AF13,"事")+COUNTIF(二月!$B13:$AF13,"事")+COUNTIF(三月!$B13:$AF13,"事")+COUNTIF(四月!$B13:$AF13,"事")+COUNTIF(五月!$B13:$AF13,"事")+COUNTIF(六月!$B13:$AF13,"事")+COUNTIF(七月!$B13:$AF13,"事")+COUNTIF(八月!$B13:$AF13,"事")+COUNTIF(九月!$B13:$AF13,"事")+COUNTIF(十月!$B13:$AF13,"事")+COUNTIF(十一月!$B13:$AF13,"事")+COUNTIF(十二月!$B13:$AF13,"事"))
C15: =IF($A15="","",COUNTIF(一月!$B14:$AF14,"年")+COUNTIF(二月!$B14:$AF14,"年")+COUNTIF(三月!$B14:$AF14,"年")+COUNTIF(四月!$B14:$AF14,"年")+COUNTIF(五月!$B14:$AF14,"年")+COUNTIF(六月!$B14:$AF14,"年")+COUNTIF(七月!$B14:$AF14,"年")+COUNTIF(八月!$B14:$AF14,"年")+COUNTIF(九月!$B14:$AF14,"年")+COUNTIF(十月!$B14:$AF14,"年")+COUNTIF(十一月!$B14:$AF14,"年")+COUNTIF(十二月!$B14:$AF14,"年")) | D15: =IF(OR($A15="",$B15=""),"",B15-C15) | E15: =IF($A15="","",COUNTIF(一月!$B14:$AF14,"病")+COUNTIF(二月!$B14:$AF14,"病")+COUNTIF(三月!$B14:$AF14,"病")+COUNTIF(四月!$B14:$AF14,"病")+COUNTIF(五月!$B14:$AF14,"病")+COUNTIF(六月!$B14:$AF14,"病")+COUNTIF(七月!$B14:$AF14,"病")+COUNTIF(八月!$B14:$AF14,"病")+COUNTIF(九月!$B14:$AF14,"病")+COUNTIF(十月!$B14:$AF14,"病")+COUNTIF(十一月!$B14:$AF14,"病")+COUNTIF(十二月!$B14:$AF14,"病")) | F15: =IF($A15="","",COUNTIF(一月!$B14:$AF14,"事")+COUNTIF(二月!$B14:$AF14,"事")+COUNTIF(三月!$B14:$AF14,"事")+COUNTIF(四月!$B14:$AF14,"事")+COUNTIF(五月!$B14:$AF14,"事")+COUNTIF(六月!$B14:$AF14,"事")+COUNTIF(七月!$B14:$AF14,"事")+COUNTIF(八月!$B14:$AF14,"事")+COUNTIF(九月!$B14:$AF14,"事")+COUNTIF(十月!$B14:$AF14,"事")+COUNTIF(十一月!$B14:$AF14,"事")+COUNTIF(十二月!$B14:$AF14,"事"))
C16: =IF($A16="","",COUNTIF(一月!$B15:$AF15,"年")+COUNTIF(二月!$B15:$AF15,"年")+COUNTIF(三月!$B15:$AF15,"年")+COUNTIF(四月!$B15:$AF15,"年")+COUNTIF(五月!$B15:$AF15,"年")+COUNTIF(六月!$B15:$AF15,"年")+COUNTIF(七月!$B15:$AF15,"年")+COUNTIF(八月!$B15:$AF15,"年")+COUNTIF(九月!$B15:$AF15,"年")+COUNTIF(十月!$B15:$AF15,"年")+COUNTIF(十一月!$B15:$AF15,"年")+COUNTIF(十二月!$B15:$AF15,"年")) | D16: =IF(OR($A16="",$B16=""),"",B16-C16) | E16: =IF($A16="","",COUNTIF(一月!$B15:$AF15,"病")+COUNTIF(二月!$B15:$AF15,"病")+COUNTIF(三月!$B15:$AF15,"病")+COUNTIF(四月!$B15:$AF15,"病")+COUNTIF(五月!$B15:$AF15,"病")+COUNTIF(六月!$B15:$AF15,"病")+COUNTIF(七月!$B15:$AF15,"病")+COUNTIF(八月!$B15:$AF15,"病")+COUNTIF(九月!$B15:$AF15,"病")+COUNTIF(十月!$B15:$AF15,"病")+COUNTIF(十一月!$B15:$AF15,"病")+COUNTIF(十二月!$B15:$AF15,"病")) | F16: =IF($A16="","",COUNTIF(一月!$B15:$AF15,"事")+COUNTIF(二月!$B15:$AF15,"事")+COUNTIF(三月!$B15:$AF15,"事")+COUNTIF(四月!$B15:$AF15,"事")+COUNTIF(五月!$B15:$AF15,"事")+COUNTIF(六月!$B15:$AF15,"事")+COUNTIF(七月!$B15:$AF15,"事")+COUNTIF(八月!$B15:$AF15,"事")+COUNTIF(九月!$B15:$AF15,"事")+COUNTIF(十月!$B15:$AF15,"事")+COUNTIF(十一月!$B15:$AF15,"事")+COUNTIF(十二月!$B15:$AF15,"事"))
C17: =IF($A17="","",COUNTIF(一月!$B16:$AF16,"年")+COUNTIF(二月!$B16:$AF16,"年")+COUNTIF(三月!$B16:$AF16,"年")+COUNTIF(四月!$B16:$AF16,"年")+COUNTIF(五月!$B16:$AF16,"年")+COUNTIF(六月!$B16:$AF16,"年")+COUNTIF(七月!$B16:$AF16,"年")+COUNTIF(八月!$B16:$AF16,"年")+COUNTIF(九月!$B16:$AF16,"年")+COUNTIF(十月!$B16:$AF16,"年")+COUNTIF(十一月!$B16:$AF16,"年")+COUNTIF(十二月!$B16:$AF16,"年")) | D17: =IF(OR($A17="",$B17=""),"",B17-C17) | E17: =IF($A17="","",COUNTIF(一月!$B16:$AF16,"病")+COUNTIF(二月!$B16:$AF16,"病")+COUNTIF(三月!$B16:$AF16,"病")+COUNTIF(四月!$B16:$AF16,"病")+COUNTIF(五月!$B16:$AF16,"病")+COUNTIF(六月!$B16:$AF16,"病")+COUNTIF(七月!$B16:$AF16,"病")+COUNTIF(八月!$B16:$AF16,"病")+COUNTIF(九月!$B16:$AF16,"病")+COUNTIF(十月!$B16:$AF16,"病")+COUNTIF(十一月!$B16:$AF16,"病")+COUNTIF(十二月!$B16:$AF16,"病")) | F17: =IF($A17="","",COUNTIF(一月!$B16:$AF16,"事")+COUNTIF(二月!$B16:$AF16,"事")+COUNTIF(三月!$B16:$AF16,"事")+COUNTIF(四月!$B16:$AF16,"事")+COUNTIF(五月!$B16:$AF16,"事")+COUNTIF(六月!$B16:$AF16,"事")+COUNTIF(七月!$B16:$AF16,"事")+COUNTIF(八月!$B16:$AF16,"事")+COUNTIF(九月!$B16:$AF16,"事")+COUNTIF(十月!$B16:$AF16,"事")+COUNTIF(十一月!$B16:$AF16,"事")+COUNTIF(十二月!$B16:$AF16,"事"))
C18: =IF($A18="","",COUNTIF(一月!$B17:$AF17,"年")+COUNTIF(二月!$B17:$AF17,"年")+COUNTIF(三月!$B17:$AF17,"年")+COUNTIF(四月!$B17:$AF17,"年")+COUNTIF(五月!$B17:$AF17,"年")+COUNTIF(六月!$B17:$AF17,"年")+COUNTIF(七月!$B17:$AF17,"年")+COUNTIF(八月!$B17:$AF17,"年")+COUNTIF(九月!$B17:$AF17,"年")+COUNTIF(十月!$B17:$AF17,"年")+COUNTIF(十一月!$B17:$AF17,"年")+COUNTIF(十二月!$B17:$AF17,"年")) | D18: =IF(OR($A18="",$B18=""),"",B18-C18) | E18: =IF($A18="","",COUNTIF(一月!$B17:$AF17,"病")+COUNTIF(二月!$B17:$AF17,"病")+COUNTIF(三月!$B17:$AF17,"病")+COUNTIF(四月!$B17:$AF17,"病")+COUNTIF(五月!$B17:$AF17,"病")+COUNTIF(六月!$B17:$AF17,"病")+COUNTIF(七月!$B17:$AF17,"病")+COUNTIF(八月!$B17:$AF17,"病")+COUNTIF(九月!$B17:$AF17,"病")+COUNTIF(十月!$B17:$AF17,"病")+COUNTIF(十一月!$B17:$AF17,"病")+COUNTIF(十二月!$B17:$AF17,"病")) | F18: =IF($A18="","",COUNTIF(一月!$B17:$AF17,"事")+COUNTIF(二月!$B17:$AF17,"事")+COUNTIF(三月!$B17:$AF17,"事")+COUNTIF(四月!$B17:$AF17,"事")+COUNTIF(五月!$B17:$AF17,"事")+COUNTIF(六月!$B17:$AF17,"事")+COUNTIF(七月!$B17:$AF17,"事")+COUNTIF(八月!$B17:$AF17,"事")+COUNTIF(九月!$B17:$AF17,"事")+COUNTIF(十月!$B17:$AF17,"事")+COUNTIF(十一月!$B17:$AF17,"事")+COUNTIF(十二月!$B17:$AF17,"事"))
... C20: =IF($A20="","",COUNTIF(一月!$B19:$AF19,"年")+COUNTIF(二月!$B19:$AF19,"年")+COUNTIF(三月!$B19:$AF19,"年")+COUNTIF(四月!$B19:$AF19,"年")+COUNTIF(五月!$B19:$AF19,"年")+COUNTIF(六月!$B19:$AF19,"年")+COUNTIF(七月!$B19:$AF19,"年")+COUNTIF(八月!$B19:$AF19,"年")+COUNTIF(九月!$B19:$AF19,"年")+COUNTIF(十月!$B19:$AF19,"年")+COUNTIF(十一月!$B19:$AF19,"年")+COUNTIF(十二月!$B19:$AF19,"年")) | D20: =IF(OR($A20="",$B20=""),"",B20-C20) | E20: =IF($A20="","",COUNTIF(一月!$B19:$AF19,"病")+COUNTIF(二月!$B19:$AF19,"病")+COUNTIF(三月!$B19:$AF19,"病")+COUNTIF(四月!$B19:$AF19,"病")+COUNTIF(五月!$B19:$AF19,"病")+COUNTIF(六月!$B19:$AF19,"病")+COUNTIF(七月!$B19:$AF19,"病")+COUNTIF(八月!$B19:$AF19,"病")+COUNTIF(九月!$B19:$AF19,"病")+COUNTIF(十月!$B19:$AF19,"病")+COUNTIF(十一月!$B19:$AF19,"病")+COUNTIF(十二月!$B19:$AF19,"病")) | F20: =IF($A20="","",COUNTIF(一月!$B19:$AF19,"事")+COUNTIF(二月!$B19:$AF19,"事")+COUNTIF(三月!$B19:$AF19,"事")+COUNTIF(四月!$B19:$AF19,"事")+COUNTIF(五月!$B19:$AF19,"事")+COUNTIF(六月!$B19:$AF19,"事")+COUNTIF(七月!$B19:$AF19,"事")+COUNTIF(八月!$B19:$AF19,"事")+COUNTIF(九月!$B19:$AF19,"事")+COUNTIF(十月!$B19:$AF19,"事")+COUNTIF(十一月!$B19:$AF19,"事")+COUNTIF(十二月!$B19:$AF19,"事"))
A22: 免费模板，来自 Klokka：Kamzan 的员工工时管理软件。kamzan.com

Sheet 一月
A1: ="一月 "&汇总!$B$2 -> 一月 2027
A3: 员工 | B3: =IF(B4="","",B4) -> 46388 | C3: =IF(C4="","",C4) -> 46389 | D3: =IF(D4="","",D4) -> 46390 | E3: =IF(E4="","",E4) -> 46391 | F3: =IF(F4="","",F4) -> 46392 | G3: =IF(G4="","",G4) -> 46393 | H3: =IF(H4="","",H4) -> 46394 | I3: =IF(I4="","",I4) -> 46395 | ... AF3: =IF(AF4="","",AF4) -> 46418
B4: =IF(MONTH(DATE(汇总!$B$2,1,1)+0)=1,DATE(汇总!$B$2,1,1)+0,"") -> 46388 | C4: =IF(MONTH(DATE(汇总!$B$2,1,1)+1)=1,DATE(汇总!$B$2,1,1)+1,"") -> 46389 | D4: =IF(MONTH(DATE(汇总!$B$2,1,1)+2)=1,DATE(汇总!$B$2,1,1)+2,"") -> 46390 | E4: =IF(MONTH(DATE(汇总!$B$2,1,1)+3)=1,DATE(汇总!$B$2,1,1)+3,"") -> 46391 | F4: =IF(MONTH(DATE(汇总!$B$2,1,1)+4)=1,DATE(汇总!$B$2,1,1)+4,"") -> 46392 | G4: =IF(MONTH(DATE(汇总!$B$2,1,1)+5)=1,DATE(汇总!$B$2,1,1)+5,"") -> 46393 | H4: =IF(MONTH(DATE(汇总!$B$2,1,1)+6)=1,DATE(汇总!$B$2,1,1)+6,"") -> 46394 | I4: =IF(MONTH(DATE(汇总!$B$2,1,1)+7)=1,DATE(汇总!$B$2,1,1)+7,"") -> 46395 | J4: =IF(MONTH(DATE(汇总!$B$2,1,1)+8)=1,DATE(汇总!$B$2,1,1)+8,"") -> 46396 | K4: =IF(MONTH(DATE(汇总!$B$2,1,1)+9)=1,DATE(汇总!$B$2,1,1)+9,"") -> 46397 | L4: =IF(MONTH(DATE(汇总!$B$2,1,1)+10)=1,DATE(汇总!$B$2,1,1)+10,"") -> 46398 | M4: =IF(MONTH(DATE(汇总!$B$2,1,1)+11)=1,DATE(汇总!$B$2,1,1)+11,"") -> 46399 | N4: =IF(MONTH(DATE(汇总!$B$2,1,1)+12)=1,DATE(汇总!$B$2,1,1)+12,"") -> 46400 | O4: =IF(MONTH(DATE(汇总!$B$2,1,1)+13)=1,DATE(汇总!$B$2,1,1)+13,"") -> 46401 | P4: =IF(MONTH(DATE(汇总!$B$2,1,1)+14)=1,DATE(汇总!$B$2,1,1)+14,"") -> 46402 | Q4: =IF(MONTH(DATE(汇总!$B$2,1,1)+15)=1,DATE(汇总!$B$2,1,1)+15,"") -> 46403 | R4: =IF(MONTH(DATE(汇总!$B$2,1,1)+16)=1,DATE(汇总!$B$2,1,1)+16,"") -> 46404 | S4: =IF(MONTH(DATE(汇总!$B$2,1,1)+17)=1,DATE(汇总!$B$2,1,1)+17,"") -> 46405 | T4: =IF(MONTH(DATE(汇总!$B$2,1,1)+18)=1,DATE(汇总!$B$2,1,1)+18,"") -> 46406 | U4: =IF(MONTH(DATE(汇总!$B$2,1,1)+19)=1,DATE(汇总!$B$2,1,1)+19,"") -> 46407 | V4: =IF(MONTH(DATE(汇总!$B$2,1,1)+20)=1,DATE(汇总!$B$2,1,1)+20,"") -> 46408 | W4: =IF(MONTH(DATE(汇总!$B$2,1,1)+21)=1,DATE(汇总!$B$2,1,1)+21,"") -> 46409 | X4: =IF(MONTH(DATE(汇总!$B$2,1,1)+22)=1,DATE(汇总!$B$2,1,1)+22,"") -> 46410 | Y4: =IF(MONTH(DATE(汇总!$B$2,1,1)+23)=1,DATE(汇总!$B$2,1,1)+23,"") -> 46411 | Z4: =IF(MONTH(DATE(汇总!$B$2,1,1)+24)=1,DATE(汇总!$B$2,1,1)+24,"") -> 46412 | AA4: =IF(MONTH(DATE(汇总!$B$2,1,1)+25)=1,DATE(汇总!$B$2,1,1)+25,"") -> 46413 | AB4: =IF(MONTH(DATE(汇总!$B$2,1,1)+26)=1,DATE(汇总!$B$2,1,1)+26,"") -> 46414 | AC4: =IF(MONTH(DATE(汇总!$B$2,1,1)+27)=1,DATE(汇总!$B$2,1,1)+27,"") -> 46415 | AD4: =IF(MONTH(DATE(汇总!$B$2,1,1)+28)=1,DATE(汇总!$B$2,1,1)+28,"") -> 46416 | AE4: =IF(MONTH(DATE(汇总!$B$2,1,1)+29)=1,DATE(汇总!$B$2,1,1)+29,"") -> 46417 | AF4: =IF(MONTH(DATE(汇总!$B$2,1,1)+30)=1,DATE(汇总!$B$2,1,1)+30,"") -> 46418
A5: =IF(汇总!$A6="","",汇总!$A6) -> 王芳 | E5: 年 | F5: 年 | G5: 年 | H5: 年 | I5: 年
A6: =IF(汇总!$A7="","",汇总!$A7)
A7: =IF(汇总!$A8="","",汇总!$A8)
A8: =IF(汇总!$A9="","",汇总!$A9)
A9: =IF(汇总!$A10="","",汇总!$A10)
A10: =IF(汇总!$A11="","",汇总!$A11)
A11: =IF(汇总!$A12="","",汇总!$A12)
A12: =IF(汇总!$A13="","",汇总!$A13)
A13: =IF(汇总!$A14="","",汇总!$A14)
A14: =IF(汇总!$A15="","",汇总!$A15)
A15: =IF(汇总!$A16="","",汇总!$A16)
A16: =IF(汇总!$A17="","",汇总!$A17)
A17: =IF(汇总!$A18="","",汇总!$A18)
... A19: =IF(汇总!$A20="","",汇总!$A20)

Sheet 二月
A1: ="二月 "&汇总!$B$2 -> 二月 2027
A3: 员工 | B3: =IF(B4="","",B4) -> 46419 | C3: =IF(C4="","",C4) -> 46420 | D3: =IF(D4="","",D4) -> 46421 | E3: =IF(E4="","",E4) -> 46422 | F3: =IF(F4="","",F4) -> 46423 | G3: =IF(G4="","",G4) -> 46424 | H3: =IF(H4="","",H4) -> 46425 | I3: =IF(I4="","",I4) -> 46426 | ... AF3: =IF(AF4="","",AF4)
B4: =IF(MONTH(DATE(汇总!$B$2,2,1)+0)=2,DATE(汇总!$B$2,2,1)+0,"") -> 46419 | C4: =IF(MONTH(DATE(汇总!$B$2,2,1)+1)=2,DATE(汇总!$B$2,2,1)+1,"") -> 46420 | D4: =IF(MONTH(DATE(汇总!$B$2,2,1)+2)=2,DATE(汇总!$B$2,2,1)+2,"") -> 46421 | E4: =IF(MONTH(DATE(汇总!$B$2,2,1)+3)=2,DATE(汇总!$B$2,2,1)+3,"") -> 46422 | F4: =IF(MONTH(DATE(汇总!$B$2,2,1)+4)=2,DATE(汇总!$B$2,2,1)+4,"") -> 46423 | G4: =IF(MONTH(DATE(汇总!$B$2,2,1)+5)=2,DATE(汇总!$B$2,2,1)+5,"") -> 46424 | H4: =IF(MONTH(DATE(汇总!$B$2,2,1)+6)=2,DATE(汇总!$B$2,2,1)+6,"") -> 46425 | I4: =IF(MONTH(DATE(汇总!$B$2,2,1)+7)=2,DATE(汇总!$B$2,2,1)+7,"") -> 46426 | J4: =IF(MONTH(DATE(汇总!$B$2,2,1)+8)=2,DATE(汇总!$B$2,2,1)+8,"") -> 46427 | K4: =IF(MONTH(DATE(汇总!$B$2,2,1)+9)=2,DATE(汇总!$B$2,2,1)+9,"") -> 46428 | L4: =IF(MONTH(DATE(汇总!$B$2,2,1)+10)=2,DATE(汇总!$B$2,2,1)+10,"") -> 46429 | M4: =IF(MONTH(DATE(汇总!$B$2,2,1)+11)=2,DATE(汇总!$B$2,2,1)+11,"") -> 46430 | N4: =IF(MONTH(DATE(汇总!$B$2,2,1)+12)=2,DATE(汇总!$B$2,2,1)+12,"") -> 46431 | O4: =IF(MONTH(DATE(汇总!$B$2,2,1)+13)=2,DATE(汇总!$B$2,2,1)+13,"") -> 46432 | P4: =IF(MONTH(DATE(汇总!$B$2,2,1)+14)=2,DATE(汇总!$B$2,2,1)+14,"") -> 46433 | Q4: =IF(MONTH(DATE(汇总!$B$2,2,1)+15)=2,DATE(汇总!$B$2,2,1)+15,"") -> 46434 | R4: =IF(MONTH(DATE(汇总!$B$2,2,1)+16)=2,DATE(汇总!$B$2,2,1)+16,"") -> 46435 | S4: =IF(MONTH(DATE(汇总!$B$2,2,1)+17)=2,DATE(汇总!$B$2,2,1)+17,"") -> 46436 | T4: =IF(MONTH(DATE(汇总!$B$2,2,1)+18)=2,DATE(汇总!$B$2,2,1)+18,"") -> 46437 | U4: =IF(MONTH(DATE(汇总!$B$2,2,1)+19)=2,DATE(汇总!$B$2,2,1)+19,"") -> 46438 | V4: =IF(MONTH(DATE(汇总!$B$2,2,1)+20)=2,DATE(汇总!$B$2,2,1)+20,"") -> 46439 | W4: =IF(MONTH(DATE(汇总!$B$2,2,1)+21)=2,DATE(汇总!$B$2,2,1)+21,"") -> 46440 | X4: =IF(MONTH(DATE(汇总!$B$2,2,1)+22)=2,DATE(汇总!$B$2,2,1)+22,"") -> 46441 | Y4: =IF(MONTH(DATE(汇总!$B$2,2,1)+23)=2,DATE(汇总!$B$2,2,1)+23,"") -> 46442 | Z4: =IF(MONTH(DATE(汇总!$B$2,2,1)+24)=2,DATE(汇总!$B$2,2,1)+24,"") -> 46443 | AA4: =IF(MONTH(DATE(汇总!$B$2,2,1)+25)=2,DATE(汇总!$B$2,2,1)+25,"") -> 46444 | AB4: =IF(MONTH(DATE(汇总!$B$2,2,1)+26)=2,DATE(汇总!$B$2,2,1)+26,"") -> 46445 | AC4: =IF(MONTH(DATE(汇总!$B$2,2,1)+27)=2,DATE(汇总!$B$2,2,1)+27,"") -> 46446 | AD4: =IF(MONTH(DATE(汇总!$B$2,2,1)+28)=2,DATE(汇总!$B$2,2,1)+28,"") | AE4: =IF(MONTH(DATE(汇总!$B$2,2,1)+29)=2,DATE(汇总!$B$2,2,1)+29,"") | AF4: =IF(MONTH(DATE(汇总!$B$2,2,1)+30)=2,DATE(汇总!$B$2,2,1)+30,"")
A5: =IF(汇总!$A6="","",汇总!$A6) -> 王芳
A6: =IF(汇总!$A7="","",汇总!$A7)
A7: =IF(汇总!$A8="","",汇总!$A8)
A8: =IF(汇总!$A9="","",汇总!$A9)
A9: =IF(汇总!$A10="","",汇总!$A10)
A10: =IF(汇总!$A11="","",汇总!$A11)
A11: =IF(汇总!$A12="","",汇总!$A12)
A12: =IF(汇总!$A13="","",汇总!$A13)
A13: =IF(汇总!$A14="","",汇总!$A14)
A14: =IF(汇总!$A15="","",汇总!$A15)
A15: =IF(汇总!$A16="","",汇总!$A16)
A16: =IF(汇总!$A17="","",汇总!$A17)
... A19: =IF(汇总!$A20="","",汇总!$A20)

Sheet 三月
A1: ="三月 "&汇总!$B$2 -> 三月 2027
A3: 员工 | B3: =IF(B4="","",B4) -> 46447 | C3: =IF(C4="","",C4) -> 46448 | D3: =IF(D4="","",D4) -> 46449 | E3: =IF(E4="","",E4) -> 46450 | F3: =IF(F4="","",F4) -> 46451 | G3: =IF(G4="","",G4) -> 46452 | H3: =IF(H4="","",H4) -> 46453 | I3: =IF(I4="","",I4) -> 46454 | ... AF3: =IF(AF4="","",AF4) -> 46477
B4: =IF(MONTH(DATE(汇总!$B$2,3,1)+0)=3,DATE(汇总!$B$2,3,1)+0,"") -> 46447 | C4: =IF(MONTH(DATE(汇总!$B$2,3,1)+1)=3,DATE(汇总!$B$2,3,1)+1,"") -> 46448 | D4: =IF(MONTH(DATE(汇总!$B$2,3,1)+2)=3,DATE(汇总!$B$2,3,1)+2,"") -> 46449 | E4: =IF(MONTH(DATE(汇总!$B$2,3,1)+3)=3,DATE(汇总!$B$2,3,1)+3,"") -> 46450 | F4: =IF(MONTH(DATE(汇总!$B$2,3,1)+4)=3,DATE(汇总!$B$2,3,1)+4,"") -> 46451 | G4: =IF(MONTH(DATE(汇总!$B$2,3,1)+5)=3,DATE(汇总!$B$2,3,1)+5,"") -> 46452 | H4: =IF(MONTH(DATE(汇总!$B$2,3,1)+6)=3,DATE(汇总!$B$2,3,1)+6,"") -> 46453 | I4: =IF(MONTH(DATE(汇总!$B$2,3,1)+7)=3,DATE(汇总!$B$2,3,1)+7,"") -> 46454 | J4: =IF(MONTH(DATE(汇总!$B$2,3,1)+8)=3,DATE(汇总!$B$2,3,1)+8,"") -> 46455 | K4: =IF(MONTH(DATE(汇总!$B$2,3,1)+9)=3,DATE(汇总!$B$2,3,1)+9,"") -> 46456 | L4: =IF(MONTH(DATE(汇总!$B$2,3,1)+10)=3,DATE(汇总!$B$2,3,1)+10,"") -> 46457 | M4: =IF(MONTH(DATE(汇总!$B$2,3,1)+11)=3,DATE(汇总!$B$2,3,1)+11,"") -> 46458 | N4: =IF(MONTH(DATE(汇总!$B$2,3,1)+12)=3,DATE(汇总!$B$2,3,1)+12,"") -> 46459 | O4: =IF(MONTH(DATE(汇总!$B$2,3,1)+13)=3,DATE(汇总!$B$2,3,1)+13,"") -> 46460 | P4: =IF(MONTH(DATE(汇总!$B$2,3,1)+14)=3,DATE(汇总!$B$2,3,1)+14,"") -> 46461 | Q4: =IF(MONTH(DATE(汇总!$B$2,3,1)+15)=3,DATE(汇总!$B$2,3,1)+15,"") -> 46462 | R4: =IF(MONTH(DATE(汇总!$B$2,3,1)+16)=3,DATE(汇总!$B$2,3,1)+16,"") -> 46463 | S4: =IF(MONTH(DATE(汇总!$B$2,3,1)+17)=3,DATE(汇总!$B$2,3,1)+17,"") -> 46464 | T4: =IF(MONTH(DATE(汇总!$B$2,3,1)+18)=3,DATE(汇总!$B$2,3,1)+18,"") -> 46465 | U4: =IF(MONTH(DATE(汇总!$B$2,3,1)+19)=3,DATE(汇总!$B$2,3,1)+19,"") -> 46466 | V4: =IF(MONTH(DATE(汇总!$B$2,3,1)+20)=3,DATE(汇总!$B$2,3,1)+20,"") -> 46467 | W4: =IF(MONTH(DATE(汇总!$B$2,3,1)+21)=3,DATE(汇总!$B$2,3,1)+21,"") -> 46468 | X4: =IF(MONTH(DATE(汇总!$B$2,3,1)+22)=3,DATE(汇总!$B$2,3,1)+22,"") -> 46469 | Y4: =IF(MONTH(DATE(汇总!$B$2,3,1)+23)=3,DATE(汇总!$B$2,3,1)+23,"") -> 46470 | Z4: =IF(MONTH(DATE(汇总!$B$2,3,1)+24)=3,DATE(汇总!$B$2,3,1)+24,"") -> 46471 | AA4: =IF(MONTH(DATE(汇总!$B$2,3,1)+25)=3,DATE(汇总!$B$2,3,1)+25,"") -> 46472 | AB4: =IF(MONTH(DATE(汇总!$B$2,3,1)+26)=3,DATE(汇总!$B$2,3,1)+26,"") -> 46473 | AC4: =IF(MONTH(DATE(汇总!$B$2,3,1)+27)=3,DATE(汇总!$B$2,3,1)+27,"") -> 46474 | AD4: =IF(MONTH(DATE(汇总!$B$2,3,1)+28)=3,DATE(汇总!$B$2,3,1)+28,"") -> 46475 | AE4: =IF(MONTH(DATE(汇总!$B$2,3,1)+29)=3,DATE(汇总!$B$2,3,1)+29,"") -> 46476 | AF4: =IF(MONTH(DATE(汇总!$B$2,3,1)+30)=3,DATE(汇总!$B$2,3,1)+30,"") -> 46477
A5: =IF(汇总!$A6="","",汇总!$A6) -> 王芳
A6: =IF(汇总!$A7="","",汇总!$A7)
A7: =IF(汇总!$A8="","",汇总!$A8)
A8: =IF(汇总!$A9="","",汇总!$A9)
A9: =IF(汇总!$A10="","",汇总!$A10)
A10: =IF(汇总!$A11="","",汇总!$A11)
A11: =IF(汇总!$A12="","",汇总!$A12)
A12: =IF(汇总!$A13="","",汇总!$A13)
A13: =IF(汇总!$A14="","",汇总!$A14)
A14: =IF(汇总!$A15="","",汇总!$A15)
A15: =IF(汇总!$A16="","",汇总!$A16)
A16: =IF(汇总!$A17="","",汇总!$A17)
... A19: =IF(汇总!$A20="","",汇总!$A20)

Sheet 四月
A1: ="四月 "&汇总!$B$2 -> 四月 2027
A3: 员工 | B3: =IF(B4="","",B4) -> 46478 | C3: =IF(C4="","",C4) -> 46479 | D3: =IF(D4="","",D4) -> 46480 | E3: =IF(E4="","",E4) -> 46481 | F3: =IF(F4="","",F4) -> 46482 | G3: =IF(G4="","",G4) -> 46483 | H3: =IF(H4="","",H4) -> 46484 | I3: =IF(I4="","",I4) -> 46485 | ... AF3: =IF(AF4="","",AF4)
B4: =IF(MONTH(DATE(汇总!$B$2,4,1)+0)=4,DATE(汇总!$B$2,4,1)+0,"") -> 46478 | C4: =IF(MONTH(DATE(汇总!$B$2,4,1)+1)=4,DATE(汇总!$B$2,4,1)+1,"") -> 46479 | D4: =IF(MONTH(DATE(汇总!$B$2,4,1)+2)=4,DATE(汇总!$B$2,4,1)+2,"") -> 46480 | E4: =IF(MONTH(DATE(汇总!$B$2,4,1)+3)=4,DATE(汇总!$B$2,4,1)+3,"") -> 46481 | F4: =IF(MONTH(DATE(汇总!$B$2,4,1)+4)=4,DATE(汇总!$B$2,4,1)+4,"") -> 46482 | G4: =IF(MONTH(DATE(汇总!$B$2,4,1)+5)=4,DATE(汇总!$B$2,4,1)+5,"") -> 46483 | H4: =IF(MONTH(DATE(汇总!$B$2,4,1)+6)=4,DATE(汇总!$B$2,4,1)+6,"") -> 46484 | I4: =IF(MONTH(DATE(汇总!$B$2,4,1)+7)=4,DATE(汇总!$B$2,4,1)+7,"") -> 46485 | J4: =IF(MONTH(DATE(汇总!$B$2,4,1)+8)=4,DATE(汇总!$B$2,4,1)+8,"") -> 46486 | K4: =IF(MONTH(DATE(汇总!$B$2,4,1)+9)=4,DATE(汇总!$B$2,4,1)+9,"") -> 46487 | L4: =IF(MONTH(DATE(汇总!$B$2,4,1)+10)=4,DATE(汇总!$B$2,4,1)+10,"") -> 46488 | M4: =IF(MONTH(DATE(汇总!$B$2,4,1)+11)=4,DATE(汇总!$B$2,4,1)+11,"") -> 46489 | N4: =IF(MONTH(DATE(汇总!$B$2,4,1)+12)=4,DATE(汇总!$B$2,4,1)+12,"") -> 46490 | O4: =IF(MONTH(DATE(汇总!$B$2,4,1)+13)=4,DATE(汇总!$B$2,4,1)+13,"") -> 46491 | P4: =IF(MONTH(DATE(汇总!$B$2,4,1)+14)=4,DATE(汇总!$B$2,4,1)+14,"") -> 46492 | Q4: =IF(MONTH(DATE(汇总!$B$2,4,1)+15)=4,DATE(汇总!$B$2,4,1)+15,"") -> 46493 | R4: =IF(MONTH(DATE(汇总!$B$2,4,1)+16)=4,DATE(汇总!$B$2,4,1)+16,"") -> 46494 | S4: =IF(MONTH(DATE(汇总!$B$2,4,1)+17)=4,DATE(汇总!$B$2,4,1)+17,"") -> 46495 | T4: =IF(MONTH(DATE(汇总!$B$2,4,1)+18)=4,DATE(汇总!$B$2,4,1)+18,"") -> 46496 | U4: =IF(MONTH(DATE(汇总!$B$2,4,1)+19)=4,DATE(汇总!$B$2,4,1)+19,"") -> 46497 | V4: =IF(MONTH(DATE(汇总!$B$2,4,1)+20)=4,DATE(汇总!$B$2,4,1)+20,"") -> 46498 | W4: =IF(MONTH(DATE(汇总!$B$2,4,1)+21)=4,DATE(汇总!$B$2,4,1)+21,"") -> 46499 | X4: =IF(MONTH(DATE(汇总!$B$2,4,1)+22)=4,DATE(汇总!$B$2,4,1)+22,"") -> 46500 | Y4: =IF(MONTH(DATE(汇总!$B$2,4,1)+23)=4,DATE(汇总!$B$2,4,1)+23,"") -> 46501 | Z4: =IF(MONTH(DATE(汇总!$B$2,4,1)+24)=4,DATE(汇总!$B$2,4,1)+24,"") -> 46502 | AA4: =IF(MONTH(DATE(汇总!$B$2,4,1)+25)=4,DATE(汇总!$B$2,4,1)+25,"") -> 46503 | AB4: =IF(MONTH(DATE(汇总!$B$2,4,1)+26)=4,DATE(汇总!$B$2,4,1)+26,"") -> 46504 | AC4: =IF(MONTH(DATE(汇总!$B$2,4,1)+27)=4,DATE(汇总!$B$2,4,1)+27,"") -> 46505 | AD4: =IF(MONTH(DATE(汇总!$B$2,4,1)+28)=4,DATE(汇总!$B$2,4,1)+28,"") -> 46506 | AE4: =IF(MONTH(DATE(汇总!$B$2,4,1)+29)=4,DATE(汇总!$B$2,4,1)+29,"") -> 46507 | AF4: =IF(MONTH(DATE(汇总!$B$2,4,1)+30)=4,DATE(汇总!$B$2,4,1)+30,"")
A5: =IF(汇总!$A6="","",汇总!$A6) -> 王芳
A6: =IF(汇总!$A7="","",汇总!$A7)
A7: =IF(汇总!$A8="","",汇总!$A8)
A8: =IF(汇总!$A9="","",汇总!$A9)
A9: =IF(汇总!$A10="","",汇总!$A10)
A10: =IF(汇总!$A11="","",汇总!$A11)
A11: =IF(汇总!$A12="","",汇总!$A12)
A12: =IF(汇总!$A13="","",汇总!$A13)
A13: =IF(汇总!$A14="","",汇总!$A14)
A14: =IF(汇总!$A15="","",汇总!$A15)
A15: =IF(汇总!$A16="","",汇总!$A16)
A16: =IF(汇总!$A17="","",汇总!$A17)
... A19: =IF(汇总!$A20="","",汇总!$A20)

Sheet 五月
A1: ="五月 "&汇总!$B$2 -> 五月 2027
A3: 员工 | B3: =IF(B4="","",B4) -> 46508 | C3: =IF(C4="","",C4) -> 46509 | D3: =IF(D4="","",D4) -> 46510 | E3: =IF(E4="","",E4) -> 46511 | F3: =IF(F4="","",F4) -> 46512 | G3: =IF(G4="","",G4) -> 46513 | H3: =IF(H4="","",H4) -> 46514 | I3: =IF(I4="","",I4) -> 46515 | ... AF3: =IF(AF4="","",AF4) -> 46538
B4: =IF(MONTH(DATE(汇总!$B$2,5,1)+0)=5,DATE(汇总!$B$2,5,1)+0,"") -> 46508 | C4: =IF(MONTH(DATE(汇总!$B$2,5,1)+1)=5,DATE(汇总!$B$2,5,1)+1,"") -> 46509 | D4: =IF(MONTH(DATE(汇总!$B$2,5,1)+2)=5,DATE(汇总!$B$2,5,1)+2,"") -> 46510 | E4: =IF(MONTH(DATE(汇总!$B$2,5,1)+3)=5,DATE(汇总!$B$2,5,1)+3,"") -> 46511 | F4: =IF(MONTH(DATE(汇总!$B$2,5,1)+4)=5,DATE(汇总!$B$2,5,1)+4,"") -> 46512 | G4: =IF(MONTH(DATE(汇总!$B$2,5,1)+5)=5,DATE(汇总!$B$2,5,1)+5,"") -> 46513 | H4: =IF(MONTH(DATE(汇总!$B$2,5,1)+6)=5,DATE(汇总!$B$2,5,1)+6,"") -> 46514 | I4: =IF(MONTH(DATE(汇总!$B$2,5,1)+7)=5,DATE(汇总!$B$2,5,1)+7,"") -> 46515 | J4: =IF(MONTH(DATE(汇总!$B$2,5,1)+8)=5,DATE(汇总!$B$2,5,1)+8,"") -> 46516 | K4: =IF(MONTH(DATE(汇总!$B$2,5,1)+9)=5,DATE(汇总!$B$2,5,1)+9,"") -> 46517 | L4: =IF(MONTH(DATE(汇总!$B$2,5,1)+10)=5,DATE(汇总!$B$2,5,1)+10,"") -> 46518 | M4: =IF(MONTH(DATE(汇总!$B$2,5,1)+11)=5,DATE(汇总!$B$2,5,1)+11,"") -> 46519 | N4: =IF(MONTH(DATE(汇总!$B$2,5,1)+12)=5,DATE(汇总!$B$2,5,1)+12,"") -> 46520 | O4: =IF(MONTH(DATE(汇总!$B$2,5,1)+13)=5,DATE(汇总!$B$2,5,1)+13,"") -> 46521 | P4: =IF(MONTH(DATE(汇总!$B$2,5,1)+14)=5,DATE(汇总!$B$2,5,1)+14,"") -> 46522 | Q4: =IF(MONTH(DATE(汇总!$B$2,5,1)+15)=5,DATE(汇总!$B$2,5,1)+15,"") -> 46523 | R4: =IF(MONTH(DATE(汇总!$B$2,5,1)+16)=5,DATE(汇总!$B$2,5,1)+16,"") -> 46524 | S4: =IF(MONTH(DATE(汇总!$B$2,5,1)+17)=5,DATE(汇总!$B$2,5,1)+17,"") -> 46525 | T4: =IF(MONTH(DATE(汇总!$B$2,5,1)+18)=5,DATE(汇总!$B$2,5,1)+18,"") -> 46526 | U4: =IF(MONTH(DATE(汇总!$B$2,5,1)+19)=5,DATE(汇总!$B$2,5,1)+19,"") -> 46527 | V4: =IF(MONTH(DATE(汇总!$B$2,5,1)+20)=5,DATE(汇总!$B$2,5,1)+20,"") -> 46528 | W4: =IF(MONTH(DATE(汇总!$B$2,5,1)+21)=5,DATE(汇总!$B$2,5,1)+21,"") -> 46529 | X4: =IF(MONTH(DATE(汇总!$B$2,5,1)+22)=5,DATE(汇总!$B$2,5,1)+22,"") -> 46530 | Y4: =IF(MONTH(DATE(汇总!$B$2,5,1)+23)=5,DATE(汇总!$B$2,5,1)+23,"") -> 46531 | Z4: =IF(MONTH(DATE(汇总!$B$2,5,1)+24)=5,DATE(汇总!$B$2,5,1)+24,"") -> 46532 | AA4: =IF(MONTH(DATE(汇总!$B$2,5,1)+25)=5,DATE(汇总!$B$2,5,1)+25,"") -> 46533 | AB4: =IF(MONTH(DATE(汇总!$B$2,5,1)+26)=5,DATE(汇总!$B$2,5,1)+26,"") -> 46534 | AC4: =IF(MONTH(DATE(汇总!$B$2,5,1)+27)=5,DATE(汇总!$B$2,5,1)+27,"") -> 46535 | AD4: =IF(MONTH(DATE(汇总!$B$2,5,1)+28)=5,DATE(汇总!$B$2,5,1)+28,"") -> 46536 | AE4: =IF(MONTH(DATE(汇总!$B$2,5,1)+29)=5,DATE(汇总!$B$2,5,1)+29,"") -> 46537 | AF4: =IF(MONTH(DATE(汇总!$B$2,5,1)+30)=5,DATE(汇总!$B$2,5,1)+30,"") -> 46538
A5: =IF(汇总!$A6="","",汇总!$A6) -> 王芳
A6: =IF(汇总!$A7="","",汇总!$A7)
A7: =IF(汇总!$A8="","",汇总!$A8)
A8: =IF(汇总!$A9="","",汇总!$A9)
A9: =IF(汇总!$A10="","",汇总!$A10)
A10: =IF(汇总!$A11="","",汇总!$A11)
A11: =IF(汇总!$A12="","",汇总!$A12)
A12: =IF(汇总!$A13="","",汇总!$A13)
A13: =IF(汇总!$A14="","",汇总!$A14)
A14: =IF(汇总!$A15="","",汇总!$A15)
A15: =IF(汇总!$A16="","",汇总!$A16)
A16: =IF(汇总!$A17="","",汇总!$A17)
... A19: =IF(汇总!$A20="","",汇总!$A20)

Sheet 六月
A1: ="六月 "&汇总!$B$2 -> 六月 2027
A3: 员工 | B3: =IF(B4="","",B4) -> 46539 | C3: =IF(C4="","",C4) -> 46540 | D3: =IF(D4="","",D4) -> 46541 | E3: =IF(E4="","",E4) -> 46542 | F3: =IF(F4="","",F4) -> 46543 | G3: =IF(G4="","",G4) -> 46544 | H3: =IF(H4="","",H4) -> 46545 | I3: =IF(I4="","",I4) -> 46546 | ... AF3: =IF(AF4="","",AF4)
B4: =IF(MONTH(DATE(汇总!$B$2,6,1)+0)=6,DATE(汇总!$B$2,6,1)+0,"") -> 46539 | C4: =IF(MONTH(DATE(汇总!$B$2,6,1)+1)=6,DATE(汇总!$B$2,6,1)+1,"") -> 46540 | D4: =IF(MONTH(DATE(汇总!$B$2,6,1)+2)=6,DATE(汇总!$B$2,6,1)+2,"") -> 46541 | E4: =IF(MONTH(DATE(汇总!$B$2,6,1)+3)=6,DATE(汇总!$B$2,6,1)+3,"") -> 46542 | F4: =IF(MONTH(DATE(汇总!$B$2,6,1)+4)=6,DATE(汇总!$B$2,6,1)+4,"") -> 46543 | G4: =IF(MONTH(DATE(汇总!$B$2,6,1)+5)=6,DATE(汇总!$B$2,6,1)+5,"") -> 46544 | H4: =IF(MONTH(DATE(汇总!$B$2,6,1)+6)=6,DATE(汇总!$B$2,6,1)+6,"") -> 46545 | I4: =IF(MONTH(DATE(汇总!$B$2,6,1)+7)=6,DATE(汇总!$B$2,6,1)+7,"") -> 46546 | J4: =IF(MONTH(DATE(汇总!$B$2,6,1)+8)=6,DATE(汇总!$B$2,6,1)+8,"") -> 46547 | K4: =IF(MONTH(DATE(汇总!$B$2,6,1)+9)=6,DATE(汇总!$B$2,6,1)+9,"") -> 46548 | L4: =IF(MONTH(DATE(汇总!$B$2,6,1)+10)=6,DATE(汇总!$B$2,6,1)+10,"") -> 46549 | M4: =IF(MONTH(DATE(汇总!$B$2,6,1)+11)=6,DATE(汇总!$B$2,6,1)+11,"") -> 46550 | N4: =IF(MONTH(DATE(汇总!$B$2,6,1)+12)=6,DATE(汇总!$B$2,6,1)+12,"") -> 46551 | O4: =IF(MONTH(DATE(汇总!$B$2,6,1)+13)=6,DATE(汇总!$B$2,6,1)+13,"") -> 46552 | P4: =IF(MONTH(DATE(汇总!$B$2,6,1)+14)=6,DATE(汇总!$B$2,6,1)+14,"") -> 46553 | Q4: =IF(MONTH(DATE(汇总!$B$2,6,1)+15)=6,DATE(汇总!$B$2,6,1)+15,"") -> 46554 | R4: =IF(MONTH(DATE(汇总!$B$2,6,1)+16)=6,DATE(汇总!$B$2,6,1)+16,"") -> 46555 | S4: =IF(MONTH(DATE(汇总!$B$2,6,1)+17)=6,DATE(汇总!$B$2,6,1)+17,"") -> 46556 | T4: =IF(MONTH(DATE(汇总!$B$2,6,1)+18)=6,DATE(汇总!$B$2,6,1)+18,"") -> 46557 | U4: =IF(MONTH(DATE(汇总!$B$2,6,1)+19)=6,DATE(汇总!$B$2,6,1)+19,"") -> 46558 | V4: =IF(MONTH(DATE(汇总!$B$2,6,1)+20)=6,DATE(汇总!$B$2,6,1)+20,"") -> 46559 | W4: =IF(MONTH(DATE(汇总!$B$2,6,1)+21)=6,DATE(汇总!$B$2,6,1)+21,"") -> 46560 | X4: =IF(MONTH(DATE(汇总!$B$2,6,1)+22)=6,DATE(汇总!$B$2,6,1)+22,"") -> 46561 | Y4: =IF(MONTH(DATE(汇总!$B$2,6,1)+23)=6,DATE(汇总!$B$2,6,1)+23,"") -> 46562 | Z4: =IF(MONTH(DATE(汇总!$B$2,6,1)+24)=6,DATE(汇总!$B$2,6,1)+24,"") -> 46563 | AA4: =IF(MONTH(DATE(汇总!$B$2,6,1)+25)=6,DATE(汇总!$B$2,6,1)+25,"") -> 46564 | AB4: =IF(MONTH(DATE(汇总!$B$2,6,1)+26)=6,DATE(汇总!$B$2,6,1)+26,"") -> 46565 | AC4: =IF(MONTH(DATE(汇总!$B$2,6,1)+27)=6,DATE(汇总!$B$2,6,1)+27,"") -> 46566 | AD4: =IF(MONTH(DATE(汇总!$B$2,6,1)+28)=6,DATE(汇总!$B$2,6,1)+28,"") -> 46567 | AE4: =IF(MONTH(DATE(汇总!$B$2,6,1)+29)=6,DATE(汇总!$B$2,6,1)+29,"") -> 46568 | AF4: =IF(MONTH(DATE(汇总!$B$2,6,1)+30)=6,DATE(汇总!$B$2,6,1)+30,"")
A5: =IF(汇总!$A6="","",汇总!$A6) -> 王芳
A6: =IF(汇总!$A7="","",汇总!$A7)
A7: =IF(汇总!$A8="","",汇总!$A8)
A8: =IF(汇总!$A9="","",汇总!$A9)
A9: =IF(汇总!$A10="","",汇总!$A10)
A10: =IF(汇总!$A11="","",汇总!$A11)
A11: =IF(汇总!$A12="","",汇总!$A12)
A12: =IF(汇总!$A13="","",汇总!$A13)
A13: =IF(汇总!$A14="","",汇总!$A14)
A14: =IF(汇总!$A15="","",汇总!$A15)
A15: =IF(汇总!$A16="","",汇总!$A16)
A16: =IF(汇总!$A17="","",汇总!$A17)
... A19: =IF(汇总!$A20="","",汇总!$A20)

Sheet 七月
A1: ="七月 "&汇总!$B$2 -> 七月 2027
A3: 员工 | B3: =IF(B4="","",B4) -> 46569 | C3: =IF(C4="","",C4) -> 46570 | D3: =IF(D4="","",D4) -> 46571 | E3: =IF(E4="","",E4) -> 46572 | F3: =IF(F4="","",F4) -> 46573 | G3: =IF(G4="","",G4) -> 46574 | H3: =IF(H4="","",H4) -> 46575 | I3: =IF(I4="","",I4) -> 46576 | ... AF3: =IF(AF4="","",AF4) -> 46599
B4: =IF(MONTH(DATE(汇总!$B$2,7,1)+0)=7,DATE(汇总!$B$2,7,1)+0,"") -> 46569 | C4: =IF(MONTH(DATE(汇总!$B$2,7,1)+1)=7,DATE(汇总!$B$2,7,1)+1,"") -> 46570 | D4: =IF(MONTH(DATE(汇总!$B$2,7,1)+2)=7,DATE(汇总!$B$2,7,1)+2,"") -> 46571 | E4: =IF(MONTH(DATE(汇总!$B$2,7,1)+3)=7,DATE(汇总!$B$2,7,1)+3,"") -> 46572 | F4: =IF(MONTH(DATE(汇总!$B$2,7,1)+4)=7,DATE(汇总!$B$2,7,1)+4,"") -> 46573 | G4: =IF(MONTH(DATE(汇总!$B$2,7,1)+5)=7,DATE(汇总!$B$2,7,1)+5,"") -> 46574 | H4: =IF(MONTH(DATE(汇总!$B$2,7,1)+6)=7,DATE(汇总!$B$2,7,1)+6,"") -> 46575 | I4: =IF(MONTH(DATE(汇总!$B$2,7,1)+7)=7,DATE(汇总!$B$2,7,1)+7,"") -> 46576 | J4: =IF(MONTH(DATE(汇总!$B$2,7,1)+8)=7,DATE(汇总!$B$2,7,1)+8,"") -> 46577 | K4: =IF(MONTH(DATE(汇总!$B$2,7,1)+9)=7,DATE(汇总!$B$2,7,1)+9,"") -> 46578 | L4: =IF(MONTH(DATE(汇总!$B$2,7,1)+10)=7,DATE(汇总!$B$2,7,1)+10,"") -> 46579 | M4: =IF(MONTH(DATE(汇总!$B$2,7,1)+11)=7,DATE(汇总!$B$2,7,1)+11,"") -> 46580 | N4: =IF(MONTH(DATE(汇总!$B$2,7,1)+12)=7,DATE(汇总!$B$2,7,1)+12,"") -> 46581 | O4: =IF(MONTH(DATE(汇总!$B$2,7,1)+13)=7,DATE(汇总!$B$2,7,1)+13,"") -> 46582 | P4: =IF(MONTH(DATE(汇总!$B$2,7,1)+14)=7,DATE(汇总!$B$2,7,1)+14,"") -> 46583 | Q4: =IF(MONTH(DATE(汇总!$B$2,7,1)+15)=7,DATE(汇总!$B$2,7,1)+15,"") -> 46584 | R4: =IF(MONTH(DATE(汇总!$B$2,7,1)+16)=7,DATE(汇总!$B$2,7,1)+16,"") -> 46585 | S4: =IF(MONTH(DATE(汇总!$B$2,7,1)+17)=7,DATE(汇总!$B$2,7,1)+17,"") -> 46586 | T4: =IF(MONTH(DATE(汇总!$B$2,7,1)+18)=7,DATE(汇总!$B$2,7,1)+18,"") -> 46587 | U4: =IF(MONTH(DATE(汇总!$B$2,7,1)+19)=7,DATE(汇总!$B$2,7,1)+19,"") -> 46588 | V4: =IF(MONTH(DATE(汇总!$B$2,7,1)+20)=7,DATE(汇总!$B$2,7,1)+20,"") -> 46589 | W4: =IF(MONTH(DATE(汇总!$B$2,7,1)+21)=7,DATE(汇总!$B$2,7,1)+21,"") -> 46590 | X4: =IF(MONTH(DATE(汇总!$B$2,7,1)+22)=7,DATE(汇总!$B$2,7,1)+22,"") -> 46591 | Y4: =IF(MONTH(DATE(汇总!$B$2,7,1)+23)=7,DATE(汇总!$B$2,7,1)+23,"") -> 46592 | Z4: =IF(MONTH(DATE(汇总!$B$2,7,1)+24)=7,DATE(汇总!$B$2,7,1)+24,"") -> 46593 | AA4: =IF(MONTH(DATE(汇总!$B$2,7,1)+25)=7,DATE(汇总!$B$2,7,1)+25,"") -> 46594 | AB4: =IF(MONTH(DATE(汇总!$B$2,7,1)+26)=7,DATE(汇总!$B$2,7,1)+26,"") -> 46595 | AC4: =IF(MONTH(DATE(汇总!$B$2,7,1)+27)=7,DATE(汇总!$B$2,7,1)+27,"") -> 46596 | AD4: =IF(MONTH(DATE(汇总!$B$2,7,1)+28)=7,DATE(汇总!$B$2,7,1)+28,"") -> 46597 | AE4: =IF(MONTH(DATE(汇总!$B$2,7,1)+29)=7,DATE(汇总!$B$2,7,1)+29,"") -> 46598 | AF4: =IF(MONTH(DATE(汇总!$B$2,7,1)+30)=7,DATE(汇总!$B$2,7,1)+30,"") -> 46599
A5: =IF(汇总!$A6="","",汇总!$A6) -> 王芳
A6: =IF(汇总!$A7="","",汇总!$A7)
A7: =IF(汇总!$A8="","",汇总!$A8)
A8: =IF(汇总!$A9="","",汇总!$A9)
A9: =IF(汇总!$A10="","",汇总!$A10)
A10: =IF(汇总!$A11="","",汇总!$A11)
A11: =IF(汇总!$A12="","",汇总!$A12)
A12: =IF(汇总!$A13="","",汇总!$A13)
A13: =IF(汇总!$A14="","",汇总!$A14)
A14: =IF(汇总!$A15="","",汇总!$A15)
A15: =IF(汇总!$A16="","",汇总!$A16)
A16: =IF(汇总!$A17="","",汇总!$A17)
... A19: =IF(汇总!$A20="","",汇总!$A20)

Sheet 八月
A1: ="八月 "&汇总!$B$2 -> 八月 2027
A3: 员工 | B3: =IF(B4="","",B4) -> 46600 | C3: =IF(C4="","",C4) -> 46601 | D3: =IF(D4="","",D4) -> 46602 | E3: =IF(E4="","",E4) -> 46603 | F3: =IF(F4="","",F4) -> 46604 | G3: =IF(G4="","",G4) -> 46605 | H3: =IF(H4="","",H4) -> 46606 | I3: =IF(I4="","",I4) -> 46607 | ... AF3: =IF(AF4="","",AF4) -> 46630
B4: =IF(MONTH(DATE(汇总!$B$2,8,1)+0)=8,DATE(汇总!$B$2,8,1)+0,"") -> 46600 | C4: =IF(MONTH(DATE(汇总!$B$2,8,1)+1)=8,DATE(汇总!$B$2,8,1)+1,"") -> 46601 | D4: =IF(MONTH(DATE(汇总!$B$2,8,1)+2)=8,DATE(汇总!$B$2,8,1)+2,"") -> 46602 | E4: =IF(MONTH(DATE(汇总!$B$2,8,1)+3)=8,DATE(汇总!$B$2,8,1)+3,"") -> 46603 | F4: =IF(MONTH(DATE(汇总!$B$2,8,1)+4)=8,DATE(汇总!$B$2,8,1)+4,"") -> 46604 | G4: =IF(MONTH(DATE(汇总!$B$2,8,1)+5)=8,DATE(汇总!$B$2,8,1)+5,"") -> 46605 | H4: =IF(MONTH(DATE(汇总!$B$2,8,1)+6)=8,DATE(汇总!$B$2,8,1)+6,"") -> 46606 | I4: =IF(MONTH(DATE(汇总!$B$2,8,1)+7)=8,DATE(汇总!$B$2,8,1)+7,"") -> 46607 | J4: =IF(MONTH(DATE(汇总!$B$2,8,1)+8)=8,DATE(汇总!$B$2,8,1)+8,"") -> 46608 | K4: =IF(MONTH(DATE(汇总!$B$2,8,1)+9)=8,DATE(汇总!$B$2,8,1)+9,"") -> 46609 | L4: =IF(MONTH(DATE(汇总!$B$2,8,1)+10)=8,DATE(汇总!$B$2,8,1)+10,"") -> 46610 | M4: =IF(MONTH(DATE(汇总!$B$2,8,1)+11)=8,DATE(汇总!$B$2,8,1)+11,"") -> 46611 | N4: =IF(MONTH(DATE(汇总!$B$2,8,1)+12)=8,DATE(汇总!$B$2,8,1)+12,"") -> 46612 | O4: =IF(MONTH(DATE(汇总!$B$2,8,1)+13)=8,DATE(汇总!$B$2,8,1)+13,"") -> 46613 | P4: =IF(MONTH(DATE(汇总!$B$2,8,1)+14)=8,DATE(汇总!$B$2,8,1)+14,"") -> 46614 | Q4: =IF(MONTH(DATE(汇总!$B$2,8,1)+15)=8,DATE(汇总!$B$2,8,1)+15,"") -> 46615 | R4: =IF(MONTH(DATE(汇总!$B$2,8,1)+16)=8,DATE(汇总!$B$2,8,1)+16,"") -> 46616 | S4: =IF(MONTH(DATE(汇总!$B$2,8,1)+17)=8,DATE(汇总!$B$2,8,1)+17,"") -> 46617 | T4: =IF(MONTH(DATE(汇总!$B$2,8,1)+18)=8,DATE(汇总!$B$2,8,1)+18,"") -> 46618 | U4: =IF(MONTH(DATE(汇总!$B$2,8,1)+19)=8,DATE(汇总!$B$2,8,1)+19,"") -> 46619 | V4: =IF(MONTH(DATE(汇总!$B$2,8,1)+20)=8,DATE(汇总!$B$2,8,1)+20,"") -> 46620 | W4: =IF(MONTH(DATE(汇总!$B$2,8,1)+21)=8,DATE(汇总!$B$2,8,1)+21,"") -> 46621 | X4: =IF(MONTH(DATE(汇总!$B$2,8,1)+22)=8,DATE(汇总!$B$2,8,1)+22,"") -> 46622 | Y4: =IF(MONTH(DATE(汇总!$B$2,8,1)+23)=8,DATE(汇总!$B$2,8,1)+23,"") -> 46623 | Z4: =IF(MONTH(DATE(汇总!$B$2,8,1)+24)=8,DATE(汇总!$B$2,8,1)+24,"") -> 46624 | AA4: =IF(MONTH(DATE(汇总!$B$2,8,1)+25)=8,DATE(汇总!$B$2,8,1)+25,"") -> 46625 | AB4: =IF(MONTH(DATE(汇总!$B$2,8,1)+26)=8,DATE(汇总!$B$2,8,1)+26,"") -> 46626 | AC4: =IF(MONTH(DATE(汇总!$B$2,8,1)+27)=8,DATE(汇总!$B$2,8,1)+27,"") -> 46627 | AD4: =IF(MONTH(DATE(汇总!$B$2,8,1)+28)=8,DATE(汇总!$B$2,8,1)+28,"") -> 46628 | AE4: =IF(MONTH(DATE(汇总!$B$2,8,1)+29)=8,DATE(汇总!$B$2,8,1)+29,"") -> 46629 | AF4: =IF(MONTH(DATE(汇总!$B$2,8,1)+30)=8,DATE(汇总!$B$2,8,1)+30,"") -> 46630
A5: =IF(汇总!$A6="","",汇总!$A6) -> 王芳
A6: =IF(汇总!$A7="","",汇总!$A7)
A7: =IF(汇总!$A8="","",汇总!$A8)
A8: =IF(汇总!$A9="","",汇总!$A9)
A9: =IF(汇总!$A10="","",汇总!$A10)
A10: =IF(汇总!$A11="","",汇总!$A11)
A11: =IF(汇总!$A12="","",汇总!$A12)
A12: =IF(汇总!$A13="","",汇总!$A13)
A13: =IF(汇总!$A14="","",汇总!$A14)
A14: =IF(汇总!$A15="","",汇总!$A15)
A15: =IF(汇总!$A16="","",汇总!$A16)
A16: =IF(汇总!$A17="","",汇总!$A17)
... A19: =IF(汇总!$A20="","",汇总!$A20)

Sheet 九月
A1: ="九月 "&汇总!$B$2 -> 九月 2027
A3: 员工 | B3: =IF(B4="","",B4) -> 46631 | C3: =IF(C4="","",C4) -> 46632 | D3: =IF(D4="","",D4) -> 46633 | E3: =IF(E4="","",E4) -> 46634 | F3: =IF(F4="","",F4) -> 46635 | G3: =IF(G4="","",G4) -> 46636 | H3: =IF(H4="","",H4) -> 46637 | I3: =IF(I4="","",I4) -> 46638 | ... AF3: =IF(AF4="","",AF4)
B4: =IF(MONTH(DATE(汇总!$B$2,9,1)+0)=9,DATE(汇总!$B$2,9,1)+0,"") -> 46631 | C4: =IF(MONTH(DATE(汇总!$B$2,9,1)+1)=9,DATE(汇总!$B$2,9,1)+1,"") -> 46632 | D4: =IF(MONTH(DATE(汇总!$B$2,9,1)+2)=9,DATE(汇总!$B$2,9,1)+2,"") -> 46633 | E4: =IF(MONTH(DATE(汇总!$B$2,9,1)+3)=9,DATE(汇总!$B$2,9,1)+3,"") -> 46634 | F4: =IF(MONTH(DATE(汇总!$B$2,9,1)+4)=9,DATE(汇总!$B$2,9,1)+4,"") -> 46635 | G4: =IF(MONTH(DATE(汇总!$B$2,9,1)+5)=9,DATE(汇总!$B$2,9,1)+5,"") -> 46636 | H4: =IF(MONTH(DATE(汇总!$B$2,9,1)+6)=9,DATE(汇总!$B$2,9,1)+6,"") -> 46637 | I4: =IF(MONTH(DATE(汇总!$B$2,9,1)+7)=9,DATE(汇总!$B$2,9,1)+7,"") -> 46638 | J4: =IF(MONTH(DATE(汇总!$B$2,9,1)+8)=9,DATE(汇总!$B$2,9,1)+8,"") -> 46639 | K4: =IF(MONTH(DATE(汇总!$B$2,9,1)+9)=9,DATE(汇总!$B$2,9,1)+9,"") -> 46640 | L4: =IF(MONTH(DATE(汇总!$B$2,9,1)+10)=9,DATE(汇总!$B$2,9,1)+10,"") -> 46641 | M4: =IF(MONTH(DATE(汇总!$B$2,9,1)+11)=9,DATE(汇总!$B$2,9,1)+11,"") -> 46642 | N4: =IF(MONTH(DATE(汇总!$B$2,9,1)+12)=9,DATE(汇总!$B$2,9,1)+12,"") -> 46643 | O4: =IF(MONTH(DATE(汇总!$B$2,9,1)+13)=9,DATE(汇总!$B$2,9,1)+13,"") -> 46644 | P4: =IF(MONTH(DATE(汇总!$B$2,9,1)+14)=9,DATE(汇总!$B$2,9,1)+14,"") -> 46645 | Q4: =IF(MONTH(DATE(汇总!$B$2,9,1)+15)=9,DATE(汇总!$B$2,9,1)+15,"") -> 46646 | R4: =IF(MONTH(DATE(汇总!$B$2,9,1)+16)=9,DATE(汇总!$B$2,9,1)+16,"") -> 46647 | S4: =IF(MONTH(DATE(汇总!$B$2,9,1)+17)=9,DATE(汇总!$B$2,9,1)+17,"") -> 46648 | T4: =IF(MONTH(DATE(汇总!$B$2,9,1)+18)=9,DATE(汇总!$B$2,9,1)+18,"") -> 46649 | U4: =IF(MONTH(DATE(汇总!$B$2,9,1)+19)=9,DATE(汇总!$B$2,9,1)+19,"") -> 46650 | V4: =IF(MONTH(DATE(汇总!$B$2,9,1)+20)=9,DATE(汇总!$B$2,9,1)+20,"") -> 46651 | W4: =IF(MONTH(DATE(汇总!$B$2,9,1)+21)=9,DATE(汇总!$B$2,9,1)+21,"") -> 46652 | X4: =IF(MONTH(DATE(汇总!$B$2,9,1)+22)=9,DATE(汇总!$B$2,9,1)+22,"") -> 46653 | Y4: =IF(MONTH(DATE(汇总!$B$2,9,1)+23)=9,DATE(汇总!$B$2,9,1)+23,"") -> 46654 | Z4: =IF(MONTH(DATE(汇总!$B$2,9,1)+24)=9,DATE(汇总!$B$2,9,1)+24,"") -> 46655 | AA4: =IF(MONTH(DATE(汇总!$B$2,9,1)+25)=9,DATE(汇总!$B$2,9,1)+25,"") -> 46656 | AB4: =IF(MONTH(DATE(汇总!$B$2,9,1)+26)=9,DATE(汇总!$B$2,9,1)+26,"") -> 46657 | AC4: =IF(MONTH(DATE(汇总!$B$2,9,1)+27)=9,DATE(汇总!$B$2,9,1)+27,"") -> 46658 | AD4: =IF(MONTH(DATE(汇总!$B$2,9,1)+28)=9,DATE(汇总!$B$2,9,1)+28,"") -> 46659 | AE4: =IF(MONTH(DATE(汇总!$B$2,9,1)+29)=9,DATE(汇总!$B$2,9,1)+29,"") -> 46660 | AF4: =IF(MONTH(DATE(汇总!$B$2,9,1)+30)=9,DATE(汇总!$B$2,9,1)+30,"")
A5: =IF(汇总!$A6="","",汇总!$A6) -> 王芳
A6: =IF(汇总!$A7="","",汇总!$A7)
A7: =IF(汇总!$A8="","",汇总!$A8)
A8: =IF(汇总!$A9="","",汇总!$A9)
A9: =IF(汇总!$A10="","",汇总!$A10)
A10: =IF(汇总!$A11="","",汇总!$A11)
A11: =IF(汇总!$A12="","",汇总!$A12)
A12: =IF(汇总!$A13="","",汇总!$A13)
A13: =IF(汇总!$A14="","",汇总!$A14)
A14: =IF(汇总!$A15="","",汇总!$A15)
A15: =IF(汇总!$A16="","",汇总!$A16)
A16: =IF(汇总!$A17="","",汇总!$A17)
... A19: =IF(汇总!$A20="","",汇总!$A20)

Sheet 十月
A1: ="十月 "&汇总!$B$2 -> 十月 2027
A3: 员工 | B3: =IF(B4="","",B4) -> 46661 | C3: =IF(C4="","",C4) -> 46662 | D3: =IF(D4="","",D4) -> 46663 | E3: =IF(E4="","",E4) -> 46664 | F3: =IF(F4="","",F4) -> 46665 | G3: =IF(G4="","",G4) -> 46666 | H3: =IF(H4="","",H4) -> 46667 | I3: =IF(I4="","",I4) -> 46668 | ... AF3: =IF(AF4="","",AF4) -> 46691
B4: =IF(MONTH(DATE(汇总!$B$2,10,1)+0)=10,DATE(汇总!$B$2,10,1)+0,"") -> 46661 | C4: =IF(MONTH(DATE(汇总!$B$2,10,1)+1)=10,DATE(汇总!$B$2,10,1)+1,"") -> 46662 | D4: =IF(MONTH(DATE(汇总!$B$2,10,1)+2)=10,DATE(汇总!$B$2,10,1)+2,"") -> 46663 | E4: =IF(MONTH(DATE(汇总!$B$2,10,1)+3)=10,DATE(汇总!$B$2,10,1)+3,"") -> 46664 | F4: =IF(MONTH(DATE(汇总!$B$2,10,1)+4)=10,DATE(汇总!$B$2,10,1)+4,"") -> 46665 | G4: =IF(MONTH(DATE(汇总!$B$2,10,1)+5)=10,DATE(汇总!$B$2,10,1)+5,"") -> 46666 | H4: =IF(MONTH(DATE(汇总!$B$2,10,1)+6)=10,DATE(汇总!$B$2,10,1)+6,"") -> 46667 | I4: =IF(MONTH(DATE(汇总!$B$2,10,1)+7)=10,DATE(汇总!$B$2,10,1)+7,"") -> 46668 | J4: =IF(MONTH(DATE(汇总!$B$2,10,1)+8)=10,DATE(汇总!$B$2,10,1)+8,"") -> 46669 | K4: =IF(MONTH(DATE(汇总!$B$2,10,1)+9)=10,DATE(汇总!$B$2,10,1)+9,"") -> 46670 | L4: =IF(MONTH(DATE(汇总!$B$2,10,1)+10)=10,DATE(汇总!$B$2,10,1)+10,"") -> 46671 | M4: =IF(MONTH(DATE(汇总!$B$2,10,1)+11)=10,DATE(汇总!$B$2,10,1)+11,"") -> 46672 | N4: =IF(MONTH(DATE(汇总!$B$2,10,1)+12)=10,DATE(汇总!$B$2,10,1)+12,"") -> 46673 | O4: =IF(MONTH(DATE(汇总!$B$2,10,1)+13)=10,DATE(汇总!$B$2,10,1)+13,"") -> 46674 | P4: =IF(MONTH(DATE(汇总!$B$2,10,1)+14)=10,DATE(汇总!$B$2,10,1)+14,"") -> 46675 | Q4: =IF(MONTH(DATE(汇总!$B$2,10,1)+15)=10,DATE(汇总!$B$2,10,1)+15,"") -> 46676 | R4: =IF(MONTH(DATE(汇总!$B$2,10,1)+16)=10,DATE(汇总!$B$2,10,1)+16,"") -> 46677 | S4: =IF(MONTH(DATE(汇总!$B$2,10,1)+17)=10,DATE(汇总!$B$2,10,1)+17,"") -> 46678 | T4: =IF(MONTH(DATE(汇总!$B$2,10,1)+18)=10,DATE(汇总!$B$2,10,1)+18,"") -> 46679 | U4: =IF(MONTH(DATE(汇总!$B$2,10,1)+19)=10,DATE(汇总!$B$2,10,1)+19,"") -> 46680 | V4: =IF(MONTH(DATE(汇总!$B$2,10,1)+20)=10,DATE(汇总!$B$2,10,1)+20,"") -> 46681 | W4: =IF(MONTH(DATE(汇总!$B$2,10,1)+21)=10,DATE(汇总!$B$2,10,1)+21,"") -> 46682 | X4: =IF(MONTH(DATE(汇总!$B$2,10,1)+22)=10,DATE(汇总!$B$2,10,1)+22,"") -> 46683 | Y4: =IF(MONTH(DATE(汇总!$B$2,10,1)+23)=10,DATE(汇总!$B$2,10,1)+23,"") -> 46684 | Z4: =IF(MONTH(DATE(汇总!$B$2,10,1)+24)=10,DATE(汇总!$B$2,10,1)+24,"") -> 46685 | AA4: =IF(MONTH(DATE(汇总!$B$2,10,1)+25)=10,DATE(汇总!$B$2,10,1)+25,"") -> 46686 | AB4: =IF(MONTH(DATE(汇总!$B$2,10,1)+26)=10,DATE(汇总!$B$2,10,1)+26,"") -> 46687 | AC4: =IF(MONTH(DATE(汇总!$B$2,10,1)+27)=10,DATE(汇总!$B$2,10,1)+27,"") -> 46688 | AD4: =IF(MONTH(DATE(汇总!$B$2,10,1)+28)=10,DATE(汇总!$B$2,10,1)+28,"") -> 46689 | AE4: =IF(MONTH(DATE(汇总!$B$2,10,1)+29)=10,DATE(汇总!$B$2,10,1)+29,"") -> 46690 | AF4: =IF(MONTH(DATE(汇总!$B$2,10,1)+30)=10,DATE(汇总!$B$2,10,1)+30,"") -> 46691
A5: =IF(汇总!$A6="","",汇总!$A6) -> 王芳
A6: =IF(汇总!$A7="","",汇总!$A7)
A7: =IF(汇总!$A8="","",汇总!$A8)
A8: =IF(汇总!$A9="","",汇总!$A9)
A9: =IF(汇总!$A10="","",汇总!$A10)
A10: =IF(汇总!$A11="","",汇总!$A11)
A11: =IF(汇总!$A12="","",汇总!$A12)
A12: =IF(汇总!$A13="","",汇总!$A13)
A13: =IF(汇总!$A14="","",汇总!$A14)
A14: =IF(汇总!$A15="","",汇总!$A15)
A15: =IF(汇总!$A16="","",汇总!$A16)
A16: =IF(汇总!$A17="","",汇总!$A17)
... A19: =IF(汇总!$A20="","",汇总!$A20)

Sheet 十一月
A1: ="十一月 "&汇总!$B$2 -> 十一月 2027
A3: 员工 | B3: =IF(B4="","",B4) -> 46692 | C3: =IF(C4="","",C4) -> 46693 | D3: =IF(D4="","",D4) -> 46694 | E3: =IF(E4="","",E4) -> 46695 | F3: =IF(F4="","",F4) -> 46696 | G3: =IF(G4="","",G4) -> 46697 | H3: =IF(H4="","",H4) -> 46698 | I3: =IF(I4="","",I4) -> 46699 | ... AF3: =IF(AF4="","",AF4)
B4: =IF(MONTH(DATE(汇总!$B$2,11,1)+0)=11,DATE(汇总!$B$2,11,1)+0,"") -> 46692 | C4: =IF(MONTH(DATE(汇总!$B$2,11,1)+1)=11,DATE(汇总!$B$2,11,1)+1,"") -> 46693 | D4: =IF(MONTH(DATE(汇总!$B$2,11,1)+2)=11,DATE(汇总!$B$2,11,1)+2,"") -> 46694 | E4: =IF(MONTH(DATE(汇总!$B$2,11,1)+3)=11,DATE(汇总!$B$2,11,1)+3,"") -> 46695 | F4: =IF(MONTH(DATE(汇总!$B$2,11,1)+4)=11,DATE(汇总!$B$2,11,1)+4,"") -> 46696 | G4: =IF(MONTH(DATE(汇总!$B$2,11,1)+5)=11,DATE(汇总!$B$2,11,1)+5,"") -> 46697 | H4: =IF(MONTH(DATE(汇总!$B$2,11,1)+6)=11,DATE(汇总!$B$2,11,1)+6,"") -> 46698 | I4: =IF(MONTH(DATE(汇总!$B$2,11,1)+7)=11,DATE(汇总!$B$2,11,1)+7,"") -> 46699 | J4: =IF(MONTH(DATE(汇总!$B$2,11,1)+8)=11,DATE(汇总!$B$2,11,1)+8,"") -> 46700 | K4: =IF(MONTH(DATE(汇总!$B$2,11,1)+9)=11,DATE(汇总!$B$2,11,1)+9,"") -> 46701 | L4: =IF(MONTH(DATE(汇总!$B$2,11,1)+10)=11,DATE(汇总!$B$2,11,1)+10,"") -> 46702 | M4: =IF(MONTH(DATE(汇总!$B$2,11,1)+11)=11,DATE(汇总!$B$2,11,1)+11,"") -> 46703 | N4: =IF(MONTH(DATE(汇总!$B$2,11,1)+12)=11,DATE(汇总!$B$2,11,1)+12,"") -> 46704 | O4: =IF(MONTH(DATE(汇总!$B$2,11,1)+13)=11,DATE(汇总!$B$2,11,1)+13,"") -> 46705 | P4: =IF(MONTH(DATE(汇总!$B$2,11,1)+14)=11,DATE(汇总!$B$2,11,1)+14,"") -> 46706 | Q4: =IF(MONTH(DATE(汇总!$B$2,11,1)+15)=11,DATE(汇总!$B$2,11,1)+15,"") -> 46707 | R4: =IF(MONTH(DATE(汇总!$B$2,11,1)+16)=11,DATE(汇总!$B$2,11,1)+16,"") -> 46708 | S4: =IF(MONTH(DATE(汇总!$B$2,11,1)+17)=11,DATE(汇总!$B$2,11,1)+17,"") -> 46709 | T4: =IF(MONTH(DATE(汇总!$B$2,11,1)+18)=11,DATE(汇总!$B$2,11,1)+18,"") -> 46710 | U4: =IF(MONTH(DATE(汇总!$B$2,11,1)+19)=11,DATE(汇总!$B$2,11,1)+19,"") -> 46711 | V4: =IF(MONTH(DATE(汇总!$B$2,11,1)+20)=11,DATE(汇总!$B$2,11,1)+20,"") -> 46712 | W4: =IF(MONTH(DATE(汇总!$B$2,11,1)+21)=11,DATE(汇总!$B$2,11,1)+21,"") -> 46713 | X4: =IF(MONTH(DATE(汇总!$B$2,11,1)+22)=11,DATE(汇总!$B$2,11,1)+22,"") -> 46714 | Y4: =IF(MONTH(DATE(汇总!$B$2,11,1)+23)=11,DATE(汇总!$B$2,11,1)+23,"") -> 46715 | Z4: =IF(MONTH(DATE(汇总!$B$2,11,1)+24)=11,DATE(汇总!$B$2,11,1)+24,"") -> 46716 | AA4: =IF(MONTH(DATE(汇总!$B$2,11,1)+25)=11,DATE(汇总!$B$2,11,1)+25,"") -> 46717 | AB4: =IF(MONTH(DATE(汇总!$B$2,11,1)+26)=11,DATE(汇总!$B$2,11,1)+26,"") -> 46718 | AC4: =IF(MONTH(DATE(汇总!$B$2,11,1)+27)=11,DATE(汇总!$B$2,11,1)+27,"") -> 46719 | AD4: =IF(MONTH(DATE(汇总!$B$2,11,1)+28)=11,DATE(汇总!$B$2,11,1)+28,"") -> 46720 | AE4: =IF(MONTH(DATE(汇总!$B$2,11,1)+29)=11,DATE(汇总!$B$2,11,1)+29,"") -> 46721 | AF4: =IF(MONTH(DATE(汇总!$B$2,11,1)+30)=11,DATE(汇总!$B$2,11,1)+30,"")
A5: =IF(汇总!$A6="","",汇总!$A6) -> 王芳
A6: =IF(汇总!$A7="","",汇总!$A7)
A7: =IF(汇总!$A8="","",汇总!$A8)
A8: =IF(汇总!$A9="","",汇总!$A9)
A9: =IF(汇总!$A10="","",汇总!$A10)
A10: =IF(汇总!$A11="","",汇总!$A11)
A11: =IF(汇总!$A12="","",汇总!$A12)
A12: =IF(汇总!$A13="","",汇总!$A13)
A13: =IF(汇总!$A14="","",汇总!$A14)
A14: =IF(汇总!$A15="","",汇总!$A15)
A15: =IF(汇总!$A16="","",汇总!$A16)
A16: =IF(汇总!$A17="","",汇总!$A17)
... A19: =IF(汇总!$A20="","",汇总!$A20)

Sheet 十二月
A1: ="十二月 "&汇总!$B$2 -> 十二月 2027
A3: 员工 | B3: =IF(B4="","",B4) -> 46722 | C3: =IF(C4="","",C4) -> 46723 | D3: =IF(D4="","",D4) -> 46724 | E3: =IF(E4="","",E4) -> 46725 | F3: =IF(F4="","",F4) -> 46726 | G3: =IF(G4="","",G4) -> 46727 | H3: =IF(H4="","",H4) -> 46728 | I3: =IF(I4="","",I4) -> 46729 | ... AF3: =IF(AF4="","",AF4) -> 46752
B4: =IF(MONTH(DATE(汇总!$B$2,12,1)+0)=12,DATE(汇总!$B$2,12,1)+0,"") -> 46722 | C4: =IF(MONTH(DATE(汇总!$B$2,12,1)+1)=12,DATE(汇总!$B$2,12,1)+1,"") -> 46723 | D4: =IF(MONTH(DATE(汇总!$B$2,12,1)+2)=12,DATE(汇总!$B$2,12,1)+2,"") -> 46724 | E4: =IF(MONTH(DATE(汇总!$B$2,12,1)+3)=12,DATE(汇总!$B$2,12,1)+3,"") -> 46725 | F4: =IF(MONTH(DATE(汇总!$B$2,12,1)+4)=12,DATE(汇总!$B$2,12,1)+4,"") -> 46726 | G4: =IF(MONTH(DATE(汇总!$B$2,12,1)+5)=12,DATE(汇总!$B$2,12,1)+5,"") -> 46727 | H4: =IF(MONTH(DATE(汇总!$B$2,12,1)+6)=12,DATE(汇总!$B$2,12,1)+6,"") -> 46728 | I4: =IF(MONTH(DATE(汇总!$B$2,12,1)+7)=12,DATE(汇总!$B$2,12,1)+7,"") -> 46729 | J4: =IF(MONTH(DATE(汇总!$B$2,12,1)+8)=12,DATE(汇总!$B$2,12,1)+8,"") -> 46730 | K4: =IF(MONTH(DATE(汇总!$B$2,12,1)+9)=12,DATE(汇总!$B$2,12,1)+9,"") -> 46731 | L4: =IF(MONTH(DATE(汇总!$B$2,12,1)+10)=12,DATE(汇总!$B$2,12,1)+10,"") -> 46732 | M4: =IF(MONTH(DATE(汇总!$B$2,12,1)+11)=12,DATE(汇总!$B$2,12,1)+11,"") -> 46733 | N4: =IF(MONTH(DATE(汇总!$B$2,12,1)+12)=12,DATE(汇总!$B$2,12,1)+12,"") -> 46734 | O4: =IF(MONTH(DATE(汇总!$B$2,12,1)+13)=12,DATE(汇总!$B$2,12,1)+13,"") -> 46735 | P4: =IF(MONTH(DATE(汇总!$B$2,12,1)+14)=12,DATE(汇总!$B$2,12,1)+14,"") -> 46736 | Q4: =IF(MONTH(DATE(汇总!$B$2,12,1)+15)=12,DATE(汇总!$B$2,12,1)+15,"") -> 46737 | R4: =IF(MONTH(DATE(汇总!$B$2,12,1)+16)=12,DATE(汇总!$B$2,12,1)+16,"") -> 46738 | S4: =IF(MONTH(DATE(汇总!$B$2,12,1)+17)=12,DATE(汇总!$B$2,12,1)+17,"") -> 46739 | T4: =IF(MONTH(DATE(汇总!$B$2,12,1)+18)=12,DATE(汇总!$B$2,12,1)+18,"") -> 46740 | U4: =IF(MONTH(DATE(汇总!$B$2,12,1)+19)=12,DATE(汇总!$B$2,12,1)+19,"") -> 46741 | V4: =IF(MONTH(DATE(汇总!$B$2,12,1)+20)=12,DATE(汇总!$B$2,12,1)+20,"") -> 46742 | W4: =IF(MONTH(DATE(汇总!$B$2,12,1)+21)=12,DATE(汇总!$B$2,12,1)+21,"") -> 46743 | X4: =IF(MONTH(DATE(汇总!$B$2,12,1)+22)=12,DATE(汇总!$B$2,12,1)+22,"") -> 46744 | Y4: =IF(MONTH(DATE(汇总!$B$2,12,1)+23)=12,DATE(汇总!$B$2,12,1)+23,"") -> 46745 | Z4: =IF(MONTH(DATE(汇总!$B$2,12,1)+24)=12,DATE(汇总!$B$2,12,1)+24,"") -> 46746 | AA4: =IF(MONTH(DATE(汇总!$B$2,12,1)+25)=12,DATE(汇总!$B$2,12,1)+25,"") -> 46747 | AB4: =IF(MONTH(DATE(汇总!$B$2,12,1)+26)=12,DATE(汇总!$B$2,12,1)+26,"") -> 46748 | AC4: =IF(MONTH(DATE(汇总!$B$2,12,1)+27)=12,DATE(汇总!$B$2,12,1)+27,"") -> 46749 | AD4: =IF(MONTH(DATE(汇总!$B$2,12,1)+28)=12,DATE(汇总!$B$2,12,1)+28,"") -> 46750 | AE4: =IF(MONTH(DATE(汇总!$B$2,12,1)+29)=12,DATE(汇总!$B$2,12,1)+29,"") -> 46751 | AF4: =IF(MONTH(DATE(汇总!$B$2,12,1)+30)=12,DATE(汇总!$B$2,12,1)+30,"") -> 46752
A5: =IF(汇总!$A6="","",汇总!$A6) -> 王芳
A6: =IF(汇总!$A7="","",汇总!$A7)
A7: =IF(汇总!$A8="","",汇总!$A8)
A8: =IF(汇总!$A9="","",汇总!$A9)
A9: =IF(汇总!$A10="","",汇总!$A10)
A10: =IF(汇总!$A11="","",汇总!$A11)
A11: =IF(汇总!$A12="","",汇总!$A12)
A12: =IF(汇总!$A13="","",汇总!$A13)
A13: =IF(汇总!$A14="","",汇总!$A14)
A14: =IF(汇总!$A15="","",汇总!$A15)
A15: =IF(汇总!$A16="","",汇总!$A16)
A16: =IF(汇总!$A17="","",汇总!$A17)
... A19: =IF(汇总!$A20="","",汇总!$A20)
